BEGIN:VCALENDAR
VERSION:2.0
PRODID:-//Antler River Watershed Regional Council - ECPv6.15.20//NONSGML v1.0//EN
CALSCALE:GREGORIAN
METHOD:PUBLISH
X-WR-CALNAME:Antler River Watershed Regional Council
X-ORIGINAL-URL:https://arwrcucc.ca
X-WR-CALDESC:Events for Antler River Watershed Regional Council
REFRESH-INTERVAL;VALUE=DURATION:PT1H
X-Robots-Tag:noindex
X-PUBLISHED-TTL:PT1H
BEGIN:VTIMEZONE
TZID:America/Toronto
BEGIN:DAYLIGHT
TZOFFSETFROM:-0500
TZOFFSETTO:-0400
TZNAME:EDT
DTSTART:20230312T070000
END:DAYLIGHT
BEGIN:STANDARD
TZOFFSETFROM:-0400
TZOFFSETTO:-0500
TZNAME:EST
DTSTART:20231105T060000
END:STANDARD
BEGIN:DAYLIGHT
TZOFFSETFROM:-0500
TZOFFSETTO:-0400
TZNAME:EDT
DTSTART:20240310T070000
END:DAYLIGHT
BEGIN:STANDARD
TZOFFSETFROM:-0400
TZOFFSETTO:-0500
TZNAME:EST
DTSTART:20241103T060000
END:STANDARD
BEGIN:DAYLIGHT
TZOFFSETFROM:-0500
TZOFFSETTO:-0400
TZNAME:EDT
DTSTART:20250309T070000
END:DAYLIGHT
BEGIN:STANDARD
TZOFFSETFROM:-0400
TZOFFSETTO:-0500
TZNAME:EST
DTSTART:20251102T060000
END:STANDARD
END:VTIMEZONE
BEGIN:VEVENT
DTSTART;TZID=America/Toronto:20240906T130000
DTEND;TZID=America/Toronto:20240906T150000
DTSTAMP:20260420T073828
CREATED:20240802T170445Z
LAST-MODIFIED:20240802T170445Z
UID:22627-1725627600-1725634800@arwrcucc.ca
SUMMARY:Sue's Retirement Party
DESCRIPTION:All invited to celebrate the retirement of ARW\, HF\, WOW Regional Councils Executive Assistant\, Susan Duliban on Friday September 6th from 1 to 3pm at the Regional Council Office 1552 Hwy 6\, Waterdown\, ON L8N 2Z7 or via Zoom at this link: https://united-church.zoom.us/j/81252105843
URL:https://arwrcucc.ca/event/sues-retirement-party/
LOCATION:Regional Councils Office\, Hamilton
CATEGORIES:Community,Event,Staff
ATTACH;FMTTYPE=image/png:https://arwrcucc.ca/wp-content/uploads/2024/08/Sues-Retirement-BLEU.png
END:VEVENT
END:VCALENDAR