BEGIN:VCALENDAR
VERSION:2.0
PRODID:-//Antler River Watershed Regional Council - ECPv6.15.20//NONSGML v1.0//EN
CALSCALE:GREGORIAN
METHOD:PUBLISH
X-ORIGINAL-URL:https://arwrcucc.ca
X-WR-CALDESC:Events for Antler River Watershed Regional Council
REFRESH-INTERVAL;VALUE=DURATION:PT1H
X-Robots-Tag:noindex
X-PUBLISHED-TTL:PT1H
BEGIN:VTIMEZONE
TZID:America/New_York
BEGIN:DAYLIGHT
TZOFFSETFROM:-0500
TZOFFSETTO:-0400
TZNAME:EDT
DTSTART:20230312T070000
END:DAYLIGHT
BEGIN:STANDARD
TZOFFSETFROM:-0400
TZOFFSETTO:-0500
TZNAME:EST
DTSTART:20231105T060000
END:STANDARD
BEGIN:DAYLIGHT
TZOFFSETFROM:-0500
TZOFFSETTO:-0400
TZNAME:EDT
DTSTART:20240310T070000
END:DAYLIGHT
BEGIN:STANDARD
TZOFFSETFROM:-0400
TZOFFSETTO:-0500
TZNAME:EST
DTSTART:20241103T060000
END:STANDARD
BEGIN:DAYLIGHT
TZOFFSETFROM:-0500
TZOFFSETTO:-0400
TZNAME:EDT
DTSTART:20250309T070000
END:DAYLIGHT
BEGIN:STANDARD
TZOFFSETFROM:-0400
TZOFFSETTO:-0500
TZNAME:EST
DTSTART:20251102T060000
END:STANDARD
END:VTIMEZONE
BEGIN:VEVENT
DTSTART;TZID=America/New_York:20240117T190000
DTEND;TZID=America/New_York:20240117T190000
DTSTAMP:20260421T055747
CREATED:20231107T161338Z
LAST-MODIFIED:20240108T163100Z
UID:11165-1705518000-1705518000@arwrcucc.ca
SUMMARY:Remit Q&A Session (Online)
DESCRIPTION:Prepare to Vote:\nRemit Q&A Session (Online)\nwith Thérèse Samuel and John Egger \nWednesday January 17\, 2024 7:00-8:30 PM \nFor Pastoral Charges \nADVANCE REGISTRATION REQUIRED: Click to Register Now: \nNote: Registration is through CHURCHx. If you do not yet have a CHURCHx account\, you will be prompted to open one. Your account can be used for other programs in and beyond the United Church. \nPlease prepare and submit your questions in advance: \nPREPARE for the Q&A Session:We ask that all participants have previously participated in an education workshop or have listened to/watched the half-hour Remit Foundations video. \nPlease click this link to look at this information sheet \nAn additional information sheet will be available before the workshop. \nIn the workshop\, facilitators will present responses to questions received by 9:00 AM January 16th using the form. There will be time for discussion\, and for additional questions if time permits. \nSUBMIT YOUR QUESTIONS NOW: Please click here to send your questions. \nPlease DO NOT send questions by email. \n\nFor information contact: \nThérèse Samuel TSamuel@united-church.ca or \nJohn Egger JEgger@united-church.ca \nPresented by Antler River Watershed\, Horseshoe Falls and Western Ontario Waterways Regional Councils
URL:https://arwrcucc.ca/event/remit-qa-session-online/
LOCATION:Online via CHURCHx
CATEGORIES:Community,Event,General Council,Indigenous Justice,Learning Opportunity,Online Gathering
ATTACH;FMTTYPE=image/png:https://arwrcucc.ca/wp-content/uploads/2023/11/Got-questions-Remit-QAv3.png
END:VEVENT
END:VCALENDAR