BEGIN:VCALENDAR
VERSION:2.0
PRODID:-//Antler River Watershed Regional Council - ECPv6.15.20//NONSGML v1.0//EN
CALSCALE:GREGORIAN
METHOD:PUBLISH
X-WR-CALNAME:Antler River Watershed Regional Council
X-ORIGINAL-URL:https://arwrcucc.ca
X-WR-CALDESC:Events for Antler River Watershed Regional Council
REFRESH-INTERVAL;VALUE=DURATION:PT1H
X-Robots-Tag:noindex
X-PUBLISHED-TTL:PT1H
BEGIN:VTIMEZONE
TZID:America/Toronto
BEGIN:DAYLIGHT
TZOFFSETFROM:-0500
TZOFFSETTO:-0400
TZNAME:EDT
DTSTART:20240310T070000
END:DAYLIGHT
BEGIN:STANDARD
TZOFFSETFROM:-0400
TZOFFSETTO:-0500
TZNAME:EST
DTSTART:20241103T060000
END:STANDARD
BEGIN:DAYLIGHT
TZOFFSETFROM:-0500
TZOFFSETTO:-0400
TZNAME:EDT
DTSTART:20250309T070000
END:DAYLIGHT
BEGIN:STANDARD
TZOFFSETFROM:-0400
TZOFFSETTO:-0500
TZNAME:EST
DTSTART:20251102T060000
END:STANDARD
BEGIN:DAYLIGHT
TZOFFSETFROM:-0500
TZOFFSETTO:-0400
TZNAME:EDT
DTSTART:20260308T070000
END:DAYLIGHT
BEGIN:STANDARD
TZOFFSETFROM:-0400
TZOFFSETTO:-0500
TZNAME:EST
DTSTART:20261101T060000
END:STANDARD
END:VTIMEZONE
BEGIN:VTIMEZONE
TZID:America/New_York
BEGIN:DAYLIGHT
TZOFFSETFROM:-0500
TZOFFSETTO:-0400
TZNAME:EDT
DTSTART:20240310T070000
END:DAYLIGHT
BEGIN:STANDARD
TZOFFSETFROM:-0400
TZOFFSETTO:-0500
TZNAME:EST
DTSTART:20241103T060000
END:STANDARD
BEGIN:DAYLIGHT
TZOFFSETFROM:-0500
TZOFFSETTO:-0400
TZNAME:EDT
DTSTART:20250309T070000
END:DAYLIGHT
BEGIN:STANDARD
TZOFFSETFROM:-0400
TZOFFSETTO:-0500
TZNAME:EST
DTSTART:20251102T060000
END:STANDARD
BEGIN:DAYLIGHT
TZOFFSETFROM:-0500
TZOFFSETTO:-0400
TZNAME:EDT
DTSTART:20260308T070000
END:DAYLIGHT
BEGIN:STANDARD
TZOFFSETFROM:-0400
TZOFFSETTO:-0500
TZNAME:EST
DTSTART:20261101T060000
END:STANDARD
END:VTIMEZONE
BEGIN:VEVENT
DTSTART;TZID=America/Toronto:20250109T140000
DTEND;TZID=America/Toronto:20250109T153000
DTSTAMP:20260420T102607
CREATED:20240923T193950Z
LAST-MODIFIED:20240923T193950Z
UID:26000-1736431200-1736436600@arwrcucc.ca
SUMMARY:Ministry and Personnel Gathering
DESCRIPTION:Ministry & Personnel Gatherings\nA time for collegiality\, learning\, and conversation about issues facing M&P committees. \nParticipants must have completed M&P: The Basics on Zoom or through the recorded training. \nParticipants are required to agree with the confidentiality and group norms agreement as found below.  \nSituations discussed will only be talked about by broad themes without reference to individuals. \nNovember 7th 2024\, 2-3:30 PM \nJanuary 9th 2025\, 2-3:30 PM \nMarch 6th 2025\, 2-3:30 PM \nMay 1st  2025\, 2-3:30 PM \nWorship\, 30 minutes learning time\, 30 minutes of conversation\, Question and Answers\, etc. ending with a time to make suggestions for future learning. \nBy registering you agree to the following \nConfidentiality Agreement: \nI agree to maintain and respect the confidentiality of all information that is shared by group participants.  I will not share individual conversations or situations that are shared by other members of this group.   I understand and agree that failure to maintain confidentiality will result in my being asked to leave this group. \nGroup Norms: \nI will trust that God has gifted me with wisdom to share and with wisdom to gain from others. \nWhen sharing I will attempt to put situations into broad questions and not provide details about individuals.  I will strive not use the names of ministers\, employees\, or congregation members.   For example\, I will ask about a situation. If not sure how to ask a question\, I can private message Micol Cottrell or the host and they will help frame the question in broad terms\, or without context of the church\, minister\, and staff.  Note:   you can always contact Micol Cottrell MCottrell@united-church.ca with situations that you need to talk about and in that conversation can be more candid. \nI will respect that what others share is confidential and will not share that information outside of the group.   This allows for learning drawn from individual experiences. \nI will appreciate that the questions people ask may not be about a situation that they are facing as an M&P Committee at this moment\, rather a question for future learning. \nI will respect that different M&P committees work differently depending on context. \nI will be gentle with myself and with others trusting in God’s Spirit in leading us to learn together. \nRegister Now
URL:https://arwrcucc.ca/event/ministry-and-personnel-gathering-2/
LOCATION:Online via Zoom
CATEGORIES:Event,Learning Opportunity,Meeting,Ministry Personnel,Online Gathering,Staff
END:VEVENT
BEGIN:VEVENT
DTSTART;TZID=America/New_York:20250121T140000
DTEND;TZID=America/New_York:20250121T150000
DTSTAMP:20260420T102607
CREATED:20250103T214038Z
LAST-MODIFIED:20250103T214038Z
UID:27224-1737468000-1737471600@arwrcucc.ca
SUMMARY:ARW Online Clergy Gathering
DESCRIPTION:As we move deeper into this new year\, you are invited to come for a time of conversation with colleagues in ministry and sharing of information about our various ministries.\n\nARWRC – January 21\, 2-3pm\nHFRC – January 22\, 3-4pm\nWOWRC – January 23\, 2-3pm\n\nPeace\,\nKevin
URL:https://arwrcucc.ca/event/arw-online-clergy-gathering-11/
LOCATION:Online via Zoom
CATEGORIES:Clergy Gathering,Event,Learning Opportunity,Meeting,Ministry Personnel,Online Gathering
ATTACH;FMTTYPE=image/png:https://arwrcucc.ca/wp-content/uploads/2025/01/January-2025-KS.png
ORGANIZER;CN="Kevin Steeper":MAILTO:mailto:KSteeper@united-church.ca
END:VEVENT
BEGIN:VEVENT
DTSTART;TZID=America/New_York:20250122T150000
DTEND;TZID=America/New_York:20250122T160000
DTSTAMP:20260420T102607
CREATED:20250103T214145Z
LAST-MODIFIED:20250103T214145Z
UID:27225-1737558000-1737561600@arwrcucc.ca
SUMMARY:HF Online Clergy Gathering
DESCRIPTION:
URL:https://arwrcucc.ca/event/hf-online-clergy-gathering-10/
LOCATION:Online via Zoom
CATEGORIES:Clergy Gathering,Event,Learning Opportunity,Meeting,Ministry Personnel,Online Gathering
ORGANIZER;CN="Kevin Steeper":MAILTO:mailto:KSteeper@united-church.ca
END:VEVENT
BEGIN:VEVENT
DTSTART;TZID=America/New_York:20250123T140000
DTEND;TZID=America/New_York:20250123T150000
DTSTAMP:20260420T102607
CREATED:20250103T214236Z
LAST-MODIFIED:20250103T214253Z
UID:27226-1737640800-1737644400@arwrcucc.ca
SUMMARY:WOW Online Clergy Gathering
DESCRIPTION:
URL:https://arwrcucc.ca/event/wow-online-clergy-gathering-11/
LOCATION:Online via Zoom
CATEGORIES:Clergy Gathering,Event,Learning Opportunity,Meeting,Ministry Personnel,Online Gathering
ORGANIZER;CN="Kevin Steeper":MAILTO:mailto:KSteeper@united-church.ca
END:VEVENT
BEGIN:VEVENT
DTSTART;TZID=America/Toronto:20250128T190000
DTEND;TZID=America/Toronto:20250128T190000
DTSTAMP:20260420T102607
CREATED:20250117T183846Z
LAST-MODIFIED:20250117T183846Z
UID:27331-1738090800-1738090800@arwrcucc.ca
SUMMARY:Liaisons Gathering
DESCRIPTION:A time for connection\, mutual support\, and information sharing. \nWe are meeting on Tuesdays January 28th\, March 25th\, and May 27th at 7PM on Zoom. \nFor more information contact Micol Cottrell at mcottrell@united-church.ca \nRegister now here: https://regionalcouncil789.formstack.com/forms/liaisons_gathering
URL:https://arwrcucc.ca/event/liaisons-gathering/
LOCATION:Online via Zoom
CATEGORIES:Event,Learning Opportunity,Meeting,Online Gathering,Pastoral Relations,Regional Council
END:VEVENT
BEGIN:VEVENT
DTSTART;VALUE=DATE:20250131
DTEND;VALUE=DATE:20250203
DTSTAMP:20260420T102607
CREATED:20241219T214715Z
LAST-MODIFIED:20241219T220708Z
UID:27160-1738281600-1738540799@arwrcucc.ca
SUMMARY:Worshiplude 2025
DESCRIPTION:Sign Up Now!\n\n\nWorshiplude 2025 \n\n\n\n\nFri. Jan. 31st – Sun. Feb. 2nd Ottawa\, Ontario Join us for a weekend in Ottawa for Winterlude activities\, a museum experience and gather with us for Dinner and Worship Saturday night at Southminster United Church (15 Aylmer Ave\, Ottawa)\n\n\n\n\n\n\n$75 per participant (Registration fee) plus spending money and enough $ for 2 lunches and 1 supper extra.\n\n\n\n\n\n\nYouth and youth groups will need to be accompanied by an adult. (At least one adult for every 7-9 youth)\n\n\n\n\n\n\nGrades 7+\n\n\n\n\n\n\nBus will begin in Beamsville\, ON and travel along the QEW to 401 and on to Ottawa. We can discuss pick up locations along the route\, once we begin to get registrations.\n\n\n\n\n\n\nWe will be billeted at a church in Ottawa. Participants can bring sleeping needs (sleeping bags\, pillows\, mattresses etc)\n\n\n\n\nRegister Now (spots are limited):https://regionalcouncil789.formstack.com/forms/worshiplude
URL:https://arwrcucc.ca/event/worshiplude-2025/
CATEGORIES:Affirming,Anti-Racism,Camps & Retreats,Community,Event,Kids and Youth,Learning Opportunity,Seasonal
ATTACH;FMTTYPE=image/png:https://arwrcucc.ca/wp-content/uploads/2024/12/Youre-invited-to.png
END:VEVENT
END:VCALENDAR