BEGIN:VCALENDAR
VERSION:2.0
PRODID:-//Antler River Watershed Regional Council - ECPv6.15.20//NONSGML v1.0//EN
CALSCALE:GREGORIAN
METHOD:PUBLISH
X-ORIGINAL-URL:https://arwrcucc.ca
X-WR-CALDESC:Events for Antler River Watershed Regional Council
REFRESH-INTERVAL;VALUE=DURATION:PT1H
X-Robots-Tag:noindex
X-PUBLISHED-TTL:PT1H
BEGIN:VTIMEZONE
TZID:America/Toronto
BEGIN:DAYLIGHT
TZOFFSETFROM:-0500
TZOFFSETTO:-0400
TZNAME:EDT
DTSTART:20230312T070000
END:DAYLIGHT
BEGIN:STANDARD
TZOFFSETFROM:-0400
TZOFFSETTO:-0500
TZNAME:EST
DTSTART:20231105T060000
END:STANDARD
BEGIN:DAYLIGHT
TZOFFSETFROM:-0500
TZOFFSETTO:-0400
TZNAME:EDT
DTSTART:20240310T070000
END:DAYLIGHT
BEGIN:STANDARD
TZOFFSETFROM:-0400
TZOFFSETTO:-0500
TZNAME:EST
DTSTART:20241103T060000
END:STANDARD
BEGIN:DAYLIGHT
TZOFFSETFROM:-0500
TZOFFSETTO:-0400
TZNAME:EDT
DTSTART:20250309T070000
END:DAYLIGHT
BEGIN:STANDARD
TZOFFSETFROM:-0400
TZOFFSETTO:-0500
TZNAME:EST
DTSTART:20251102T060000
END:STANDARD
END:VTIMEZONE
BEGIN:VTIMEZONE
TZID:America/New_York
BEGIN:DAYLIGHT
TZOFFSETFROM:-0500
TZOFFSETTO:-0400
TZNAME:EDT
DTSTART:20230312T070000
END:DAYLIGHT
BEGIN:STANDARD
TZOFFSETFROM:-0400
TZOFFSETTO:-0500
TZNAME:EST
DTSTART:20231105T060000
END:STANDARD
BEGIN:DAYLIGHT
TZOFFSETFROM:-0500
TZOFFSETTO:-0400
TZNAME:EDT
DTSTART:20240310T070000
END:DAYLIGHT
BEGIN:STANDARD
TZOFFSETFROM:-0400
TZOFFSETTO:-0500
TZNAME:EST
DTSTART:20241103T060000
END:STANDARD
BEGIN:DAYLIGHT
TZOFFSETFROM:-0500
TZOFFSETTO:-0400
TZNAME:EDT
DTSTART:20250309T070000
END:DAYLIGHT
BEGIN:STANDARD
TZOFFSETFROM:-0400
TZOFFSETTO:-0500
TZNAME:EST
DTSTART:20251102T060000
END:STANDARD
END:VTIMEZONE
BEGIN:VEVENT
DTSTART;TZID=America/Toronto:20240604T100000
DTEND;TZID=America/Toronto:20240604T100000
DTSTAMP:20260419T084226
CREATED:20240603T180022Z
LAST-MODIFIED:20240603T180022Z
UID:14500-1717495200-1717495200@arwrcucc.ca
SUMMARY:ARW Discipleship & Justice Meeting
DESCRIPTION:
URL:https://arwrcucc.ca/event/arw-discipleship-justice-meeting-13/
LOCATION:Online via Zoom
CATEGORIES:Meeting
END:VEVENT
BEGIN:VEVENT
DTSTART;TZID=America/New_York:20240605T090000
DTEND;TZID=America/New_York:20240605T110000
DTSTAMP:20260419T084226
CREATED:20240603T180214Z
LAST-MODIFIED:20240603T180214Z
UID:14502-1717578000-1717585200@arwrcucc.ca
SUMMARY:ARW Congregational Support Commission
DESCRIPTION:
URL:https://arwrcucc.ca/event/arw-congregational-support-commission-4/
CATEGORIES:Meeting
END:VEVENT
BEGIN:VEVENT
DTSTART;TZID=America/Toronto:20240611T090000
DTEND;TZID=America/Toronto:20240611T090000
DTSTAMP:20260419T084226
CREATED:20240603T180318Z
LAST-MODIFIED:20240603T180318Z
UID:14504-1718096400-1718096400@arwrcucc.ca
SUMMARY:ARW Human Resources Commission Meeting
DESCRIPTION:
URL:https://arwrcucc.ca/event/arw-human-resources-commission-meeting-11/
CATEGORIES:Meeting,Online Gathering,Regional Council
END:VEVENT
BEGIN:VEVENT
DTSTART;TZID=America/New_York:20240611T190000
DTEND;TZID=America/New_York:20240611T190000
DTSTAMP:20260419T084226
CREATED:20240603T180418Z
LAST-MODIFIED:20240603T180418Z
UID:14506-1718132400-1718132400@arwrcucc.ca
SUMMARY:HF Congregational Support Commission
DESCRIPTION:
URL:https://arwrcucc.ca/event/hf-congregational-support-commission-11/
CATEGORIES:Meeting
END:VEVENT
BEGIN:VEVENT
DTSTART;TZID=America/Toronto:20240613T113000
DTEND;TZID=America/Toronto:20240613T150000
DTSTAMP:20260419T084226
CREATED:20240227T154632Z
LAST-MODIFIED:20240607T165936Z
UID:13313-1718278200-1718290800@arwrcucc.ca
SUMMARY:ARW Regional Council Orientation
DESCRIPTION:To be held at: St. Andrews United Church\, Chatham\, ON
URL:https://arwrcucc.ca/event/arw-executive-and-commissions-orientation-2/
CATEGORIES:Meeting,Regional Council
END:VEVENT
BEGIN:VEVENT
DTSTART;TZID=America/New_York:20240613T130000
DTEND;TZID=America/New_York:20240613T130000
DTSTAMP:20260419T084226
CREATED:20240603T180527Z
LAST-MODIFIED:20240603T180527Z
UID:14508-1718283600-1718283600@arwrcucc.ca
SUMMARY:WOW Congregational Support Commission
DESCRIPTION:
URL:https://arwrcucc.ca/event/wow-congregational-support-commission-11/
CATEGORIES:Meeting
END:VEVENT
BEGIN:VEVENT
DTSTART;TZID=America/Toronto:20240618T100000
DTEND;TZID=America/Toronto:20240618T120000
DTSTAMP:20260419T084226
CREATED:20240603T181422Z
LAST-MODIFIED:20240603T181422Z
UID:14510-1718704800-1718712000@arwrcucc.ca
SUMMARY:WOW Human Resources Commission Meeting
DESCRIPTION:
URL:https://arwrcucc.ca/event/wow-human-resources-commission-meeting-11/
CATEGORIES:Meeting,Online Gathering,Regional Council
END:VEVENT
BEGIN:VEVENT
DTSTART;TZID=America/New_York:20240619T090000
DTEND;TZID=America/New_York:20240619T090000
DTSTAMP:20260419T084226
CREATED:20240227T154805Z
LAST-MODIFIED:20240227T154805Z
UID:13318-1718787600-1718787600@arwrcucc.ca
SUMMARY:WOW Regional Council Orientation
DESCRIPTION:
URL:https://arwrcucc.ca/event/wow-regional-council-orientation/
CATEGORIES:Meeting
END:VEVENT
BEGIN:VEVENT
DTSTART;TZID=America/Toronto:20240624T190000
DTEND;TZID=America/Toronto:20240624T203000
DTSTAMP:20260419T084226
CREATED:20240603T151417Z
LAST-MODIFIED:20240611T135133Z
UID:14494-1719255600-1719261000@arwrcucc.ca
SUMMARY:Music Ministry - Celebrating Pride Month
DESCRIPTION:
URL:https://arwrcucc.ca/event/music-ministry-celebrating-pride-month/
LOCATION:Online via Zoom
CATEGORIES:2SLGBTQIA,Affirming,Community,Event,Learning Opportunity,Meeting,Music,Online Gathering,Speakers
ATTACH;FMTTYPE=image/jpeg:https://arwrcucc.ca/wp-content/uploads/2024/06/Music-Ministry-Gathering-June-2024-Music-Ministry-Pride-Month-jpg-final-scaled.jpg
END:VEVENT
BEGIN:VEVENT
DTSTART;TZID=America/New_York:20240625T190000
DTEND;TZID=America/New_York:20240625T210000
DTSTAMP:20260419T084226
CREATED:20240205T191640Z
LAST-MODIFIED:20240205T192524Z
UID:13125-1719342000-1719349200@arwrcucc.ca
SUMMARY:'The Basics': Ministry & Personnel Committee Workshops
DESCRIPTION:‘The Basics’: Ministry & Personnel Committee Workshops\nOnline by Zoom\, Spring 2024 dates:\nFebruary 15th 2-4pm\, March 19th 7-9pm\, May 8th 2-4pm and June 25th 7-9pm\nwith Micol Cottrell\, Minister\, Pastoral Relations \n \nOrdered ministers and designated lay ministers while in paid accountable ministry positions are office holders within The United Church of Canada. \nWhile there may be elements similar to employment\, \nthe essential nature of the relationship is a covenant.  \n~ Statement on Ministry in The United Church of Canada (2012) \nNew members are often elected to the vital Ministry & Personnel Committee near the start of the year\, although M&P Committee membership can change for many other reasons throughout the year. \nThe Basics will help a new member learn the essentials of this crucial role. More experienced members of M&P Committees are invited to take this workshop as a refresher with their team\, and keep up with changing United Church practices and policies. This workshop is open to members from Western Ontario Waterways\, Antler River Watershed and Horseshoe Falls Regional Councils! \nPlease Note: each member of your M&P Committee attending this workshop is required to register. \nIn your Confirmation Email\, you will receive the Zoom link and material in preparation for the meeting to make the most of our time together. If you have questions about the content\, please email Micol Cottrell\, Minister\, Pastoral Relations\, at MCottrell@united-church.ca\, or better yet\, write down the questions to bring with you.
URL:https://arwrcucc.ca/event/the-basics-ministry-personnel-committee-workshops-4/
LOCATION:Online via Zoom
CATEGORIES:Event,Meeting,Ministry Personnel,Training
ORGANIZER;CN="Micol Cottrell":MAILTO:MCottrell@united-church.ca
END:VEVENT
BEGIN:VEVENT
DTSTART;TZID=America/New_York:20240626T090000
DTEND;TZID=America/New_York:20240626T090000
DTSTAMP:20260419T084226
CREATED:20240227T154716Z
LAST-MODIFIED:20240227T154716Z
UID:13315-1719392400-1719392400@arwrcucc.ca
SUMMARY:HF Regional Council Orientation
DESCRIPTION:
URL:https://arwrcucc.ca/event/hf-regional-council-orientation-2/
CATEGORIES:Meeting
END:VEVENT
BEGIN:VEVENT
DTSTART;TZID=America/Toronto:20240627T093000
DTEND;TZID=America/Toronto:20240627T113000
DTSTAMP:20260419T084226
CREATED:20240603T182347Z
LAST-MODIFIED:20240603T182347Z
UID:14512-1719480600-1719487800@arwrcucc.ca
SUMMARY:Regional Council Staff Meeting
DESCRIPTION:
URL:https://arwrcucc.ca/event/regional-council-staff-meeting-53/
LOCATION:Online via Zoom
CATEGORIES:Event,Meeting
END:VEVENT
END:VCALENDAR