BEGIN:VCALENDAR
VERSION:2.0
PRODID:-//Antler River Watershed Regional Council - ECPv6.15.20//NONSGML v1.0//EN
CALSCALE:GREGORIAN
METHOD:PUBLISH
X-WR-CALNAME:Antler River Watershed Regional Council
X-ORIGINAL-URL:https://arwrcucc.ca
X-WR-CALDESC:Events for Antler River Watershed Regional Council
REFRESH-INTERVAL;VALUE=DURATION:PT1H
X-Robots-Tag:noindex
X-PUBLISHED-TTL:PT1H
BEGIN:VTIMEZONE
TZID:America/New_York
BEGIN:DAYLIGHT
TZOFFSETFROM:-0500
TZOFFSETTO:-0400
TZNAME:EDT
DTSTART:20240310T070000
END:DAYLIGHT
BEGIN:STANDARD
TZOFFSETFROM:-0400
TZOFFSETTO:-0500
TZNAME:EST
DTSTART:20241103T060000
END:STANDARD
BEGIN:DAYLIGHT
TZOFFSETFROM:-0500
TZOFFSETTO:-0400
TZNAME:EDT
DTSTART:20250309T070000
END:DAYLIGHT
BEGIN:STANDARD
TZOFFSETFROM:-0400
TZOFFSETTO:-0500
TZNAME:EST
DTSTART:20251102T060000
END:STANDARD
BEGIN:DAYLIGHT
TZOFFSETFROM:-0500
TZOFFSETTO:-0400
TZNAME:EDT
DTSTART:20260308T070000
END:DAYLIGHT
BEGIN:STANDARD
TZOFFSETFROM:-0400
TZOFFSETTO:-0500
TZNAME:EST
DTSTART:20261101T060000
END:STANDARD
END:VTIMEZONE
BEGIN:VTIMEZONE
TZID:America/Toronto
BEGIN:DAYLIGHT
TZOFFSETFROM:-0500
TZOFFSETTO:-0400
TZNAME:EDT
DTSTART:20240310T070000
END:DAYLIGHT
BEGIN:STANDARD
TZOFFSETFROM:-0400
TZOFFSETTO:-0500
TZNAME:EST
DTSTART:20241103T060000
END:STANDARD
BEGIN:DAYLIGHT
TZOFFSETFROM:-0500
TZOFFSETTO:-0400
TZNAME:EDT
DTSTART:20250309T070000
END:DAYLIGHT
BEGIN:STANDARD
TZOFFSETFROM:-0400
TZOFFSETTO:-0500
TZNAME:EST
DTSTART:20251102T060000
END:STANDARD
BEGIN:DAYLIGHT
TZOFFSETFROM:-0500
TZOFFSETTO:-0400
TZNAME:EDT
DTSTART:20260308T070000
END:DAYLIGHT
BEGIN:STANDARD
TZOFFSETFROM:-0400
TZOFFSETTO:-0500
TZNAME:EST
DTSTART:20261101T060000
END:STANDARD
END:VTIMEZONE
BEGIN:VEVENT
DTSTART;TZID=America/New_York:20250501T093000
DTEND;TZID=America/New_York:20250501T093000
DTSTAMP:20260419T190027
CREATED:20250505T153915Z
LAST-MODIFIED:20250505T153915Z
UID:30592-1746091800-1746091800@arwrcucc.ca
SUMMARY:WOW Regional Council Executive Meeting
DESCRIPTION:
URL:https://arwrcucc.ca/event/wow-regional-council-executive-meeting-15/
CATEGORIES:Meeting
END:VEVENT
BEGIN:VEVENT
DTSTART;TZID=America/Toronto:20250501T093000
DTEND;TZID=America/Toronto:20250501T113000
DTSTAMP:20260419T190027
CREATED:20250401T165825Z
LAST-MODIFIED:20250401T165825Z
UID:30000-1746091800-1746099000@arwrcucc.ca
SUMMARY:Regional Council Staff Meeting
DESCRIPTION:
URL:https://arwrcucc.ca/event/regional-council-staff-meeting-72/
LOCATION:Online via Zoom
CATEGORIES:Event,Meeting
END:VEVENT
BEGIN:VEVENT
DTSTART;TZID=America/Toronto:20250501T140000
DTEND;TZID=America/Toronto:20250501T153000
DTSTAMP:20260419T190027
CREATED:20240923T194047Z
LAST-MODIFIED:20240923T195152Z
UID:26004-1746108000-1746113400@arwrcucc.ca
SUMMARY:Ministry and Personnel Gathering
DESCRIPTION:Ministry & Personnel Gatherings\nA time for collegiality\, learning\, and conversation about issues facing M&P committees. \nParticipants must have completed M&P: The Basics on Zoom or through the recorded training. \nParticipants are required to agree with the confidentiality and group norms agreement as found below.  \nSituations discussed will only be talked about by broad themes without reference to individuals. \nNovember 7th 2024\, 2-3:30 PM \nJanuary 9th 2025\, 2-3:30 PM \nMarch 6th 2025\, 2-3:30 PM \nMay 1st  2025\, 2-3:30 PM \nWorship\, 30 minutes learning time\, 30 minutes of conversation\, Question and Answers\, etc. ending with a time to make suggestions for future learning. \nBy registering you agree to the following \nConfidentiality Agreement: \nI agree to maintain and respect the confidentiality of all information that is shared by group participants.  I will not share individual conversations or situations that are shared by other members of this group.   I understand and agree that failure to maintain confidentiality will result in my being asked to leave this group. \nGroup Norms: \nI will trust that God has gifted me with wisdom to share and with wisdom to gain from others. \nWhen sharing I will attempt to put situations into broad questions and not provide details about individuals.  I will strive not use the names of ministers\, employees\, or congregation members.   For example\, I will ask about a situation. If not sure how to ask a question\, I can private message Micol Cottrell or the host and they will help frame the question in broad terms\, or without context of the church\, minister\, and staff.  Note:   you can always contact Micol Cottrell MCottrell@united-church.ca with situations that you need to talk about and in that conversation can be more candid. \nI will respect that what others share is confidential and will not share that information outside of the group.   This allows for learning drawn from individual experiences. \nI will appreciate that the questions people ask may not be about a situation that they are facing as an M&P Committee at this moment\, rather a question for future learning. \nI will respect that different M&P committees work differently depending on context. \nI will be gentle with myself and with others trusting in God’s Spirit in leading us to learn together. \nRegister Now
URL:https://arwrcucc.ca/event/ministry-and-personnel-gathering-4/
LOCATION:Online via Zoom
CATEGORIES:Event,Learning Opportunity,Meeting,Ministry Personnel,Online Gathering,Staff
END:VEVENT
BEGIN:VEVENT
DTSTART;TZID=America/New_York:20250507T090000
DTEND;TZID=America/New_York:20250507T110000
DTSTAMP:20260419T190027
CREATED:20250505T154018Z
LAST-MODIFIED:20250505T154018Z
UID:30594-1746608400-1746615600@arwrcucc.ca
SUMMARY:ARW Congregational Support Commission
DESCRIPTION:
URL:https://arwrcucc.ca/event/arw-congregational-support-commission-16/
CATEGORIES:Meeting
END:VEVENT
BEGIN:VEVENT
DTSTART;TZID=America/Toronto:20250513T090000
DTEND;TZID=America/Toronto:20250513T090000
DTSTAMP:20260419T190027
CREATED:20250505T154117Z
LAST-MODIFIED:20250505T154117Z
UID:30596-1747126800-1747126800@arwrcucc.ca
SUMMARY:ARW Pastoral Relations Commission Meeting
DESCRIPTION:
URL:https://arwrcucc.ca/event/arw-pastoral-relations-commission-meeting-4/
CATEGORIES:Meeting,Online Gathering,Regional Council
END:VEVENT
BEGIN:VEVENT
DTSTART;TZID=America/Toronto:20250513T100000
DTEND;TZID=America/Toronto:20250513T100000
DTSTAMP:20260419T190027
CREATED:20250505T154446Z
LAST-MODIFIED:20250505T154446Z
UID:30598-1747130400-1747130400@arwrcucc.ca
SUMMARY:ARW Discipleship & Justice Meeting
DESCRIPTION:
URL:https://arwrcucc.ca/event/arw-discipleship-justice-meeting-20/
LOCATION:Online via Zoom
CATEGORIES:Meeting
END:VEVENT
BEGIN:VEVENT
DTSTART;TZID=America/New_York:20250513T100000
DTEND;TZID=America/New_York:20250513T120000
DTSTAMP:20260419T190027
CREATED:20250505T154539Z
LAST-MODIFIED:20250505T154539Z
UID:30600-1747130400-1747137600@arwrcucc.ca
SUMMARY:ARW Regional Council Executive Meeting
DESCRIPTION:
URL:https://arwrcucc.ca/event/arw-regional-council-executive-meeting-16/
CATEGORIES:Meeting
END:VEVENT
BEGIN:VEVENT
DTSTART;TZID=America/Toronto:20250515T093000
DTEND;TZID=America/Toronto:20250515T113000
DTSTAMP:20260419T190027
CREATED:20250505T154642Z
LAST-MODIFIED:20250505T154642Z
UID:30602-1747301400-1747308600@arwrcucc.ca
SUMMARY:Regional Council Staff Meeting
DESCRIPTION:
URL:https://arwrcucc.ca/event/regional-council-staff-meeting-73/
LOCATION:Online via Zoom
CATEGORIES:Event,Meeting
END:VEVENT
BEGIN:VEVENT
DTSTART;TZID=America/Toronto:20250520T100000
DTEND;TZID=America/Toronto:20250520T120000
DTSTAMP:20260419T190027
CREATED:20250505T155124Z
LAST-MODIFIED:20250505T155124Z
UID:30606-1747735200-1747742400@arwrcucc.ca
SUMMARY:WOW Pastoral Relations Commission Meeting
DESCRIPTION:
URL:https://arwrcucc.ca/event/wow-pastoral-relations-commission-meeting-4/
CATEGORIES:Meeting,Online Gathering,Regional Council
END:VEVENT
BEGIN:VEVENT
DTSTART;TZID=America/New_York:20250520T100000
DTEND;TZID=America/New_York:20250520T120000
DTSTAMP:20260419T190027
CREATED:20250505T155213Z
LAST-MODIFIED:20250505T155213Z
UID:30608-1747735200-1747742400@arwrcucc.ca
SUMMARY:HF Congregational Support Commission
DESCRIPTION:
URL:https://arwrcucc.ca/event/hf-congregational-support-commission-21/
CATEGORIES:Meeting
END:VEVENT
BEGIN:VEVENT
DTSTART;TZID=America/New_York:20250521T093000
DTEND;TZID=America/New_York:20250521T113000
DTSTAMP:20260419T190027
CREATED:20250505T155313Z
LAST-MODIFIED:20250505T155313Z
UID:30610-1747819800-1747827000@arwrcucc.ca
SUMMARY:WOW Regional Council Executive Meeting
DESCRIPTION:
URL:https://arwrcucc.ca/event/wow-regional-council-executive-meeting-16/
CATEGORIES:Meeting
END:VEVENT
BEGIN:VEVENT
DTSTART;TZID=America/Toronto:20250521T130000
DTEND;TZID=America/Toronto:20250521T130000
DTSTAMP:20260419T190027
CREATED:20250505T155520Z
LAST-MODIFIED:20250521T142712Z
UID:30613-1747832400-1747832400@arwrcucc.ca
SUMMARY:HF Human Resources Commission Meeting
DESCRIPTION:
URL:https://arwrcucc.ca/event/hf-human-resources-commission-meeting-19/
CATEGORIES:Meeting,Regional Council
END:VEVENT
BEGIN:VEVENT
DTSTART;TZID=America/Toronto:20250527T190000
DTEND;TZID=America/Toronto:20250527T190000
DTSTAMP:20260419T190027
CREATED:20250117T183947Z
LAST-MODIFIED:20250117T183947Z
UID:27335-1748372400-1748372400@arwrcucc.ca
SUMMARY:Liaisons Gathering
DESCRIPTION:A time for connection\, mutual support\, and information sharing. \nWe are meeting on Tuesdays January 28th\, March 25th\, and May 27th at 7PM on Zoom. \nFor more information contact Micol Cottrell at mcottrell@united-church.ca \nRegister now here: https://regionalcouncil789.formstack.com/forms/liaisons_gathering
URL:https://arwrcucc.ca/event/liaisons-gathering-3/
LOCATION:Online via Zoom
CATEGORIES:Event,Learning Opportunity,Meeting,Online Gathering,Pastoral Relations,Regional Council
ORGANIZER;CN="Micol Cottrell":MAILTO:MCottrell@united-church.ca
END:VEVENT
BEGIN:VEVENT
DTSTART;TZID=America/New_York:20250527T190000
DTEND;TZID=America/New_York:20250527T190000
DTSTAMP:20260419T190027
CREATED:20250512T140603Z
LAST-MODIFIED:20250512T140603Z
UID:30709-1748372400-1748372400@arwrcucc.ca
SUMMARY:WOW Discipleship and Justice Meeting
DESCRIPTION:
URL:https://arwrcucc.ca/event/wow-discipleship-and-justice-meeting-10/
CATEGORIES:Meeting
END:VEVENT
BEGIN:VEVENT
DTSTART;TZID=America/New_York:20250528T160000
DTEND;TZID=America/New_York:20250528T160000
DTSTAMP:20260419T190027
CREATED:20250505T155606Z
LAST-MODIFIED:20250505T155606Z
UID:30615-1748448000-1748448000@arwrcucc.ca
SUMMARY:HF Regional Council Executive Meeting
DESCRIPTION:
URL:https://arwrcucc.ca/event/hf-regional-council-executive-meeting-15/
CATEGORIES:Meeting
END:VEVENT
BEGIN:VEVENT
DTSTART;TZID=America/Toronto:20250529T093000
DTEND;TZID=America/Toronto:20250529T113000
DTSTAMP:20260419T190027
CREATED:20250505T154729Z
LAST-MODIFIED:20250505T154729Z
UID:30604-1748511000-1748518200@arwrcucc.ca
SUMMARY:Regional Council Staff Meeting
DESCRIPTION:
URL:https://arwrcucc.ca/event/regional-council-staff-meeting-74/
LOCATION:Online via Zoom
CATEGORIES:Event,Meeting
END:VEVENT
END:VCALENDAR