BEGIN:VCALENDAR
VERSION:2.0
PRODID:-//Antler River Watershed Regional Council - ECPv6.15.20//NONSGML v1.0//EN
CALSCALE:GREGORIAN
METHOD:PUBLISH
X-WR-CALNAME:Antler River Watershed Regional Council
X-ORIGINAL-URL:https://arwrcucc.ca
X-WR-CALDESC:Events for Antler River Watershed Regional Council
REFRESH-INTERVAL;VALUE=DURATION:PT1H
X-Robots-Tag:noindex
X-PUBLISHED-TTL:PT1H
BEGIN:VTIMEZONE
TZID:America/Toronto
BEGIN:DAYLIGHT
TZOFFSETFROM:-0500
TZOFFSETTO:-0400
TZNAME:EDT
DTSTART:20230312T070000
END:DAYLIGHT
BEGIN:STANDARD
TZOFFSETFROM:-0400
TZOFFSETTO:-0500
TZNAME:EST
DTSTART:20231105T060000
END:STANDARD
BEGIN:DAYLIGHT
TZOFFSETFROM:-0500
TZOFFSETTO:-0400
TZNAME:EDT
DTSTART:20240310T070000
END:DAYLIGHT
BEGIN:STANDARD
TZOFFSETFROM:-0400
TZOFFSETTO:-0500
TZNAME:EST
DTSTART:20241103T060000
END:STANDARD
BEGIN:DAYLIGHT
TZOFFSETFROM:-0500
TZOFFSETTO:-0400
TZNAME:EDT
DTSTART:20250309T070000
END:DAYLIGHT
BEGIN:STANDARD
TZOFFSETFROM:-0400
TZOFFSETTO:-0500
TZNAME:EST
DTSTART:20251102T060000
END:STANDARD
END:VTIMEZONE
BEGIN:VTIMEZONE
TZID:America/New_York
BEGIN:DAYLIGHT
TZOFFSETFROM:-0500
TZOFFSETTO:-0400
TZNAME:EDT
DTSTART:20230312T070000
END:DAYLIGHT
BEGIN:STANDARD
TZOFFSETFROM:-0400
TZOFFSETTO:-0500
TZNAME:EST
DTSTART:20231105T060000
END:STANDARD
BEGIN:DAYLIGHT
TZOFFSETFROM:-0500
TZOFFSETTO:-0400
TZNAME:EDT
DTSTART:20240310T070000
END:DAYLIGHT
BEGIN:STANDARD
TZOFFSETFROM:-0400
TZOFFSETTO:-0500
TZNAME:EST
DTSTART:20241103T060000
END:STANDARD
BEGIN:DAYLIGHT
TZOFFSETFROM:-0500
TZOFFSETTO:-0400
TZNAME:EDT
DTSTART:20250309T070000
END:DAYLIGHT
BEGIN:STANDARD
TZOFFSETFROM:-0400
TZOFFSETTO:-0500
TZNAME:EST
DTSTART:20251102T060000
END:STANDARD
END:VTIMEZONE
BEGIN:VEVENT
DTSTART;TZID=America/Toronto:20240416T100000
DTEND;TZID=America/Toronto:20240416T120000
DTSTAMP:20260420T105424
CREATED:20240402T163219Z
LAST-MODIFIED:20240402T163219Z
UID:13760-1713261600-1713268800@arwrcucc.ca
SUMMARY:WOW Human Resources Commission Meeting
DESCRIPTION:
URL:https://arwrcucc.ca/event/wow-human-resources-commission-meeting-9/
CATEGORIES:Meeting,Online Gathering,Regional Council
END:VEVENT
BEGIN:VEVENT
DTSTART;TZID=America/New_York:20240416T140000
DTEND;TZID=America/New_York:20240416T150000
DTSTAMP:20260420T105424
CREATED:20240226T201253Z
LAST-MODIFIED:20240226T201253Z
UID:13298-1713276000-1713279600@arwrcucc.ca
SUMMARY:ARW Online Clergy Gathering
DESCRIPTION:
URL:https://arwrcucc.ca/event/arw-online-clergy-gathering-5/
LOCATION:Online via Zoom
CATEGORIES:Clergy Gathering,Event,Learning Opportunity,Meeting,Online Gathering
ATTACH;FMTTYPE=image/png:https://arwrcucc.ca/wp-content/uploads/2024/02/April-2024.png
ORGANIZER;CN="Kevin Steeper":MAILTO:mailto:KSteeper@united-church.ca
END:VEVENT
BEGIN:VEVENT
DTSTART;TZID=America/New_York:20240416T190000
DTEND;TZID=America/New_York:20240416T200000
DTSTAMP:20260420T105424
CREATED:20240405T162517Z
LAST-MODIFIED:20240405T162517Z
UID:13801-1713294000-1713297600@arwrcucc.ca
SUMMARY:WOW Pastoral Charge Supervisors
DESCRIPTION:WOW Pastoral Charge Supervisors \nAs a valued member of our pastoral charge supervisor team\, we appreciate your ongoing commitment and dedication to the regional council work. Your role as a Pastoral Charge Supervisor is vital in ensuring the spiritual well-being of congregations. \nWhy Continue Serving as a Pastoral Charge Supervisor? \n\nMake a lasting impact on communities of faith who are without ministry personnel\nCollaborate with fellow supervisors to nurture congregations\nContribute to the spiritual growth of members\n\nWe invite you to gather and share your insights\, wisdom\, and experiences. Join and support other PCSs. Your leadership is invaluable. \nTuesday April 16\, 2024\, 7:00 – 8:00 PM Join Zoom Meeting
URL:https://arwrcucc.ca/event/wow-pastoral-charge-supervisors/
CATEGORIES:Community,Event,Learning Opportunity,Meeting,Online Gathering
END:VEVENT
END:VCALENDAR