BEGIN:VCALENDAR
VERSION:2.0
PRODID:-//Antler River Watershed Regional Council - ECPv6.15.20//NONSGML v1.0//EN
CALSCALE:GREGORIAN
METHOD:PUBLISH
X-ORIGINAL-URL:https://arwrcucc.ca
X-WR-CALDESC:Events for Antler River Watershed Regional Council
REFRESH-INTERVAL;VALUE=DURATION:PT1H
X-Robots-Tag:noindex
X-PUBLISHED-TTL:PT1H
BEGIN:VTIMEZONE
TZID:America/Toronto
BEGIN:DAYLIGHT
TZOFFSETFROM:-0500
TZOFFSETTO:-0400
TZNAME:EDT
DTSTART:20230312T070000
END:DAYLIGHT
BEGIN:STANDARD
TZOFFSETFROM:-0400
TZOFFSETTO:-0500
TZNAME:EST
DTSTART:20231105T060000
END:STANDARD
BEGIN:DAYLIGHT
TZOFFSETFROM:-0500
TZOFFSETTO:-0400
TZNAME:EDT
DTSTART:20240310T070000
END:DAYLIGHT
BEGIN:STANDARD
TZOFFSETFROM:-0400
TZOFFSETTO:-0500
TZNAME:EST
DTSTART:20241103T060000
END:STANDARD
BEGIN:DAYLIGHT
TZOFFSETFROM:-0500
TZOFFSETTO:-0400
TZNAME:EDT
DTSTART:20250309T070000
END:DAYLIGHT
BEGIN:STANDARD
TZOFFSETFROM:-0400
TZOFFSETTO:-0500
TZNAME:EST
DTSTART:20251102T060000
END:STANDARD
END:VTIMEZONE
BEGIN:VTIMEZONE
TZID:America/New_York
BEGIN:DAYLIGHT
TZOFFSETFROM:-0500
TZOFFSETTO:-0400
TZNAME:EDT
DTSTART:20230312T070000
END:DAYLIGHT
BEGIN:STANDARD
TZOFFSETFROM:-0400
TZOFFSETTO:-0500
TZNAME:EST
DTSTART:20231105T060000
END:STANDARD
BEGIN:DAYLIGHT
TZOFFSETFROM:-0500
TZOFFSETTO:-0400
TZNAME:EDT
DTSTART:20240310T070000
END:DAYLIGHT
BEGIN:STANDARD
TZOFFSETFROM:-0400
TZOFFSETTO:-0500
TZNAME:EST
DTSTART:20241103T060000
END:STANDARD
BEGIN:DAYLIGHT
TZOFFSETFROM:-0500
TZOFFSETTO:-0400
TZNAME:EDT
DTSTART:20250309T070000
END:DAYLIGHT
BEGIN:STANDARD
TZOFFSETFROM:-0400
TZOFFSETTO:-0500
TZNAME:EST
DTSTART:20251102T060000
END:STANDARD
END:VTIMEZONE
BEGIN:VEVENT
DTSTART;TZID=America/Toronto:20240418T093000
DTEND;TZID=America/Toronto:20240418T113000
DTSTAMP:20260420T074433
CREATED:20240402T162532Z
LAST-MODIFIED:20240402T162532Z
UID:13750-1713432600-1713439800@arwrcucc.ca
SUMMARY:Regional Council Staff Meeting
DESCRIPTION:
URL:https://arwrcucc.ca/event/regional-council-staff-meeting-49/
LOCATION:Online via Zoom
CATEGORIES:Event,Meeting
END:VEVENT
BEGIN:VEVENT
DTSTART;TZID=America/New_York:20240418T140000
DTEND;TZID=America/New_York:20240418T150000
DTSTAMP:20260420T074433
CREATED:20240226T201456Z
LAST-MODIFIED:20240402T163546Z
UID:13303-1713448800-1713452400@arwrcucc.ca
SUMMARY:WOW Online Clergy Gathering
DESCRIPTION:
URL:https://arwrcucc.ca/event/wow-online-clergy-gathering-5/
LOCATION:Online via Zoom
CATEGORIES:Clergy Gathering,Event,Learning Opportunity,Meeting,Online Gathering
ORGANIZER;CN="Kevin Steeper":MAILTO:mailto:KSteeper@united-church.ca
END:VEVENT
BEGIN:VEVENT
DTSTART;TZID=America/New_York:20240418T190000
DTEND;TZID=America/New_York:20240418T203000
DTSTAMP:20260420T074433
CREATED:20240405T162353Z
LAST-MODIFIED:20240405T162353Z
UID:13799-1713466800-1713472200@arwrcucc.ca
SUMMARY:WOW Are You a Vulnerable Community of Faith?
DESCRIPTION:Before the pandemic\, many of our Communities of Faith were beginning to see signs that their finances and volunteer resources were declining. With the impact of the pandemic the signs are everywhere. Discussions and decisions that were put off as we waited out Covid-19 are now urgently needed. \nThese are signs that the way we have always done things is no longer working\, and change is happening\, but there are also signs of hope as we face these challenges together. What isn’t helpful is simply letting time rob you of the opportunity to explore options and make choices about the future of your congregation and ministry. \nRecognizing the Signs . . . if your community of faith is . . . \n\nAnxious about the future of your community of faith?\nIt’s time to explore options.\nStruggling to recruit enough volunteers?\nIt’s time to talk about the future.\nExperiencing increasing deficits and declining investments?\nIt’s time to make a plan!\n\n\nRecognizing signs and making decisions is something we do every day. Overcast sky; we take an umbrella. Gas gauge on empty; we head to the gas station. Toothache; we call the dentist. We have learned that ignoring the signs can lead to bigger problems later. And simply hoping we won’t run out of gas\, or the cavity will fix itself is not realistic. \nThe same is true when congregations see signs that their community of faith has become vulnerable due to a lack of money\, volunteers\, or both. While it may be tempting to simply keep going\, hoping next year will be better\, the reality is that with each passing month there is less time to explore options\, talk about the future and make plans. And while these may be uncomfortable discussions\, it is even more difficult when a decision is forced upon a community of faith because they have run out of resources and time. \n\n\nIt can be the change you choose\, rather than the change that will happen\, if nothing is done. \nThere is no denying that acknowledging and responding to the signs is challenging work that takes courage and trust and often leads to change. \n\nUseful things to know and remember: \n\nYou are not alone! God is with us. We are with one another.\nThis is not your fault. This change is the result of social\, demographic\, cultural and other forces beyond the control of any one congregation.\nThings will not go back to the way they were.\nThe problems will not solve themselves.\nAll of the possible options such as collaboration\, property redevelopment\, amalgamation and disbanding take time to do well. Waiting until the last moment to make a decision will limit your options.\nWe are a resurrection people. We believe that new life will come\, even in the midst of loss.\n\nYour Congregational Support Commission invites you to make 2024 the year all of our Communities of Faith ask courageous questions about their situation\, talk to one another\, begin to make plans and choices rather than wait and see\, and ask how together we continue our shared ministries as The United Church of Canada.\n\nIf your community of faith has an abundance of resources\, ask\, “How might we partner with our neighbours so that their ministry also continues?”\nIf your neighbouring church is closing\, ask\, “How you might pick up some of their ministries so that the good work continues?”\nComplete or update your community of faith profile\, and look for signs that it is time to take control and start making plans.\n\n\nFinances – Signs to Watch For \nHalo Canada conducted a study of approximately 4\,300 churches in Canada that closed between 2009 and 2018. Their findings identified several key characteristics of congregations at risk of closing. \n\n\nAn annual deficit for three or more years consecutively;\nAnnual expenses running 30% higher than revenue;\nCash and long-term investments less than three times the annual deficit;\nProperty expenses 30% or more of annual expenses;\nStaffing costs greater than 60% of the total expenses;\nTrend of declining income and/or increasing deficit.\n\n\nIf a congregation is experiencing 3 or more of these risk factors\, they are at high risk of closure in the next 3-5 years. \nUse the Financial Viability Worksheet to identify whether these risk factors apply to your community of faith. \n(Halo Effect is a measure of the socio-economic benefit that a religious congregation contributes to its local community. Halo Effect is expressed as a multiplier. Based on the most recent research\, for every dollar that a congregation spends\, the local community on average receives $3.39 in economic benefit.) \nVolunteers – Signs to Watch For \nCommunities of Faith need capable\, willing and available volunteers to carry out the work of being a church. Members are needed for the Governing Body\, Board of Trustees\, the M&P Committee and to help organize events\, fundraisers and worship. While it can be useful to have people with experience offer leadership\, it becomes a problem when people feel they cannot “retire” from a position because there is no one available to take over the responsibility. In some congregations\, a few people are stretched thin trying to ensure everything gets done. \n\n\nVolunteers are being asked to fill more than one position\nVolunteers have held the same position for more than 5 years because there was no one else available\nThe Board of Trustees or M&P Committee do not have the required 3 members\nVolunteers are feeling exhausted\, overwhelmed or resentful\nVery few people are gathering for worship in person or virtually\n\nIf a congregation is experiencing these challenges they are at risk of closure in the near future\, even if they have ample financial resources.\nUse the Demographic Worksheet to identify whether these risk factors apply to your community of faith.Taking Charge – Exploring Options \nOnce your community of faith has determined whether they are at risk\, you can now begin to make plans for your future. Knowing that your resources may be exhausted in a few years\, you can begin to explore options and make choices. \n\n\nReach out to your regional council Congregational Support Minister and the Congregational Support Commission.\nCollaborative Ministry – share resources and ministry personnel with another congregation to reduce expenses.\nPurchase complete worship services with recorded sermons to reduce the cost and time required to arrange for pulpit supply each week.\nExplore options to redevelop property or increase rental income.\nSell your property and rent space in the community or “nest” with another congregation to share worship and building facilities.\nBegin to discuss amalgamation with a neighbour. (a good amalgamation requires time\, at least a year in most cases\, to get to know one another\, create an agreement\, celebrate the past and embrace the future).\nMake plans to disband. To do this well takes time. Time to celebrate the ministry you have shared\, time to grieve\, time to plan your legacy and time to manage your property and records.\n\nWhile this may feel overwhelming\, remember you are not alone. The Congregational Support Commission is inviting you\, your Minister\, Chair\, Treasurer and Lay Representative(s) to a discussion session. Please share this article and the Zoom link. We look forward to seeing you soon!\nThursday April 18\, 2024 from 7:00 – 8:30 PM\nJoin by link: Join Zoom Meeting\nMeeting ID: 813 0230 9957\nJoin by phone: 855 703 8985
URL:https://arwrcucc.ca/event/wow-are-you-a-vulnerable-community-of-faith/
CATEGORIES:Community,Event,Learning Opportunity,Meeting,Online Gathering
ATTACH;FMTTYPE=image/jpeg:https://arwrcucc.ca/wp-content/uploads/2024/03/robert-ruggiero-X2bcQMMhaow-unsplash-scaled.jpg
END:VEVENT
END:VCALENDAR