BEGIN:VCALENDAR
VERSION:2.0
PRODID:-//Antler River Watershed Regional Council - ECPv6.15.20//NONSGML v1.0//EN
CALSCALE:GREGORIAN
METHOD:PUBLISH
X-ORIGINAL-URL:https://arwrcucc.ca
X-WR-CALDESC:Events for Antler River Watershed Regional Council
REFRESH-INTERVAL;VALUE=DURATION:PT1H
X-Robots-Tag:noindex
X-PUBLISHED-TTL:PT1H
BEGIN:VTIMEZONE
TZID:America/Toronto
BEGIN:DAYLIGHT
TZOFFSETFROM:-0500
TZOFFSETTO:-0400
TZNAME:EDT
DTSTART:20230312T070000
END:DAYLIGHT
BEGIN:STANDARD
TZOFFSETFROM:-0400
TZOFFSETTO:-0500
TZNAME:EST
DTSTART:20231105T060000
END:STANDARD
BEGIN:DAYLIGHT
TZOFFSETFROM:-0500
TZOFFSETTO:-0400
TZNAME:EDT
DTSTART:20240310T070000
END:DAYLIGHT
BEGIN:STANDARD
TZOFFSETFROM:-0400
TZOFFSETTO:-0500
TZNAME:EST
DTSTART:20241103T060000
END:STANDARD
BEGIN:DAYLIGHT
TZOFFSETFROM:-0500
TZOFFSETTO:-0400
TZNAME:EDT
DTSTART:20250309T070000
END:DAYLIGHT
BEGIN:STANDARD
TZOFFSETFROM:-0400
TZOFFSETTO:-0500
TZNAME:EST
DTSTART:20251102T060000
END:STANDARD
END:VTIMEZONE
BEGIN:VEVENT
DTSTART;TZID=America/Toronto:20240926T140000
DTEND;TZID=America/Toronto:20240926T150000
DTSTAMP:20260419T084539
CREATED:20240830T163229Z
LAST-MODIFIED:20240830T163229Z
UID:23937-1727359200-1727362800@arwrcucc.ca
SUMMARY:Tri-Regional Representatives Gathering
DESCRIPTION:Join together with Regional Reps from across the Tri-Regions.\nThursday September 26\, 2024\, from 2:00 – 3:00 PM \nWe will be spending time on: \n\nGetting to know each other\nOrientation to the Regional Rep Role\nQuestions\nOpen discussion\n\nPlease send any questions ahead of time to John Neff \nJoin Zoom Meeting\nhttps://united-church.zoom.us/j/82045257636?pwd=Wp8oCbHqjON3ZrgInDYNHw4JdKiOPG.1 \nMeeting ID: 820 4525 7636\nPassword: 305621
URL:https://arwrcucc.ca/event/tri-regional-representatives-gathering/
CATEGORIES:Event,Meeting
END:VEVENT
END:VCALENDAR