BEGIN:VCALENDAR
VERSION:2.0
PRODID:-//Antler River Watershed Regional Council - ECPv6.15.20//NONSGML v1.0//EN
CALSCALE:GREGORIAN
METHOD:PUBLISH
X-WR-CALNAME:Antler River Watershed Regional Council
X-ORIGINAL-URL:https://arwrcucc.ca
X-WR-CALDESC:Events for Antler River Watershed Regional Council
REFRESH-INTERVAL;VALUE=DURATION:PT1H
X-Robots-Tag:noindex
X-PUBLISHED-TTL:PT1H
BEGIN:VTIMEZONE
TZID:America/Toronto
BEGIN:DAYLIGHT
TZOFFSETFROM:-0500
TZOFFSETTO:-0400
TZNAME:EDT
DTSTART:20230312T070000
END:DAYLIGHT
BEGIN:STANDARD
TZOFFSETFROM:-0400
TZOFFSETTO:-0500
TZNAME:EST
DTSTART:20231105T060000
END:STANDARD
BEGIN:DAYLIGHT
TZOFFSETFROM:-0500
TZOFFSETTO:-0400
TZNAME:EDT
DTSTART:20240310T070000
END:DAYLIGHT
BEGIN:STANDARD
TZOFFSETFROM:-0400
TZOFFSETTO:-0500
TZNAME:EST
DTSTART:20241103T060000
END:STANDARD
BEGIN:DAYLIGHT
TZOFFSETFROM:-0500
TZOFFSETTO:-0400
TZNAME:EDT
DTSTART:20250309T070000
END:DAYLIGHT
BEGIN:STANDARD
TZOFFSETFROM:-0400
TZOFFSETTO:-0500
TZNAME:EST
DTSTART:20251102T060000
END:STANDARD
END:VTIMEZONE
BEGIN:VTIMEZONE
TZID:America/New_York
BEGIN:DAYLIGHT
TZOFFSETFROM:-0500
TZOFFSETTO:-0400
TZNAME:EDT
DTSTART:20230312T070000
END:DAYLIGHT
BEGIN:STANDARD
TZOFFSETFROM:-0400
TZOFFSETTO:-0500
TZNAME:EST
DTSTART:20231105T060000
END:STANDARD
BEGIN:DAYLIGHT
TZOFFSETFROM:-0500
TZOFFSETTO:-0400
TZNAME:EDT
DTSTART:20240310T070000
END:DAYLIGHT
BEGIN:STANDARD
TZOFFSETFROM:-0400
TZOFFSETTO:-0500
TZNAME:EST
DTSTART:20241103T060000
END:STANDARD
BEGIN:DAYLIGHT
TZOFFSETFROM:-0500
TZOFFSETTO:-0400
TZNAME:EDT
DTSTART:20250309T070000
END:DAYLIGHT
BEGIN:STANDARD
TZOFFSETFROM:-0400
TZOFFSETTO:-0500
TZNAME:EST
DTSTART:20251102T060000
END:STANDARD
END:VTIMEZONE
BEGIN:VEVENT
DTSTART;TZID=America/Toronto:20241008T090000
DTEND;TZID=America/Toronto:20241008T090000
DTSTAMP:20260419T100305
CREATED:20240930T135228Z
LAST-MODIFIED:20240930T135228Z
UID:26055-1728378000-1728378000@arwrcucc.ca
SUMMARY:ARW Human Resources Commission Meeting
DESCRIPTION:
URL:https://arwrcucc.ca/event/arw-human-resources-commission-meeting-15/
CATEGORIES:Meeting,Online Gathering,Regional Council
END:VEVENT
BEGIN:VEVENT
DTSTART;TZID=America/Toronto:20241008T100000
DTEND;TZID=America/Toronto:20241008T100000
DTSTAMP:20260419T100305
CREATED:20240930T135340Z
LAST-MODIFIED:20240930T135340Z
UID:26057-1728381600-1728381600@arwrcucc.ca
SUMMARY:ARW Discipleship & Justice Meeting
DESCRIPTION:
URL:https://arwrcucc.ca/event/arw-discipleship-justice-meeting-15/
LOCATION:Online via Zoom
CATEGORIES:Meeting
END:VEVENT
BEGIN:VEVENT
DTSTART;TZID=America/New_York:20241008T110000
DTEND;TZID=America/New_York:20241008T130000
DTSTAMP:20260419T100305
CREATED:20240930T135500Z
LAST-MODIFIED:20240930T135500Z
UID:26059-1728385200-1728392400@arwrcucc.ca
SUMMARY:HF Congregational Support Commission
DESCRIPTION:
URL:https://arwrcucc.ca/event/hf-congregational-support-commission-14/
CATEGORIES:Meeting
END:VEVENT
BEGIN:VEVENT
DTSTART;TZID=America/New_York:20241008T190000
DTEND;TZID=America/New_York:20241008T210000
DTSTAMP:20260419T100305
CREATED:20240827T155943Z
LAST-MODIFIED:20240827T161530Z
UID:23848-1728414000-1728421200@arwrcucc.ca
SUMMARY:Search Team Training
DESCRIPTION:Search Team Training\nHas your church begun searching for a new minister? Has a search team been formed? If so\, they will need to be trained. Training can happen in two ways:\n\nWith your liaison\nOnline with Micol Cottrell\, Pastoral Relations Minister (if you have a liaison\, please invite your liaison to attend with you)\n\nTraining is mandatory for all search teams.\nThe online training is two hours and during this time we explore:\n\nThe search process\nWorking to understand and overcome the impact of bias\nThe various types of ministry personnel you will find on ChurchHub\nWhere to find resources for using ChurchHub\nAnd more.\n\nIf you are interested in taking the training online please register at Search Team Training – Formstack.\n\n\n\nThe dates for the fall are the second Tuesday of each month until December: \n\n        Sep 10\, 2024 07:00 PM\n        Oct 8\, 2024 07:00 PM\n        Nov 12\, 2024 07:00 PM\n        Dec 10\, 2024 07:00 PM
URL:https://arwrcucc.ca/event/search-team-training-5/
LOCATION:Online
CATEGORIES:Meeting
ORGANIZER;CN="Micol Cottrell":MAILTO:MCottrell@united-church.ca
END:VEVENT
END:VCALENDAR