BEGIN:VCALENDAR
VERSION:2.0
PRODID:-//Antler River Watershed Regional Council - ECPv6.15.20//NONSGML v1.0//EN
CALSCALE:GREGORIAN
METHOD:PUBLISH
X-WR-CALNAME:Antler River Watershed Regional Council
X-ORIGINAL-URL:https://arwrcucc.ca
X-WR-CALDESC:Events for Antler River Watershed Regional Council
REFRESH-INTERVAL;VALUE=DURATION:PT1H
X-Robots-Tag:noindex
X-PUBLISHED-TTL:PT1H
BEGIN:VTIMEZONE
TZID:America/Toronto
BEGIN:DAYLIGHT
TZOFFSETFROM:-0500
TZOFFSETTO:-0400
TZNAME:EDT
DTSTART:20230312T070000
END:DAYLIGHT
BEGIN:STANDARD
TZOFFSETFROM:-0400
TZOFFSETTO:-0500
TZNAME:EST
DTSTART:20231105T060000
END:STANDARD
BEGIN:DAYLIGHT
TZOFFSETFROM:-0500
TZOFFSETTO:-0400
TZNAME:EDT
DTSTART:20240310T070000
END:DAYLIGHT
BEGIN:STANDARD
TZOFFSETFROM:-0400
TZOFFSETTO:-0500
TZNAME:EST
DTSTART:20241103T060000
END:STANDARD
BEGIN:DAYLIGHT
TZOFFSETFROM:-0500
TZOFFSETTO:-0400
TZNAME:EDT
DTSTART:20250309T070000
END:DAYLIGHT
BEGIN:STANDARD
TZOFFSETFROM:-0400
TZOFFSETTO:-0500
TZNAME:EST
DTSTART:20251102T060000
END:STANDARD
END:VTIMEZONE
BEGIN:VTIMEZONE
TZID:America/New_York
BEGIN:DAYLIGHT
TZOFFSETFROM:-0500
TZOFFSETTO:-0400
TZNAME:EDT
DTSTART:20230312T070000
END:DAYLIGHT
BEGIN:STANDARD
TZOFFSETFROM:-0400
TZOFFSETTO:-0500
TZNAME:EST
DTSTART:20231105T060000
END:STANDARD
BEGIN:DAYLIGHT
TZOFFSETFROM:-0500
TZOFFSETTO:-0400
TZNAME:EDT
DTSTART:20240310T070000
END:DAYLIGHT
BEGIN:STANDARD
TZOFFSETFROM:-0400
TZOFFSETTO:-0500
TZNAME:EST
DTSTART:20241103T060000
END:STANDARD
BEGIN:DAYLIGHT
TZOFFSETFROM:-0500
TZOFFSETTO:-0400
TZNAME:EDT
DTSTART:20250309T070000
END:DAYLIGHT
BEGIN:STANDARD
TZOFFSETFROM:-0400
TZOFFSETTO:-0500
TZNAME:EST
DTSTART:20251102T060000
END:STANDARD
END:VTIMEZONE
BEGIN:VEVENT
DTSTART;TZID=America/Toronto:20241119T100000
DTEND;TZID=America/Toronto:20241119T120000
DTSTAMP:20260419T112926
CREATED:20241031T184521Z
LAST-MODIFIED:20241031T184521Z
UID:26508-1732010400-1732017600@arwrcucc.ca
SUMMARY:WOW Human Resources Commission Meeting
DESCRIPTION:
URL:https://arwrcucc.ca/event/wow-human-resources-commission-meeting-16/
CATEGORIES:Meeting,Online Gathering,Regional Council
END:VEVENT
BEGIN:VEVENT
DTSTART;TZID=America/New_York:20241119T140000
DTEND;TZID=America/New_York:20241119T150000
DTSTAMP:20260419T112926
CREATED:20241105T150029Z
LAST-MODIFIED:20241105T150029Z
UID:26575-1732024800-1732028400@arwrcucc.ca
SUMMARY:ARW Online Clergy Gathering
DESCRIPTION:
URL:https://arwrcucc.ca/event/arw-online-clergy-gathering-9/
LOCATION:Online via Zoom
CATEGORIES:Clergy Gathering,Event,Learning Opportunity,Meeting,Ministry Personnel,Online Gathering
ATTACH;FMTTYPE=image/png:https://arwrcucc.ca/wp-content/uploads/2024/11/KS-November-2024.png
ORGANIZER;CN="Kevin Steeper":MAILTO:mailto:KSteeper@united-church.ca
END:VEVENT
END:VCALENDAR