BEGIN:VCALENDAR
VERSION:2.0
PRODID:-//Antler River Watershed Regional Council - ECPv6.15.20//NONSGML v1.0//EN
CALSCALE:GREGORIAN
METHOD:PUBLISH
X-ORIGINAL-URL:https://arwrcucc.ca
X-WR-CALDESC:Events for Antler River Watershed Regional Council
REFRESH-INTERVAL;VALUE=DURATION:PT1H
X-Robots-Tag:noindex
X-PUBLISHED-TTL:PT1H
BEGIN:VTIMEZONE
TZID:America/Toronto
BEGIN:DAYLIGHT
TZOFFSETFROM:-0500
TZOFFSETTO:-0400
TZNAME:EDT
DTSTART:20230312T070000
END:DAYLIGHT
BEGIN:STANDARD
TZOFFSETFROM:-0400
TZOFFSETTO:-0500
TZNAME:EST
DTSTART:20231105T060000
END:STANDARD
BEGIN:DAYLIGHT
TZOFFSETFROM:-0500
TZOFFSETTO:-0400
TZNAME:EDT
DTSTART:20240310T070000
END:DAYLIGHT
BEGIN:STANDARD
TZOFFSETFROM:-0400
TZOFFSETTO:-0500
TZNAME:EST
DTSTART:20241103T060000
END:STANDARD
BEGIN:DAYLIGHT
TZOFFSETFROM:-0500
TZOFFSETTO:-0400
TZNAME:EDT
DTSTART:20250309T070000
END:DAYLIGHT
BEGIN:STANDARD
TZOFFSETFROM:-0400
TZOFFSETTO:-0500
TZNAME:EST
DTSTART:20251102T060000
END:STANDARD
END:VTIMEZONE
BEGIN:VTIMEZONE
TZID:America/New_York
BEGIN:DAYLIGHT
TZOFFSETFROM:-0500
TZOFFSETTO:-0400
TZNAME:EDT
DTSTART:20230312T070000
END:DAYLIGHT
BEGIN:STANDARD
TZOFFSETFROM:-0400
TZOFFSETTO:-0500
TZNAME:EST
DTSTART:20231105T060000
END:STANDARD
BEGIN:DAYLIGHT
TZOFFSETFROM:-0500
TZOFFSETTO:-0400
TZNAME:EDT
DTSTART:20240310T070000
END:DAYLIGHT
BEGIN:STANDARD
TZOFFSETFROM:-0400
TZOFFSETTO:-0500
TZNAME:EST
DTSTART:20241103T060000
END:STANDARD
BEGIN:DAYLIGHT
TZOFFSETFROM:-0500
TZOFFSETTO:-0400
TZNAME:EDT
DTSTART:20250309T070000
END:DAYLIGHT
BEGIN:STANDARD
TZOFFSETFROM:-0400
TZOFFSETTO:-0500
TZNAME:EST
DTSTART:20251102T060000
END:STANDARD
END:VTIMEZONE
BEGIN:VEVENT
DTSTART;TZID=America/Toronto:20240905T093000
DTEND;TZID=America/Toronto:20240905T113000
DTSTAMP:20260419T173943
CREATED:20240829T152249Z
LAST-MODIFIED:20240829T152249Z
UID:23885-1725528600-1725535800@arwrcucc.ca
SUMMARY:Regional Council Staff Meeting
DESCRIPTION:
URL:https://arwrcucc.ca/event/regional-council-staff-meeting-57/
LOCATION:Online via Zoom
CATEGORIES:Event,Meeting
END:VEVENT
BEGIN:VEVENT
DTSTART;TZID=America/Toronto:20240910T090000
DTEND;TZID=America/Toronto:20240910T090000
DTSTAMP:20260419T173943
CREATED:20240829T152731Z
LAST-MODIFIED:20240829T152731Z
UID:23891-1725958800-1725958800@arwrcucc.ca
SUMMARY:ARW Human Resources Commission Meeting
DESCRIPTION:
URL:https://arwrcucc.ca/event/arw-human-resources-commission-meeting-14/
CATEGORIES:Meeting,Online Gathering,Regional Council
END:VEVENT
BEGIN:VEVENT
DTSTART;TZID=America/Toronto:20240910T100000
DTEND;TZID=America/Toronto:20240910T100000
DTSTAMP:20260419T173943
CREATED:20240829T153130Z
LAST-MODIFIED:20240829T153130Z
UID:23895-1725962400-1725962400@arwrcucc.ca
SUMMARY:ARW Discipleship & Justice Meeting
DESCRIPTION:
URL:https://arwrcucc.ca/event/arw-discipleship-justice-meeting-14/
LOCATION:Online via Zoom
CATEGORIES:Meeting
END:VEVENT
BEGIN:VEVENT
DTSTART;TZID=America/New_York:20240910T190000
DTEND;TZID=America/New_York:20240910T210000
DTSTAMP:20260419T173943
CREATED:20240827T155912Z
LAST-MODIFIED:20240827T161616Z
UID:23846-1725994800-1726002000@arwrcucc.ca
SUMMARY:Search Team Training
DESCRIPTION:Search Team Training\nHas your church begun searching for a new minister? Has a search team been formed? If so\, they will need to be trained. Training can happen in two ways:\n\nWith your liaison\nOnline with Micol Cottrell\, Pastoral Relations Minister (if you have a liaison\, please invite your liaison to attend with you)\n\nTraining is mandatory for all search teams.\nThe online training is two hours and during this time we explore:\n\nThe search process\nWorking to understand and overcome the impact of bias\nThe various types of ministry personnel you will find on ChurchHub\nWhere to find resources for using ChurchHub\nAnd more.\n\nIf you are interested in taking the training online please register at Search Team Training – Formstack.\n\n\n\nThe dates for the fall are the second Tuesday of each month until December: \n\n        Sep 10\, 2024 07:00 PM\n        Oct 8\, 2024 07:00 PM\n        Nov 12\, 2024 07:00 PM\n        Dec 10\, 2024 07:00 PM
URL:https://arwrcucc.ca/event/search-team-training-4/
LOCATION:Online
CATEGORIES:Meeting
ORGANIZER;CN="Micol Cottrell":MAILTO:MCottrell@united-church.ca
END:VEVENT
BEGIN:VEVENT
DTSTART;TZID=America/New_York:20240910T190000
DTEND;TZID=America/New_York:20240910T210000
DTSTAMP:20260419T173943
CREATED:20240829T152929Z
LAST-MODIFIED:20240829T152929Z
UID:23893-1725994800-1726002000@arwrcucc.ca
SUMMARY:HF Congregational Support Commission
DESCRIPTION:
URL:https://arwrcucc.ca/event/hf-congregational-support-commission-13/
CATEGORIES:Meeting
END:VEVENT
BEGIN:VEVENT
DTSTART;TZID=America/New_York:20240911T100000
DTEND;TZID=America/New_York:20240911T100000
DTSTAMP:20260419T173943
CREATED:20240829T153312Z
LAST-MODIFIED:20240829T153312Z
UID:23897-1726048800-1726048800@arwrcucc.ca
SUMMARY:ARW Regional Council Executive Meeting
DESCRIPTION:
URL:https://arwrcucc.ca/event/arw-regional-council-executive-meeting-9/
CATEGORIES:Meeting
END:VEVENT
BEGIN:VEVENT
DTSTART;TZID=America/New_York:20240912T130000
DTEND;TZID=America/New_York:20240912T130000
DTSTAMP:20260419T173943
CREATED:20240829T153458Z
LAST-MODIFIED:20240829T153458Z
UID:23899-1726146000-1726146000@arwrcucc.ca
SUMMARY:WOW Congregational Support Commission
DESCRIPTION:
URL:https://arwrcucc.ca/event/wow-congregational-support-commission-14/
CATEGORIES:Meeting
END:VEVENT
BEGIN:VEVENT
DTSTART;TZID=America/Toronto:20240917T100000
DTEND;TZID=America/Toronto:20240917T120000
DTSTAMP:20260419T173943
CREATED:20240829T153632Z
LAST-MODIFIED:20240829T153632Z
UID:23901-1726567200-1726574400@arwrcucc.ca
SUMMARY:WOW Human Resources Commission Meeting
DESCRIPTION:
URL:https://arwrcucc.ca/event/wow-human-resources-commission-meeting-14/
CATEGORIES:Meeting,Online Gathering,Regional Council
END:VEVENT
BEGIN:VEVENT
DTSTART;TZID=America/New_York:20240918T093000
DTEND;TZID=America/New_York:20240918T093000
DTSTAMP:20260419T173943
CREATED:20240829T153826Z
LAST-MODIFIED:20240829T153826Z
UID:23903-1726651800-1726651800@arwrcucc.ca
SUMMARY:WOW Regional Council Executive Meeting
DESCRIPTION:
URL:https://arwrcucc.ca/event/wow-regional-council-executive-meeting-9/
CATEGORIES:Meeting
END:VEVENT
BEGIN:VEVENT
DTSTART;TZID=America/Toronto:20240918T190000
DTEND;TZID=America/Toronto:20240918T200000
DTSTAMP:20260419T173943
CREATED:20240628T180907Z
LAST-MODIFIED:20240628T180907Z
UID:14799-1726686000-1726689600@arwrcucc.ca
SUMMARY:Ask An Expert
DESCRIPTION:We’re trying something new. We’re introducing an Ask An Expert series in partnership with the General Council Office. You ask the questions\, and we’ll provide the expertise. \nWho are the experts? Well\, it depends on the topic and staff availability. \nMaybe you want to know more about the insurance partnership between the GCO and Communities of Faith. Or what you do when the local newspaper calls (or when you want to get a good story out). Or what the new government relations officer does. Or what the cost-of-living-adjustment is. \nIt’s kind of like a Pick-Your-Own-Adventure book. Here’s how it works: \n1. You send us your questions here: https://forms.office.com/r/q7UM9spU9z \n2. We find the expert who can answer them. \n3. We all tune in on Wednesday September 18th\, 7-8 p.m. by Zoom here: https://united-church.zoom.us/j/89972136949 \n4. As many questions will be answered as can be within the allotted time. Unanswered questions will carry over to the next session\, or we’ll answer them on our Regional Council Facebook group. \n5. Tough questions are okay. We’ll do our best to answer them\, and if we can’t on the spot\, we’ll follow up with the right information. \nSo\, pick your adventure. Will it be insurance? Or grants? Climate justice? Governance? Media relations? Government relations? Global partnerships? Or something else? \nYou pick. Ask your question here: https://forms.office.com/r/q7UM9spU9z.  Join us on Wednesday September 18th at 7 p.m. to get an answer in real time. Don’t have a question right now? Listeners welcome! \nThis session will be facilitated by: Michelle Owens
URL:https://arwrcucc.ca/event/ask-an-expert/
LOCATION:Online via Zoom
CATEGORIES:2SLGBTQIA,Affirming,Anti-Racism,Camps & Retreats,Climate Change,Community,Event,General Council,Indigenous Justice,Kids and Youth,Learning Opportunity,Meeting,Ministry Personnel,Mission Support Grants,Music,Online Gathering,Regional Council,Social Justice,Speakers,Staff,Stewardship,Training,UCW
ATTACH;FMTTYPE=image/png:https://arwrcucc.ca/wp-content/uploads/2024/06/Ask-An-Expert-v5.png
END:VEVENT
BEGIN:VEVENT
DTSTART;TZID=America/Toronto:20240920T093000
DTEND;TZID=America/Toronto:20240920T113000
DTSTAMP:20260419T173943
CREATED:20240829T152333Z
LAST-MODIFIED:20240905T150136Z
UID:23887-1726824600-1726831800@arwrcucc.ca
SUMMARY:Regional Council Staff Meeting
DESCRIPTION:
URL:https://arwrcucc.ca/event/regional-council-staff-meeting-58/
LOCATION:Online via Zoom
CATEGORIES:Event,Meeting
END:VEVENT
BEGIN:VEVENT
DTSTART;TZID=America/Toronto:20240925T130000
DTEND;TZID=America/Toronto:20240925T130000
DTSTAMP:20260419T173943
CREATED:20240829T153941Z
LAST-MODIFIED:20240829T153941Z
UID:23905-1727269200-1727269200@arwrcucc.ca
SUMMARY:HF Human Resources Commission Meeting
DESCRIPTION:
URL:https://arwrcucc.ca/event/hf-human-resources-commission-meeting-12/
CATEGORIES:Meeting,Regional Council
END:VEVENT
BEGIN:VEVENT
DTSTART;TZID=America/New_York:20240925T160000
DTEND;TZID=America/New_York:20240925T160000
DTSTAMP:20260419T173943
CREATED:20240829T154232Z
LAST-MODIFIED:20240829T154232Z
UID:23907-1727280000-1727280000@arwrcucc.ca
SUMMARY:HF Regional Council Executive Meeting
DESCRIPTION:
URL:https://arwrcucc.ca/event/hf-regional-council-executive-meeting-8/
CATEGORIES:Meeting
END:VEVENT
BEGIN:VEVENT
DTSTART;TZID=America/New_York:20240925T183000
DTEND;TZID=America/New_York:20240925T183000
DTSTAMP:20260419T173943
CREATED:20250829T170302Z
LAST-MODIFIED:20250829T170302Z
UID:31496-1727289000-1727289000@arwrcucc.ca
SUMMARY:HF Discipleship and Justice Meeting
DESCRIPTION:
URL:https://arwrcucc.ca/event/hf-discipleship-and-justice-meeting-5/
CATEGORIES:Meeting
END:VEVENT
BEGIN:VEVENT
DTSTART;TZID=America/Toronto:20240926T140000
DTEND;TZID=America/Toronto:20240926T150000
DTSTAMP:20260419T173943
CREATED:20240830T163229Z
LAST-MODIFIED:20240830T163229Z
UID:23937-1727359200-1727362800@arwrcucc.ca
SUMMARY:Tri-Regional Representatives Gathering
DESCRIPTION:Join together with Regional Reps from across the Tri-Regions.\nThursday September 26\, 2024\, from 2:00 – 3:00 PM \nWe will be spending time on: \n\nGetting to know each other\nOrientation to the Regional Rep Role\nQuestions\nOpen discussion\n\nPlease send any questions ahead of time to John Neff \nJoin Zoom Meeting\nhttps://united-church.zoom.us/j/82045257636?pwd=Wp8oCbHqjON3ZrgInDYNHw4JdKiOPG.1 \nMeeting ID: 820 4525 7636\nPassword: 305621
URL:https://arwrcucc.ca/event/tri-regional-representatives-gathering/
CATEGORIES:Event,Meeting
END:VEVENT
BEGIN:VEVENT
DTSTART;TZID=America/New_York:20241002T090000
DTEND;TZID=America/New_York:20241002T110000
DTSTAMP:20260419T173943
CREATED:20240930T134835Z
LAST-MODIFIED:20240930T134835Z
UID:26047-1727859600-1727866800@arwrcucc.ca
SUMMARY:ARW Congregational Support Commission
DESCRIPTION:
URL:https://arwrcucc.ca/event/arw-congregational-support-commission-9/
CATEGORIES:Meeting
END:VEVENT
BEGIN:VEVENT
DTSTART;TZID=America/Toronto:20241003T093000
DTEND;TZID=America/Toronto:20241003T113000
DTSTAMP:20260419T173943
CREATED:20240930T134949Z
LAST-MODIFIED:20240930T134949Z
UID:26049-1727947800-1727955000@arwrcucc.ca
SUMMARY:Regional Council Staff Meeting
DESCRIPTION:
URL:https://arwrcucc.ca/event/regional-council-staff-meeting-59/
LOCATION:Online via Zoom
CATEGORIES:Event,Meeting
END:VEVENT
BEGIN:VEVENT
DTSTART;TZID=America/Toronto:20241003T140000
DTEND;TZID=America/Toronto:20241003T160000
DTSTAMP:20260419T173943
CREATED:20240904T141651Z
LAST-MODIFIED:20240904T141651Z
UID:24071-1727964000-1727971200@arwrcucc.ca
SUMMARY:Ministry and Personnel The Basics Workshop
DESCRIPTION:‘The Basics’: Ministry & Personnel Committee Workshops\nOnline by Zoom\, Upcoming dates:\nOctober 3rd\, December 5th\, February 6th\, April 3rd\nwith Micol Cottrell\, Minister\, Pastoral Relations \n\nOrdered ministers and designated lay ministers while in paid accountable ministry positions are office holders within The United Church of Canada. While there may be elements similar to employment\, the essential nature of the relationship is a covenant.  \n~ Statement on Ministry in The United Church of Canada (2012) \n\nNew members are often elected to the vital Ministry & Personnel Committee near the start of the year\, although M&P Committee membership can change for many other reasons throughout the year. \nThe Basics will help a new member learn the essentials of this crucial role. More experienced members of M&P Committees are invited to take this workshop as a refresher with their team\, and keep up with changing United Church practices and policies. This workshop is open to members from Western Ontario Waterways\, Antler River Watershed and Horseshoe Falls Regional Councils! \nPlease Note: each member of your M&P Committee attending this workshop is required to register. \nIn your Confirmation Email\, you will receive the Zoom link and material in preparation for the meeting to make the most of our time together. If you have questions about the content\, please email Micol Cottrell\, Minister\, Pastoral Relations\, at MCottrell@united-church.ca\, or better yet\, write down the questions to bring with you.
URL:https://arwrcucc.ca/event/ministry-and-personnel-the-basics-workshop/
LOCATION:Online via Zoom
CATEGORIES:Event,Meeting,Training
END:VEVENT
BEGIN:VEVENT
DTSTART;VALUE=DATE:20241004
DTEND;VALUE=DATE:20241006
DTSTAMP:20260419T173943
CREATED:20240603T143436Z
LAST-MODIFIED:20240603T143436Z
UID:14489-1728000000-1728172799@arwrcucc.ca
SUMMARY:HF Regional Council Fall Meeting (online)
DESCRIPTION:Fall 2024 Meeting\n\nHFRC Fall Meeting (online): October 4-5\, 2024 \nCelebration of Ministries: To be confirmed
URL:https://arwrcucc.ca/event/hf-regional-council-fall-meeting-online/
LOCATION:Online via Zoom
CATEGORIES:Community,Event,Learning Opportunity,Meeting,Ministry Personnel,Music,Online Gathering,Regional Council,Registration,Speakers
END:VEVENT
BEGIN:VEVENT
DTSTART;TZID=America/Toronto:20241008T090000
DTEND;TZID=America/Toronto:20241008T090000
DTSTAMP:20260419T173943
CREATED:20240930T135228Z
LAST-MODIFIED:20240930T135228Z
UID:26055-1728378000-1728378000@arwrcucc.ca
SUMMARY:ARW Human Resources Commission Meeting
DESCRIPTION:
URL:https://arwrcucc.ca/event/arw-human-resources-commission-meeting-15/
CATEGORIES:Meeting,Online Gathering,Regional Council
END:VEVENT
BEGIN:VEVENT
DTSTART;TZID=America/Toronto:20241008T100000
DTEND;TZID=America/Toronto:20241008T100000
DTSTAMP:20260419T173943
CREATED:20240930T135340Z
LAST-MODIFIED:20240930T135340Z
UID:26057-1728381600-1728381600@arwrcucc.ca
SUMMARY:ARW Discipleship & Justice Meeting
DESCRIPTION:
URL:https://arwrcucc.ca/event/arw-discipleship-justice-meeting-15/
LOCATION:Online via Zoom
CATEGORIES:Meeting
END:VEVENT
BEGIN:VEVENT
DTSTART;TZID=America/New_York:20241008T110000
DTEND;TZID=America/New_York:20241008T130000
DTSTAMP:20260419T173943
CREATED:20240930T135500Z
LAST-MODIFIED:20240930T135500Z
UID:26059-1728385200-1728392400@arwrcucc.ca
SUMMARY:HF Congregational Support Commission
DESCRIPTION:
URL:https://arwrcucc.ca/event/hf-congregational-support-commission-14/
CATEGORIES:Meeting
END:VEVENT
BEGIN:VEVENT
DTSTART;TZID=America/New_York:20241008T190000
DTEND;TZID=America/New_York:20241008T210000
DTSTAMP:20260419T173943
CREATED:20240827T155943Z
LAST-MODIFIED:20240827T161530Z
UID:23848-1728414000-1728421200@arwrcucc.ca
SUMMARY:Search Team Training
DESCRIPTION:Search Team Training\nHas your church begun searching for a new minister? Has a search team been formed? If so\, they will need to be trained. Training can happen in two ways:\n\nWith your liaison\nOnline with Micol Cottrell\, Pastoral Relations Minister (if you have a liaison\, please invite your liaison to attend with you)\n\nTraining is mandatory for all search teams.\nThe online training is two hours and during this time we explore:\n\nThe search process\nWorking to understand and overcome the impact of bias\nThe various types of ministry personnel you will find on ChurchHub\nWhere to find resources for using ChurchHub\nAnd more.\n\nIf you are interested in taking the training online please register at Search Team Training – Formstack.\n\n\n\nThe dates for the fall are the second Tuesday of each month until December: \n\n        Sep 10\, 2024 07:00 PM\n        Oct 8\, 2024 07:00 PM\n        Nov 12\, 2024 07:00 PM\n        Dec 10\, 2024 07:00 PM
URL:https://arwrcucc.ca/event/search-team-training-5/
LOCATION:Online
CATEGORIES:Meeting
ORGANIZER;CN="Micol Cottrell":MAILTO:MCottrell@united-church.ca
END:VEVENT
BEGIN:VEVENT
DTSTART;TZID=America/New_York:20241009T100000
DTEND;TZID=America/New_York:20241009T120000
DTSTAMP:20260419T173943
CREATED:20240930T135614Z
LAST-MODIFIED:20240930T135614Z
UID:26061-1728468000-1728475200@arwrcucc.ca
SUMMARY:ARW Regional Council Executive Meeting
DESCRIPTION:
URL:https://arwrcucc.ca/event/arw-regional-council-executive-meeting-10/
CATEGORIES:Meeting
END:VEVENT
BEGIN:VEVENT
DTSTART;TZID=America/New_York:20241010T130000
DTEND;TZID=America/New_York:20241010T130000
DTSTAMP:20260419T173943
CREATED:20240930T135744Z
LAST-MODIFIED:20240930T135744Z
UID:26063-1728565200-1728565200@arwrcucc.ca
SUMMARY:WOW Congregational Support Commission
DESCRIPTION:
URL:https://arwrcucc.ca/event/wow-congregational-support-commission-15/
CATEGORIES:Meeting
END:VEVENT
BEGIN:VEVENT
DTSTART;TZID=America/Toronto:20241015T100000
DTEND;TZID=America/Toronto:20241015T120000
DTSTAMP:20260419T173943
CREATED:20240930T135847Z
LAST-MODIFIED:20240930T135847Z
UID:26065-1728986400-1728993600@arwrcucc.ca
SUMMARY:WOW Human Resources Commission Meeting
DESCRIPTION:
URL:https://arwrcucc.ca/event/wow-human-resources-commission-meeting-15/
CATEGORIES:Meeting,Online Gathering,Regional Council
END:VEVENT
BEGIN:VEVENT
DTSTART;TZID=America/New_York:20241016T093000
DTEND;TZID=America/New_York:20241016T093000
DTSTAMP:20260419T173943
CREATED:20240930T135934Z
LAST-MODIFIED:20240930T135934Z
UID:26067-1729071000-1729071000@arwrcucc.ca
SUMMARY:WOW Regional Council Executive Meeting
DESCRIPTION:
URL:https://arwrcucc.ca/event/wow-regional-council-executive-meeting-10/
CATEGORIES:Meeting
END:VEVENT
BEGIN:VEVENT
DTSTART;TZID=America/Toronto:20241017T093000
DTEND;TZID=America/Toronto:20241017T113000
DTSTAMP:20260419T173943
CREATED:20240930T135026Z
LAST-MODIFIED:20240930T135026Z
UID:26051-1729157400-1729164600@arwrcucc.ca
SUMMARY:Regional Council Staff Meeting
DESCRIPTION:
URL:https://arwrcucc.ca/event/regional-council-staff-meeting-60/
LOCATION:Online via Zoom
CATEGORIES:Event,Meeting
END:VEVENT
BEGIN:VEVENT
DTSTART;TZID=America/New_York:20241022T140000
DTEND;TZID=America/New_York:20241022T150000
DTSTAMP:20260419T173943
CREATED:20241009T141158Z
LAST-MODIFIED:20241009T141158Z
UID:26222-1729605600-1729609200@arwrcucc.ca
SUMMARY:ARW Online Clergy Gathering
DESCRIPTION:
URL:https://arwrcucc.ca/event/arw-online-clergy-gathering-8/
LOCATION:Online via Zoom
CATEGORIES:Clergy Gathering,Event,Learning Opportunity,Meeting,Ministry Personnel,Online Gathering
ATTACH;FMTTYPE=image/png:https://arwrcucc.ca/wp-content/uploads/2024/10/October-2024.png
ORGANIZER;CN="Kevin Steeper":MAILTO:mailto:KSteeper@united-church.ca
END:VEVENT
BEGIN:VEVENT
DTSTART;TZID=America/Toronto:20241023T130000
DTEND;TZID=America/Toronto:20241023T130000
DTSTAMP:20260419T173943
CREATED:20240930T140029Z
LAST-MODIFIED:20240930T140029Z
UID:26069-1729688400-1729688400@arwrcucc.ca
SUMMARY:HF Human Resources Commission Meeting
DESCRIPTION:
URL:https://arwrcucc.ca/event/hf-human-resources-commission-meeting-13/
CATEGORIES:Meeting,Regional Council
END:VEVENT
END:VCALENDAR