BEGIN:VCALENDAR
VERSION:2.0
PRODID:-//Antler River Watershed Regional Council - ECPv6.15.20//NONSGML v1.0//EN
CALSCALE:GREGORIAN
METHOD:PUBLISH
X-ORIGINAL-URL:https://arwrcucc.ca
X-WR-CALDESC:Events for Antler River Watershed Regional Council
REFRESH-INTERVAL;VALUE=DURATION:PT1H
X-Robots-Tag:noindex
X-PUBLISHED-TTL:PT1H
BEGIN:VTIMEZONE
TZID:America/New_York
BEGIN:DAYLIGHT
TZOFFSETFROM:-0500
TZOFFSETTO:-0400
TZNAME:EDT
DTSTART:20230312T070000
END:DAYLIGHT
BEGIN:STANDARD
TZOFFSETFROM:-0400
TZOFFSETTO:-0500
TZNAME:EST
DTSTART:20231105T060000
END:STANDARD
BEGIN:DAYLIGHT
TZOFFSETFROM:-0500
TZOFFSETTO:-0400
TZNAME:EDT
DTSTART:20240310T070000
END:DAYLIGHT
BEGIN:STANDARD
TZOFFSETFROM:-0400
TZOFFSETTO:-0500
TZNAME:EST
DTSTART:20241103T060000
END:STANDARD
BEGIN:DAYLIGHT
TZOFFSETFROM:-0500
TZOFFSETTO:-0400
TZNAME:EDT
DTSTART:20250309T070000
END:DAYLIGHT
BEGIN:STANDARD
TZOFFSETFROM:-0400
TZOFFSETTO:-0500
TZNAME:EST
DTSTART:20251102T060000
END:STANDARD
BEGIN:DAYLIGHT
TZOFFSETFROM:-0500
TZOFFSETTO:-0400
TZNAME:EDT
DTSTART:20260308T070000
END:DAYLIGHT
BEGIN:STANDARD
TZOFFSETFROM:-0400
TZOFFSETTO:-0500
TZNAME:EST
DTSTART:20261101T060000
END:STANDARD
END:VTIMEZONE
BEGIN:VTIMEZONE
TZID:America/Toronto
BEGIN:DAYLIGHT
TZOFFSETFROM:-0500
TZOFFSETTO:-0400
TZNAME:EDT
DTSTART:20230312T070000
END:DAYLIGHT
BEGIN:STANDARD
TZOFFSETFROM:-0400
TZOFFSETTO:-0500
TZNAME:EST
DTSTART:20231105T060000
END:STANDARD
BEGIN:DAYLIGHT
TZOFFSETFROM:-0500
TZOFFSETTO:-0400
TZNAME:EDT
DTSTART:20240310T070000
END:DAYLIGHT
BEGIN:STANDARD
TZOFFSETFROM:-0400
TZOFFSETTO:-0500
TZNAME:EST
DTSTART:20241103T060000
END:STANDARD
BEGIN:DAYLIGHT
TZOFFSETFROM:-0500
TZOFFSETTO:-0400
TZNAME:EDT
DTSTART:20250309T070000
END:DAYLIGHT
BEGIN:STANDARD
TZOFFSETFROM:-0400
TZOFFSETTO:-0500
TZNAME:EST
DTSTART:20251102T060000
END:STANDARD
BEGIN:DAYLIGHT
TZOFFSETFROM:-0500
TZOFFSETTO:-0400
TZNAME:EDT
DTSTART:20260308T070000
END:DAYLIGHT
BEGIN:STANDARD
TZOFFSETFROM:-0400
TZOFFSETTO:-0500
TZNAME:EST
DTSTART:20261101T060000
END:STANDARD
END:VTIMEZONE
BEGIN:VEVENT
DTSTART;TZID=America/New_York:20241112T190000
DTEND;TZID=America/New_York:20241112T190000
DTSTAMP:20260419T173959
CREATED:20241031T183935Z
LAST-MODIFIED:20241031T183935Z
UID:26498-1731438000-1731438000@arwrcucc.ca
SUMMARY:HF Congregational Support Commission
DESCRIPTION:
URL:https://arwrcucc.ca/event/hf-congregational-support-commission-15/
CATEGORIES:Meeting
END:VEVENT
BEGIN:VEVENT
DTSTART;TZID=America/New_York:20241112T190000
DTEND;TZID=America/New_York:20241112T210000
DTSTAMP:20260419T173959
CREATED:20240827T160020Z
LAST-MODIFIED:20240827T161448Z
UID:23850-1731438000-1731445200@arwrcucc.ca
SUMMARY:Search Team Training
DESCRIPTION:Search Team Training\nHas your church begun searching for a new minister? Has a search team been formed? If so\, they will need to be trained. Training can happen in two ways:\n\nWith your liaison\nOnline with Micol Cottrell\, Pastoral Relations Minister (if you have a liaison\, please invite your liaison to attend with you)\n\nTraining is mandatory for all search teams.\nThe online training is two hours and during this time we explore:\n\nThe search process\nWorking to understand and overcome the impact of bias\nThe various types of ministry personnel you will find on ChurchHub\nWhere to find resources for using ChurchHub\nAnd more.\n\nIf you are interested in taking the training online please register at Search Team Training – Formstack.\n\n\n\nThe dates for the fall are the second Tuesday of each month until December: \n\n        Sep 10\, 2024 07:00 PM\n        Oct 8\, 2024 07:00 PM\n        Nov 12\, 2024 07:00 PM\n        Dec 10\, 2024 07:00 PM
URL:https://arwrcucc.ca/event/search-team-training-6/
LOCATION:Online
CATEGORIES:Meeting
ORGANIZER;CN="Micol Cottrell":MAILTO:MCottrell@united-church.ca
END:VEVENT
BEGIN:VEVENT
DTSTART;TZID=America/New_York:20241113T100000
DTEND;TZID=America/New_York:20241113T120000
DTSTAMP:20260419T173959
CREATED:20241031T184033Z
LAST-MODIFIED:20241031T184033Z
UID:26500-1731492000-1731499200@arwrcucc.ca
SUMMARY:ARW Regional Council Executive Meeting
DESCRIPTION:
URL:https://arwrcucc.ca/event/arw-regional-council-executive-meeting-11/
CATEGORIES:Meeting
END:VEVENT
BEGIN:VEVENT
DTSTART;TZID=America/Toronto:20241113T130000
DTEND;TZID=America/Toronto:20241113T141500
DTSTAMP:20260419T173959
CREATED:20241017T192137Z
LAST-MODIFIED:20241017T192137Z
UID:26284-1731502800-1731507300@arwrcucc.ca
SUMMARY:Advent/Christmas Round Table - Planning for All Ages
DESCRIPTION:
URL:https://arwrcucc.ca/event/advent-christmas-round-table-planning-for-all-ages-2/
LOCATION:Online via Zoom
CATEGORIES:Community,Event,Events,Kids and Youth,Learning Opportunity,Meeting,Online Gathering
ATTACH;FMTTYPE=image/png:https://arwrcucc.ca/wp-content/uploads/2024/10/AdventXmasRoundtable.png
ORGANIZER;CN="Kathy Douglas":MAILTO:kdouglas@united-church.ca
END:VEVENT
BEGIN:VEVENT
DTSTART;TZID=America/Toronto:20241114T093000
DTEND;TZID=America/Toronto:20241114T113000
DTSTAMP:20260419T173959
CREATED:20241031T184120Z
LAST-MODIFIED:20241031T184120Z
UID:26502-1731576600-1731583800@arwrcucc.ca
SUMMARY:Regional Council Staff Meeting
DESCRIPTION:
URL:https://arwrcucc.ca/event/regional-council-staff-meeting-62/
LOCATION:Online via Zoom
CATEGORIES:Event,Meeting
END:VEVENT
BEGIN:VEVENT
DTSTART;TZID=America/New_York:20241114T130000
DTEND;TZID=America/New_York:20241114T130000
DTSTAMP:20260419T173959
CREATED:20241031T184334Z
LAST-MODIFIED:20241031T184334Z
UID:26506-1731589200-1731589200@arwrcucc.ca
SUMMARY:WOW Congregational Support Commission
DESCRIPTION:
URL:https://arwrcucc.ca/event/wow-congregational-support-commission-16/
CATEGORIES:Meeting
END:VEVENT
BEGIN:VEVENT
DTSTART;VALUE=DATE:20241116
DTEND;VALUE=DATE:20241118
DTSTAMP:20260419T173959
CREATED:20240603T143605Z
LAST-MODIFIED:20240603T143605Z
UID:14491-1731715200-1731887999@arwrcucc.ca
SUMMARY:WOW Regional Council Fall Meeting (online)
DESCRIPTION:Fall 2024 Meeting\n\nWOWRC Fall Meeting (online): November 16-17\, 2024 \nCelebration of Ministries: To be confirmed
URL:https://arwrcucc.ca/event/wow-regional-council-fall-meeting-online/
LOCATION:Online via Zoom
CATEGORIES:Community,Event,Learning Opportunity,Meeting,Ministry Personnel,Online Gathering,Regional Council,Speakers
END:VEVENT
BEGIN:VEVENT
DTSTART;TZID=America/Toronto:20241119T100000
DTEND;TZID=America/Toronto:20241119T120000
DTSTAMP:20260419T173959
CREATED:20241031T184521Z
LAST-MODIFIED:20241031T184521Z
UID:26508-1732010400-1732017600@arwrcucc.ca
SUMMARY:WOW Human Resources Commission Meeting
DESCRIPTION:
URL:https://arwrcucc.ca/event/wow-human-resources-commission-meeting-16/
CATEGORIES:Meeting,Online Gathering,Regional Council
END:VEVENT
BEGIN:VEVENT
DTSTART;TZID=America/New_York:20241119T140000
DTEND;TZID=America/New_York:20241119T150000
DTSTAMP:20260419T173959
CREATED:20241105T150029Z
LAST-MODIFIED:20241105T150029Z
UID:26575-1732024800-1732028400@arwrcucc.ca
SUMMARY:ARW Online Clergy Gathering
DESCRIPTION:
URL:https://arwrcucc.ca/event/arw-online-clergy-gathering-9/
LOCATION:Online via Zoom
CATEGORIES:Clergy Gathering,Event,Learning Opportunity,Meeting,Ministry Personnel,Online Gathering
ATTACH;FMTTYPE=image/png:https://arwrcucc.ca/wp-content/uploads/2024/11/KS-November-2024.png
ORGANIZER;CN="Kevin Steeper":MAILTO:mailto:KSteeper@united-church.ca
END:VEVENT
BEGIN:VEVENT
DTSTART;TZID=America/New_York:20241120T150000
DTEND;TZID=America/New_York:20241120T160000
DTSTAMP:20260419T173959
CREATED:20241105T150141Z
LAST-MODIFIED:20241105T150141Z
UID:26578-1732114800-1732118400@arwrcucc.ca
SUMMARY:HF Online Clergy Gathering
DESCRIPTION:
URL:https://arwrcucc.ca/event/hf-online-clergy-gathering-8/
LOCATION:Online via Zoom
CATEGORIES:Clergy Gathering,Event,Learning Opportunity,Meeting,Ministry Personnel,Online Gathering
ORGANIZER;CN="Kevin Steeper":MAILTO:mailto:KSteeper@united-church.ca
END:VEVENT
BEGIN:VEVENT
DTSTART;TZID=America/New_York:20241121T140000
DTEND;TZID=America/New_York:20241121T150000
DTSTAMP:20260419T173959
CREATED:20241105T150246Z
LAST-MODIFIED:20241105T150605Z
UID:26580-1732197600-1732201200@arwrcucc.ca
SUMMARY:WOW Online Clergy Gathering
DESCRIPTION:
URL:https://arwrcucc.ca/event/wow-online-clergy-gathering-9/
LOCATION:Online via Zoom
CATEGORIES:Clergy Gathering,Event,Learning Opportunity,Meeting,Ministry Personnel,Online Gathering
ORGANIZER;CN="Kevin Steeper":MAILTO:mailto:KSteeper@united-church.ca
END:VEVENT
BEGIN:VEVENT
DTSTART;TZID=America/Toronto:20241127T130000
DTEND;TZID=America/Toronto:20241127T130000
DTSTAMP:20260419T173959
CREATED:20241031T190919Z
LAST-MODIFIED:20241031T190919Z
UID:26510-1732712400-1732712400@arwrcucc.ca
SUMMARY:HF Human Resources Commission Meeting
DESCRIPTION:
URL:https://arwrcucc.ca/event/hf-human-resources-commission-meeting-14/
CATEGORIES:Meeting,Regional Council
END:VEVENT
BEGIN:VEVENT
DTSTART;TZID=America/New_York:20241127T160000
DTEND;TZID=America/New_York:20241127T160000
DTSTAMP:20260419T173959
CREATED:20241031T192832Z
LAST-MODIFIED:20241031T192832Z
UID:26512-1732723200-1732723200@arwrcucc.ca
SUMMARY:HF Regional Council Executive Meeting
DESCRIPTION:
URL:https://arwrcucc.ca/event/hf-regional-council-executive-meeting-10/
CATEGORIES:Meeting
END:VEVENT
BEGIN:VEVENT
DTSTART;TZID=America/Toronto:20241128T093000
DTEND;TZID=America/Toronto:20241128T113000
DTSTAMP:20260419T173959
CREATED:20241031T184244Z
LAST-MODIFIED:20241031T184244Z
UID:26504-1732786200-1732793400@arwrcucc.ca
SUMMARY:Regional Council Staff Meeting
DESCRIPTION:
URL:https://arwrcucc.ca/event/regional-council-staff-meeting-63/
LOCATION:Online via Zoom
CATEGORIES:Event,Meeting
END:VEVENT
BEGIN:VEVENT
DTSTART;TZID=America/New_York:20241128T183000
DTEND;TZID=America/New_York:20241128T203000
DTSTAMP:20260419T173959
CREATED:20241004T153238Z
LAST-MODIFIED:20241017T193528Z
UID:26121-1732818600-1732825800@arwrcucc.ca
SUMMARY:Fishbowl – Cross Generational Discussion
DESCRIPTION:Regional Councils of ARW\, HF and WOW in partnership with The Hub and Trinity UC Kitchener-\nThursday November 28th\, 2024\, 6:30-8:30 (all participants are asked to arrive at 6:40). \nBackground: Post-pandemic\, Youth leaders struggle to put together groups. A message often heard from youth in the church is that what’s being offered doesn’t work for them. Being an intercultural church includes finding ways to bridge communication between different age groups/generations. \nGoal– To offer a forum that brings together youth and Elders in the church– a forum that allows the two groups to hear one another and be heard by one another\, and to consider what might be the Spirit’s invitation to the church for youth ministry at this time. \nFISHBOWL PROCESS: \n8 Youth (teens to twenty-somethings) and 8 Elders (45+) from WOW\, HF and ARW Regional Councils and facilitators will gather via Zoom. \n\nDiscussion questions will invite each to share and listen to experiences of their own youth faith formation\, and hopes and challenges for youth ministry then and now.\nOn each question\, using the Zoom spotlight feature to focus on one group of eight:\n\nYouth will invite one another to share\, while the Elders listen.\nPlaces will be switched\, and the Elders will invite one another to share while the Youth listen.\nFor some questions\, the order might be reversed\, with Elders sharing first\n\n\nAfter two rounds of sharing in separate groups\, Youth and Elders will have an opportunity to reflect together as one group.\n\nEach group will be invited to reflect on what they have heard and consider possible next steps. \nParticipants will be given questions for reflection and feedback\, to be submitted in writing following the session. \nThis is a cross-cultural listening event\, and a pilot project. This session will not focus on problem solving or planning. The focus of this event is to listen and learn about one another as a first step of re-visioning youth ministry in ARW\, HF and WOW in this post-pandemic time. \nAn HONORARIUM of $105 is available for participants who are not otherwise paid for their time in this discussion. \nTo apply\, complete the Application Form : \nhttps://forms.office.com/Pages/ResponsePage.aspx?id=qLUYz3gmEUCTEhXw9xV1dPBWSFWIXSNPila5mgKiAchUM0NLV0kyWUtVM1JXUEcyOUw4QlVaRlVDUS4u \nApplication deadline November 18\, 2024 \n  \nFor more information contact: \nThérèse Samuel tsamuel@united-church.ca \nKathy Douglas kdouglas@united-church.ca \nAdam Cresswell – hubleadership@gmail.com \nAimee Belanger at youthevents@hubcommunity.ca
URL:https://arwrcucc.ca/event/fishbowl-cross-generational-discussion-2/
LOCATION:Online via Zoom
CATEGORIES:2SLGBTQIA,Affirming,Anti-Racism,Community,Event,Kids and Youth,Learning Opportunity,Meeting,Online Gathering,Social Justice
ATTACH;FMTTYPE=image/png:https://arwrcucc.ca/wp-content/uploads/2024/10/Fishbowl2024v2.png
ORGANIZER;CN="Th%C3%A9r%C3%A8se Samuel":MAILTO:tsamuel@united-church.ca
END:VEVENT
BEGIN:VEVENT
DTSTART;TZID=America/New_York:20241204T090000
DTEND;TZID=America/New_York:20241204T110000
DTSTAMP:20260419T173959
CREATED:20241205T154057Z
LAST-MODIFIED:20241205T154057Z
UID:27097-1733302800-1733310000@arwrcucc.ca
SUMMARY:ARW Congregational Support Commission
DESCRIPTION:
URL:https://arwrcucc.ca/event/arw-congregational-support-commission-11/
CATEGORIES:Meeting
END:VEVENT
BEGIN:VEVENT
DTSTART;TZID=America/Toronto:20241205T140000
DTEND;TZID=America/Toronto:20241205T160000
DTSTAMP:20260419T173959
CREATED:20240904T141733Z
LAST-MODIFIED:20240904T141733Z
UID:24073-1733407200-1733414400@arwrcucc.ca
SUMMARY:Ministry and Personnel The Basics Workshop
DESCRIPTION:‘The Basics’: Ministry & Personnel Committee Workshops\nOnline by Zoom\, Upcoming dates:\nOctober 3rd\, December 5th\, February 6th\, April 3rd\nwith Micol Cottrell\, Minister\, Pastoral Relations \n\nOrdered ministers and designated lay ministers while in paid accountable ministry positions are office holders within The United Church of Canada. While there may be elements similar to employment\, the essential nature of the relationship is a covenant.  \n~ Statement on Ministry in The United Church of Canada (2012) \n\nNew members are often elected to the vital Ministry & Personnel Committee near the start of the year\, although M&P Committee membership can change for many other reasons throughout the year. \nThe Basics will help a new member learn the essentials of this crucial role. More experienced members of M&P Committees are invited to take this workshop as a refresher with their team\, and keep up with changing United Church practices and policies. This workshop is open to members from Western Ontario Waterways\, Antler River Watershed and Horseshoe Falls Regional Councils! \nPlease Note: each member of your M&P Committee attending this workshop is required to register. \nIn your Confirmation Email\, you will receive the Zoom link and material in preparation for the meeting to make the most of our time together. If you have questions about the content\, please email Micol Cottrell\, Minister\, Pastoral Relations\, at MCottrell@united-church.ca\, or better yet\, write down the questions to bring with you.
URL:https://arwrcucc.ca/event/ministry-and-personnel-the-basics-workshop-2/
LOCATION:Online via Zoom
CATEGORIES:Event,Meeting,Training
END:VEVENT
BEGIN:VEVENT
DTSTART;TZID=America/New_York:20241206T110000
DTEND;TZID=America/New_York:20241206T160000
DTSTAMP:20260419T173959
CREATED:20241205T152030Z
LAST-MODIFIED:20241205T152030Z
UID:27095-1733482800-1733500800@arwrcucc.ca
SUMMARY:Tri-Regional Council Executive Meeting
DESCRIPTION:
URL:https://arwrcucc.ca/event/tri-regional-council-executive-meeting-2/
LOCATION:Online via Zoom
CATEGORIES:Community,Event,Meeting,Online Gathering,Regional Council
END:VEVENT
BEGIN:VEVENT
DTSTART;TZID=America/Toronto:20241210T090000
DTEND;TZID=America/Toronto:20241210T090000
DTSTAMP:20260419T173959
CREATED:20241205T154224Z
LAST-MODIFIED:20241205T154224Z
UID:27099-1733821200-1733821200@arwrcucc.ca
SUMMARY:ARW Pastoral Relations Commission Meeting
DESCRIPTION:
URL:https://arwrcucc.ca/event/arw-pastoral-relations-commission-meeting-17/
CATEGORIES:Meeting,Online Gathering,Regional Council
END:VEVENT
BEGIN:VEVENT
DTSTART;TZID=America/New_York:20241210T190000
DTEND;TZID=America/New_York:20241210T190000
DTSTAMP:20260419T173959
CREATED:20241205T154308Z
LAST-MODIFIED:20241205T154308Z
UID:27101-1733857200-1733857200@arwrcucc.ca
SUMMARY:HF Congregational Support Commission
DESCRIPTION:
URL:https://arwrcucc.ca/event/hf-congregational-support-commission-16/
CATEGORIES:Meeting
END:VEVENT
BEGIN:VEVENT
DTSTART;TZID=America/New_York:20241212T130000
DTEND;TZID=America/New_York:20241212T130000
DTSTAMP:20260419T173959
CREATED:20241205T154411Z
LAST-MODIFIED:20241205T154411Z
UID:27103-1734008400-1734008400@arwrcucc.ca
SUMMARY:WOW Congregational Support Commission
DESCRIPTION:
URL:https://arwrcucc.ca/event/wow-congregational-support-commission-17/
CATEGORIES:Meeting
END:VEVENT
BEGIN:VEVENT
DTSTART;TZID=America/Toronto:20241217T100000
DTEND;TZID=America/Toronto:20241217T120000
DTSTAMP:20260419T173959
CREATED:20241205T154524Z
LAST-MODIFIED:20241205T154524Z
UID:27105-1734429600-1734436800@arwrcucc.ca
SUMMARY:WOW Pastoral Relations Commission Meeting
DESCRIPTION:
URL:https://arwrcucc.ca/event/wow-pastoral-relations-commission-meeting-17/
CATEGORIES:Meeting,Online Gathering,Regional Council
END:VEVENT
BEGIN:VEVENT
DTSTART;TZID=America/New_York:20241217T140000
DTEND;TZID=America/New_York:20241217T150000
DTSTAMP:20260419T173959
CREATED:20241202T214255Z
LAST-MODIFIED:20241202T214255Z
UID:27059-1734444000-1734447600@arwrcucc.ca
SUMMARY:ARW Online Clergy Gathering
DESCRIPTION:Clergy Gathering: In this Advent season of waiting\, watching and preparing\, you are invited to come and join with colleagues in ministry for a time of conversation\, community and information sharing.\n\nDec. 17\, 2024  ARW online gathering 2-3 pm\n\n\nDec. 18\, 2024  HF online gathering  3-4 pm\n\n\nDec. 19\, 2024  WOW online gathering 2-3 pm
URL:https://arwrcucc.ca/event/arw-online-clergy-gathering-10/
LOCATION:Online via Zoom
CATEGORIES:Clergy Gathering,Event,Learning Opportunity,Meeting,Ministry Personnel,Online Gathering
ATTACH;FMTTYPE=image/png:https://arwrcucc.ca/wp-content/uploads/2024/12/December-2024-KS.png
ORGANIZER;CN="Kevin Steeper":MAILTO:mailto:KSteeper@united-church.ca
END:VEVENT
BEGIN:VEVENT
DTSTART;TZID=America/New_York:20241218T150000
DTEND;TZID=America/New_York:20241218T160000
DTSTAMP:20260419T173959
CREATED:20241202T214358Z
LAST-MODIFIED:20241202T214358Z
UID:27062-1734534000-1734537600@arwrcucc.ca
SUMMARY:HF Online Clergy Gathering
DESCRIPTION:
URL:https://arwrcucc.ca/event/hf-online-clergy-gathering-9/
LOCATION:Online via Zoom
CATEGORIES:Clergy Gathering,Event,Learning Opportunity,Meeting,Ministry Personnel,Online Gathering
ORGANIZER;CN="Kevin Steeper":MAILTO:mailto:KSteeper@united-church.ca
END:VEVENT
BEGIN:VEVENT
DTSTART;TZID=America/New_York:20241219T140000
DTEND;TZID=America/New_York:20241219T150000
DTSTAMP:20260419T173959
CREATED:20241202T214455Z
LAST-MODIFIED:20241202T214455Z
UID:27064-1734616800-1734620400@arwrcucc.ca
SUMMARY:WOW Online Clergy Gathering
DESCRIPTION:
URL:https://arwrcucc.ca/event/wow-online-clergy-gathering-10/
LOCATION:Online via Zoom
CATEGORIES:Clergy Gathering,Event,Learning Opportunity,Meeting,Ministry Personnel,Online Gathering
ORGANIZER;CN="Kevin Steeper":MAILTO:mailto:KSteeper@united-church.ca
END:VEVENT
BEGIN:VEVENT
DTSTART;TZID=America/New_York:20250108T100000
DTEND;TZID=America/New_York:20250108T120000
DTSTAMP:20260419T173959
CREATED:20250106T174400Z
LAST-MODIFIED:20250106T174400Z
UID:27235-1736330400-1736337600@arwrcucc.ca
SUMMARY:ARW Regional Council Executive Meeting
DESCRIPTION:
URL:https://arwrcucc.ca/event/arw-regional-council-executive-meeting-12/
CATEGORIES:Meeting
END:VEVENT
BEGIN:VEVENT
DTSTART;TZID=America/Toronto:20250109T093000
DTEND;TZID=America/Toronto:20250109T113000
DTSTAMP:20260419T173959
CREATED:20250106T174518Z
LAST-MODIFIED:20250106T174518Z
UID:27237-1736415000-1736422200@arwrcucc.ca
SUMMARY:Regional Council Staff Meeting
DESCRIPTION:
URL:https://arwrcucc.ca/event/regional-council-staff-meeting-64/
LOCATION:Online via Zoom
CATEGORIES:Event,Meeting
END:VEVENT
BEGIN:VEVENT
DTSTART;TZID=America/New_York:20250109T130000
DTEND;TZID=America/New_York:20250109T130000
DTSTAMP:20260419T173959
CREATED:20250106T174715Z
LAST-MODIFIED:20250106T174715Z
UID:27241-1736427600-1736427600@arwrcucc.ca
SUMMARY:WOW Congregational Support Commission
DESCRIPTION:
URL:https://arwrcucc.ca/event/wow-congregational-support-commission-18/
CATEGORIES:Meeting
END:VEVENT
BEGIN:VEVENT
DTSTART;TZID=America/Toronto:20250109T140000
DTEND;TZID=America/Toronto:20250109T153000
DTSTAMP:20260419T173959
CREATED:20240923T193950Z
LAST-MODIFIED:20240923T193950Z
UID:26000-1736431200-1736436600@arwrcucc.ca
SUMMARY:Ministry and Personnel Gathering
DESCRIPTION:Ministry & Personnel Gatherings\nA time for collegiality\, learning\, and conversation about issues facing M&P committees. \nParticipants must have completed M&P: The Basics on Zoom or through the recorded training. \nParticipants are required to agree with the confidentiality and group norms agreement as found below.  \nSituations discussed will only be talked about by broad themes without reference to individuals. \nNovember 7th 2024\, 2-3:30 PM \nJanuary 9th 2025\, 2-3:30 PM \nMarch 6th 2025\, 2-3:30 PM \nMay 1st  2025\, 2-3:30 PM \nWorship\, 30 minutes learning time\, 30 minutes of conversation\, Question and Answers\, etc. ending with a time to make suggestions for future learning. \nBy registering you agree to the following \nConfidentiality Agreement: \nI agree to maintain and respect the confidentiality of all information that is shared by group participants.  I will not share individual conversations or situations that are shared by other members of this group.   I understand and agree that failure to maintain confidentiality will result in my being asked to leave this group. \nGroup Norms: \nI will trust that God has gifted me with wisdom to share and with wisdom to gain from others. \nWhen sharing I will attempt to put situations into broad questions and not provide details about individuals.  I will strive not use the names of ministers\, employees\, or congregation members.   For example\, I will ask about a situation. If not sure how to ask a question\, I can private message Micol Cottrell or the host and they will help frame the question in broad terms\, or without context of the church\, minister\, and staff.  Note:   you can always contact Micol Cottrell MCottrell@united-church.ca with situations that you need to talk about and in that conversation can be more candid. \nI will respect that what others share is confidential and will not share that information outside of the group.   This allows for learning drawn from individual experiences. \nI will appreciate that the questions people ask may not be about a situation that they are facing as an M&P Committee at this moment\, rather a question for future learning. \nI will respect that different M&P committees work differently depending on context. \nI will be gentle with myself and with others trusting in God’s Spirit in leading us to learn together. \nRegister Now
URL:https://arwrcucc.ca/event/ministry-and-personnel-gathering-2/
LOCATION:Online via Zoom
CATEGORIES:Event,Learning Opportunity,Meeting,Ministry Personnel,Online Gathering,Staff
END:VEVENT
BEGIN:VEVENT
DTSTART;TZID=America/Toronto:20250114T090000
DTEND;TZID=America/Toronto:20250114T090000
DTSTAMP:20260419T173959
CREATED:20250106T174902Z
LAST-MODIFIED:20250106T174952Z
UID:27243-1736845200-1736845200@arwrcucc.ca
SUMMARY:ARW Pastoral Relations Commission Meeting
DESCRIPTION:
URL:https://arwrcucc.ca/event/arw-pastoral-relations-commission-meeting-17-2/
CATEGORIES:Meeting,Online Gathering,Regional Council
END:VEVENT
END:VCALENDAR