BEGIN:VCALENDAR
VERSION:2.0
PRODID:-//Antler River Watershed Regional Council - ECPv6.15.20//NONSGML v1.0//EN
CALSCALE:GREGORIAN
METHOD:PUBLISH
X-WR-CALNAME:Antler River Watershed Regional Council
X-ORIGINAL-URL:https://arwrcucc.ca
X-WR-CALDESC:Events for Antler River Watershed Regional Council
REFRESH-INTERVAL;VALUE=DURATION:PT1H
X-Robots-Tag:noindex
X-PUBLISHED-TTL:PT1H
BEGIN:VTIMEZONE
TZID:America/New_York
BEGIN:DAYLIGHT
TZOFFSETFROM:-0500
TZOFFSETTO:-0400
TZNAME:EDT
DTSTART:20240310T070000
END:DAYLIGHT
BEGIN:STANDARD
TZOFFSETFROM:-0400
TZOFFSETTO:-0500
TZNAME:EST
DTSTART:20241103T060000
END:STANDARD
BEGIN:DAYLIGHT
TZOFFSETFROM:-0500
TZOFFSETTO:-0400
TZNAME:EDT
DTSTART:20250309T070000
END:DAYLIGHT
BEGIN:STANDARD
TZOFFSETFROM:-0400
TZOFFSETTO:-0500
TZNAME:EST
DTSTART:20251102T060000
END:STANDARD
BEGIN:DAYLIGHT
TZOFFSETFROM:-0500
TZOFFSETTO:-0400
TZNAME:EDT
DTSTART:20260308T070000
END:DAYLIGHT
BEGIN:STANDARD
TZOFFSETFROM:-0400
TZOFFSETTO:-0500
TZNAME:EST
DTSTART:20261101T060000
END:STANDARD
END:VTIMEZONE
BEGIN:VTIMEZONE
TZID:America/Toronto
BEGIN:DAYLIGHT
TZOFFSETFROM:-0500
TZOFFSETTO:-0400
TZNAME:EDT
DTSTART:20240310T070000
END:DAYLIGHT
BEGIN:STANDARD
TZOFFSETFROM:-0400
TZOFFSETTO:-0500
TZNAME:EST
DTSTART:20241103T060000
END:STANDARD
BEGIN:DAYLIGHT
TZOFFSETFROM:-0500
TZOFFSETTO:-0400
TZNAME:EDT
DTSTART:20250309T070000
END:DAYLIGHT
BEGIN:STANDARD
TZOFFSETFROM:-0400
TZOFFSETTO:-0500
TZNAME:EST
DTSTART:20251102T060000
END:STANDARD
BEGIN:DAYLIGHT
TZOFFSETFROM:-0500
TZOFFSETTO:-0400
TZNAME:EDT
DTSTART:20260308T070000
END:DAYLIGHT
BEGIN:STANDARD
TZOFFSETFROM:-0400
TZOFFSETTO:-0500
TZNAME:EST
DTSTART:20261101T060000
END:STANDARD
END:VTIMEZONE
BEGIN:VEVENT
DTSTART;TZID=America/New_York:20250114T100000
DTEND;TZID=America/New_York:20250114T100000
DTSTAMP:20260420T000555
CREATED:20250106T175120Z
LAST-MODIFIED:20250106T175120Z
UID:27246-1736848800-1736848800@arwrcucc.ca
SUMMARY:HF Congregational Support Commission
DESCRIPTION:
URL:https://arwrcucc.ca/event/hf-congregational-support-commission-17/
CATEGORIES:Meeting
END:VEVENT
BEGIN:VEVENT
DTSTART;TZID=America/Toronto:20250114T100000
DTEND;TZID=America/Toronto:20250114T100000
DTSTAMP:20260420T000555
CREATED:20250106T175224Z
LAST-MODIFIED:20250106T190529Z
UID:27248-1736848800-1736848800@arwrcucc.ca
SUMMARY:ARW Discipleship & Justice Meeting
DESCRIPTION:
URL:https://arwrcucc.ca/event/arw-discipleship-justice-meeting-17/
LOCATION:Online via Zoom
CATEGORIES:Meeting
END:VEVENT
BEGIN:VEVENT
DTSTART;TZID=America/New_York:20250115T090000
DTEND;TZID=America/New_York:20250115T110000
DTSTAMP:20260420T000555
CREATED:20250106T175342Z
LAST-MODIFIED:20250106T175342Z
UID:27250-1736931600-1736938800@arwrcucc.ca
SUMMARY:ARW Congregational Support Commission
DESCRIPTION:
URL:https://arwrcucc.ca/event/arw-congregational-support-commission-12/
CATEGORIES:Meeting
END:VEVENT
BEGIN:VEVENT
DTSTART;TZID=America/Toronto:20250121T100000
DTEND;TZID=America/Toronto:20250121T120000
DTSTAMP:20260420T000555
CREATED:20250106T175512Z
LAST-MODIFIED:20250106T175512Z
UID:27252-1737453600-1737460800@arwrcucc.ca
SUMMARY:WOW Pastoral Relations Commission Meeting
DESCRIPTION:
URL:https://arwrcucc.ca/event/wow-pastoral-relations-commission-meeting-17-2/
CATEGORIES:Meeting,Online Gathering,Regional Council
END:VEVENT
BEGIN:VEVENT
DTSTART;TZID=America/New_York:20250121T140000
DTEND;TZID=America/New_York:20250121T150000
DTSTAMP:20260420T000555
CREATED:20250103T214038Z
LAST-MODIFIED:20250103T214038Z
UID:27224-1737468000-1737471600@arwrcucc.ca
SUMMARY:ARW Online Clergy Gathering
DESCRIPTION:As we move deeper into this new year\, you are invited to come for a time of conversation with colleagues in ministry and sharing of information about our various ministries.\n\nARWRC – January 21\, 2-3pm\nHFRC – January 22\, 3-4pm\nWOWRC – January 23\, 2-3pm\n\nPeace\,\nKevin
URL:https://arwrcucc.ca/event/arw-online-clergy-gathering-11/
LOCATION:Online via Zoom
CATEGORIES:Clergy Gathering,Event,Learning Opportunity,Meeting,Ministry Personnel,Online Gathering
ATTACH;FMTTYPE=image/png:https://arwrcucc.ca/wp-content/uploads/2025/01/January-2025-KS.png
ORGANIZER;CN="Kevin Steeper":MAILTO:mailto:KSteeper@united-church.ca
END:VEVENT
BEGIN:VEVENT
DTSTART;TZID=America/Toronto:20250122T130000
DTEND;TZID=America/Toronto:20250122T130000
DTSTAMP:20260420T000555
CREATED:20250106T175633Z
LAST-MODIFIED:20250106T175633Z
UID:27254-1737550800-1737550800@arwrcucc.ca
SUMMARY:HF Human Resources Commission Meeting
DESCRIPTION:
URL:https://arwrcucc.ca/event/hf-human-resources-commission-meeting-15/
CATEGORIES:Meeting,Regional Council
END:VEVENT
BEGIN:VEVENT
DTSTART;TZID=America/New_York:20250122T150000
DTEND;TZID=America/New_York:20250122T160000
DTSTAMP:20260420T000555
CREATED:20250103T214145Z
LAST-MODIFIED:20250103T214145Z
UID:27225-1737558000-1737561600@arwrcucc.ca
SUMMARY:HF Online Clergy Gathering
DESCRIPTION:
URL:https://arwrcucc.ca/event/hf-online-clergy-gathering-10/
LOCATION:Online via Zoom
CATEGORIES:Clergy Gathering,Event,Learning Opportunity,Meeting,Ministry Personnel,Online Gathering
ORGANIZER;CN="Kevin Steeper":MAILTO:mailto:KSteeper@united-church.ca
END:VEVENT
BEGIN:VEVENT
DTSTART;TZID=America/New_York:20250122T160000
DTEND;TZID=America/New_York:20250122T160000
DTSTAMP:20260420T000555
CREATED:20250106T175725Z
LAST-MODIFIED:20250106T175725Z
UID:27256-1737561600-1737561600@arwrcucc.ca
SUMMARY:HF Regional Council Executive Meeting
DESCRIPTION:
URL:https://arwrcucc.ca/event/hf-regional-council-executive-meeting-11/
CATEGORIES:Meeting
END:VEVENT
BEGIN:VEVENT
DTSTART;TZID=America/Toronto:20250123T093000
DTEND;TZID=America/Toronto:20250123T113000
DTSTAMP:20260420T000555
CREATED:20250106T174603Z
LAST-MODIFIED:20250106T174603Z
UID:27238-1737624600-1737631800@arwrcucc.ca
SUMMARY:Regional Council Staff Meeting
DESCRIPTION:
URL:https://arwrcucc.ca/event/regional-council-staff-meeting-65/
LOCATION:Online via Zoom
CATEGORIES:Event,Meeting
END:VEVENT
BEGIN:VEVENT
DTSTART;TZID=America/New_York:20250123T140000
DTEND;TZID=America/New_York:20250123T150000
DTSTAMP:20260420T000555
CREATED:20250103T214236Z
LAST-MODIFIED:20250103T214253Z
UID:27226-1737640800-1737644400@arwrcucc.ca
SUMMARY:WOW Online Clergy Gathering
DESCRIPTION:
URL:https://arwrcucc.ca/event/wow-online-clergy-gathering-11/
LOCATION:Online via Zoom
CATEGORIES:Clergy Gathering,Event,Learning Opportunity,Meeting,Ministry Personnel,Online Gathering
ORGANIZER;CN="Kevin Steeper":MAILTO:mailto:KSteeper@united-church.ca
END:VEVENT
BEGIN:VEVENT
DTSTART;TZID=America/Toronto:20250128T190000
DTEND;TZID=America/Toronto:20250128T190000
DTSTAMP:20260420T000555
CREATED:20250117T183846Z
LAST-MODIFIED:20250117T183846Z
UID:27331-1738090800-1738090800@arwrcucc.ca
SUMMARY:Liaisons Gathering
DESCRIPTION:A time for connection\, mutual support\, and information sharing. \nWe are meeting on Tuesdays January 28th\, March 25th\, and May 27th at 7PM on Zoom. \nFor more information contact Micol Cottrell at mcottrell@united-church.ca \nRegister now here: https://regionalcouncil789.formstack.com/forms/liaisons_gathering
URL:https://arwrcucc.ca/event/liaisons-gathering/
LOCATION:Online via Zoom
CATEGORIES:Event,Learning Opportunity,Meeting,Online Gathering,Pastoral Relations,Regional Council
END:VEVENT
BEGIN:VEVENT
DTSTART;TZID=America/New_York:20250204T090000
DTEND;TZID=America/New_York:20250204T110000
DTSTAMP:20260420T000555
CREATED:20250203T202258Z
LAST-MODIFIED:20250203T202258Z
UID:27534-1738659600-1738666800@arwrcucc.ca
SUMMARY:ARW Congregational Support Commission
DESCRIPTION:
URL:https://arwrcucc.ca/event/arw-congregational-support-commission-13/
CATEGORIES:Meeting
END:VEVENT
BEGIN:VEVENT
DTSTART;TZID=America/Toronto:20250205T190000
DTEND;TZID=America/Toronto:20250205T201500
DTSTAMP:20260420T000555
CREATED:20250117T182345Z
LAST-MODIFIED:20250117T184915Z
UID:27322-1738782000-1738786500@arwrcucc.ca
SUMMARY:Lent & Easter Round Table - Children and Youth Ministry
DESCRIPTION: \n\n\nSharing ideas and challenges\n\n\nCome prepared to share your ideas and/or listen to others \n\n\nContact Kathy Douglas for ZOOM link\n\n\nkdouglas@united-church.ca
URL:https://arwrcucc.ca/event/lent-easter-round-table-children-and-youth-ministry-3/
LOCATION:Online via Zoom
CATEGORIES:Community,Event,Events,Kids and Youth,Learning Opportunity,Meeting,Online Gathering
ATTACH;FMTTYPE=image/png:https://arwrcucc.ca/wp-content/uploads/2025/01/LentEasterRoundtablev2.png
ORGANIZER;CN="Kathy Douglas":MAILTO:kdouglas@united-church.ca
END:VEVENT
BEGIN:VEVENT
DTSTART;TZID=America/Toronto:20250206T093000
DTEND;TZID=America/Toronto:20250206T113000
DTSTAMP:20260420T000555
CREATED:20250203T203005Z
LAST-MODIFIED:20250203T203005Z
UID:27536-1738834200-1738841400@arwrcucc.ca
SUMMARY:Regional Council Staff Meeting
DESCRIPTION:
URL:https://arwrcucc.ca/event/regional-council-staff-meeting-66/
LOCATION:Online via Zoom
CATEGORIES:Event,Meeting
END:VEVENT
BEGIN:VEVENT
DTSTART;TZID=America/Toronto:20250206T110000
DTEND;TZID=America/Toronto:20250206T121500
DTSTAMP:20260420T000555
CREATED:20250117T182458Z
LAST-MODIFIED:20250117T184817Z
UID:27325-1738839600-1738844100@arwrcucc.ca
SUMMARY:Lent & Easter Round Table - Children and Youth Ministry
DESCRIPTION: \n\n\nSharing ideas and challenges\n\n\nCome prepared to share your ideas and/or listen to others \n\n\nContact Kathy Douglas for ZOOM link\n\n\nkdouglas@united-church.ca
URL:https://arwrcucc.ca/event/lent-easter-round-table-children-and-youth-ministry/
LOCATION:Online via Zoom
CATEGORIES:Community,Event,Events,Kids and Youth,Learning Opportunity,Meeting,Online Gathering
ATTACH;FMTTYPE=image/png:https://arwrcucc.ca/wp-content/uploads/2025/01/LentEasterRoundtablev2.png
ORGANIZER;CN="Kathy Douglas":MAILTO:kdouglas@united-church.ca
END:VEVENT
BEGIN:VEVENT
DTSTART;TZID=America/Toronto:20250206T140000
DTEND;TZID=America/Toronto:20250206T160000
DTSTAMP:20260420T000555
CREATED:20240904T141758Z
LAST-MODIFIED:20240904T141758Z
UID:24075-1738850400-1738857600@arwrcucc.ca
SUMMARY:Ministry and Personnel The Basics Workshop
DESCRIPTION:‘The Basics’: Ministry & Personnel Committee Workshops\nOnline by Zoom\, Upcoming dates:\nOctober 3rd\, December 5th\, February 6th\, April 3rd\nwith Micol Cottrell\, Minister\, Pastoral Relations \n\nOrdered ministers and designated lay ministers while in paid accountable ministry positions are office holders within The United Church of Canada. While there may be elements similar to employment\, the essential nature of the relationship is a covenant.  \n~ Statement on Ministry in The United Church of Canada (2012) \n\nNew members are often elected to the vital Ministry & Personnel Committee near the start of the year\, although M&P Committee membership can change for many other reasons throughout the year. \nThe Basics will help a new member learn the essentials of this crucial role. More experienced members of M&P Committees are invited to take this workshop as a refresher with their team\, and keep up with changing United Church practices and policies. This workshop is open to members from Western Ontario Waterways\, Antler River Watershed and Horseshoe Falls Regional Councils! \nPlease Note: each member of your M&P Committee attending this workshop is required to register. \nIn your Confirmation Email\, you will receive the Zoom link and material in preparation for the meeting to make the most of our time together. If you have questions about the content\, please email Micol Cottrell\, Minister\, Pastoral Relations\, at MCottrell@united-church.ca\, or better yet\, write down the questions to bring with you.
URL:https://arwrcucc.ca/event/ministry-and-personnel-the-basics-workshop-3/
LOCATION:Online via Zoom
CATEGORIES:Event,Meeting,Training
END:VEVENT
BEGIN:VEVENT
DTSTART;TZID=America/Toronto:20250211T090000
DTEND;TZID=America/Toronto:20250211T090000
DTSTAMP:20260420T000555
CREATED:20250203T203253Z
LAST-MODIFIED:20250203T203253Z
UID:27540-1739264400-1739264400@arwrcucc.ca
SUMMARY:ARW Pastoral Relations Commission Meeting
DESCRIPTION:
URL:https://arwrcucc.ca/event/arw-pastoral-relations-commission-meeting/
CATEGORIES:Meeting,Online Gathering,Regional Council
END:VEVENT
BEGIN:VEVENT
DTSTART;TZID=America/Toronto:20250211T100000
DTEND;TZID=America/Toronto:20250211T100000
DTSTAMP:20260420T000555
CREATED:20250203T203352Z
LAST-MODIFIED:20250203T203352Z
UID:27542-1739268000-1739268000@arwrcucc.ca
SUMMARY:ARW Discipleship & Justice Meeting
DESCRIPTION:
URL:https://arwrcucc.ca/event/arw-discipleship-justice-meeting-18/
LOCATION:Online via Zoom
CATEGORIES:Meeting
END:VEVENT
BEGIN:VEVENT
DTSTART;TZID=America/New_York:20250212T100000
DTEND;TZID=America/New_York:20250212T120000
DTSTAMP:20260420T000555
CREATED:20250203T203658Z
LAST-MODIFIED:20250203T203658Z
UID:27546-1739354400-1739361600@arwrcucc.ca
SUMMARY:ARW Regional Council Executive Meeting
DESCRIPTION:
URL:https://arwrcucc.ca/event/arw-regional-council-executive-meeting-13/
CATEGORIES:Meeting
END:VEVENT
BEGIN:VEVENT
DTSTART;TZID=America/New_York:20250213T100000
DTEND;TZID=America/New_York:20250213T100000
DTSTAMP:20260420T000555
CREATED:20250203T203556Z
LAST-MODIFIED:20250203T203556Z
UID:27544-1739440800-1739440800@arwrcucc.ca
SUMMARY:HF Congregational Support Commission
DESCRIPTION:
URL:https://arwrcucc.ca/event/hf-congregational-support-commission-18/
CATEGORIES:Meeting
END:VEVENT
BEGIN:VEVENT
DTSTART;TZID=America/Toronto:20250218T100000
DTEND;TZID=America/Toronto:20250218T120000
DTSTAMP:20260420T000555
CREATED:20250203T203910Z
LAST-MODIFIED:20250203T203910Z
UID:27548-1739872800-1739880000@arwrcucc.ca
SUMMARY:WOW Pastoral Relations Commission Meeting
DESCRIPTION:
URL:https://arwrcucc.ca/event/wow-pastoral-relations-commission-meeting/
CATEGORIES:Meeting,Online Gathering,Regional Council
END:VEVENT
BEGIN:VEVENT
DTSTART;TZID=America/New_York:20250218T140000
DTEND;TZID=America/New_York:20250218T150000
DTSTAMP:20260420T000555
CREATED:20250203T161717Z
LAST-MODIFIED:20250203T161717Z
UID:27526-1739887200-1739890800@arwrcucc.ca
SUMMARY:ARW Online Clergy Gathering
DESCRIPTION:As you continue your preparations for the Lenten season\, you are invited to come and join with colleagues in ministry for a time of conversation\, support and information sharing.\n\nARW gathering  Feb. 18\, 2025 – 2pm\nHF gathering Feb. 19\, 2025 – 3pm\nWOW gathering Feb. 20\, 2025 – 2pm\n\nThe meeting link will be sent the week of the gathering.\n\n\nPeace\,\nKevin
URL:https://arwrcucc.ca/event/arw-online-clergy-gathering-12/
LOCATION:Online via Zoom
CATEGORIES:Clergy Gathering,Event,Learning Opportunity,Meeting,Ministry Personnel,Online Gathering
ATTACH;FMTTYPE=image/png:https://arwrcucc.ca/wp-content/uploads/2025/02/February-2025.png
ORGANIZER;CN="Kevin Steeper":MAILTO:mailto:KSteeper@united-church.ca
END:VEVENT
BEGIN:VEVENT
DTSTART;TZID=America/New_York:20250219T093000
DTEND;TZID=America/New_York:20250219T093000
DTSTAMP:20260420T000555
CREATED:20250203T204208Z
LAST-MODIFIED:20250203T204208Z
UID:27550-1739957400-1739957400@arwrcucc.ca
SUMMARY:WOW Regional Council Executive Meeting
DESCRIPTION:
URL:https://arwrcucc.ca/event/wow-regional-council-executive-meeting-11/
CATEGORIES:Meeting
END:VEVENT
BEGIN:VEVENT
DTSTART;TZID=America/New_York:20250219T150000
DTEND;TZID=America/New_York:20250219T160000
DTSTAMP:20260420T000555
CREATED:20250203T161917Z
LAST-MODIFIED:20250203T161917Z
UID:27529-1739977200-1739980800@arwrcucc.ca
SUMMARY:HF Online Clergy Gathering
DESCRIPTION:As you continue your preparations for the Lenten season\, you are invited to come and join with colleagues in ministry for a time of conversation\, support and information sharing.\n\nARW gathering  Feb. 18\, 2025 – 2pm\nHF gathering Feb. 19\, 2025 – 3pm\nWOW gathering Feb. 20\, 2025 – 2pm\n\nThe meeting link will be sent the week of the gathering.
URL:https://arwrcucc.ca/event/hf-online-clergy-gathering-11/
LOCATION:Online via Zoom
CATEGORIES:Clergy Gathering,Event,Learning Opportunity,Meeting,Ministry Personnel,Online Gathering
ORGANIZER;CN="Kevin Steeper":MAILTO:mailto:KSteeper@united-church.ca
END:VEVENT
BEGIN:VEVENT
DTSTART;TZID=America/Toronto:20250220T093000
DTEND;TZID=America/Toronto:20250220T113000
DTSTAMP:20260420T000555
CREATED:20250203T203052Z
LAST-MODIFIED:20250203T203052Z
UID:27538-1740043800-1740051000@arwrcucc.ca
SUMMARY:Regional Council Staff Meeting
DESCRIPTION:
URL:https://arwrcucc.ca/event/regional-council-staff-meeting-67/
LOCATION:Online via Zoom
CATEGORIES:Event,Meeting
END:VEVENT
BEGIN:VEVENT
DTSTART;TZID=America/New_York:20250220T140000
DTEND;TZID=America/New_York:20250220T150000
DTSTAMP:20260420T000555
CREATED:20250203T162055Z
LAST-MODIFIED:20250203T162055Z
UID:27531-1740060000-1740063600@arwrcucc.ca
SUMMARY:WOW Online Clergy Gathering
DESCRIPTION:As you continue your preparations for the Lenten season\, you are invited to come and join with colleagues in ministry for a time of conversation\, support and information sharing.\n\nARW gathering  Feb. 18\, 2025 – 2pm\nHF gathering Feb. 19\, 2025 – 3pm\nWOW gathering Feb. 20\, 2025 – 2pm\n\nThe meeting link will be sent the week of the gathering.
URL:https://arwrcucc.ca/event/wow-online-clergy-gathering-12/
LOCATION:Online via Zoom
CATEGORIES:Clergy Gathering,Event,Learning Opportunity,Meeting,Ministry Personnel,Online Gathering
ORGANIZER;CN="Kevin Steeper":MAILTO:mailto:KSteeper@united-church.ca
END:VEVENT
BEGIN:VEVENT
DTSTART;TZID=America/Toronto:20250223T150000
DTEND;TZID=America/Toronto:20250223T161500
DTSTAMP:20260420T000555
CREATED:20250220T175547Z
LAST-MODIFIED:20250220T175547Z
UID:27658-1740322800-1740327300@arwrcucc.ca
SUMMARY:Ontario Election 2025: More than Tariffs Workshop
DESCRIPTION:Ontario Election 2025:\nMore than Tariffs A panel discussion\nSunday Feb 23\, 3:00-4:15 PM EST on Zoom\nInformation to help you faithfully discern your vote and continue advocacy after the Feb 27th election. \nBrief presentations by five panel members on selected topics. \nPanelists will respond to questions from the audience. \n\nAdvance registration required: \nhttps://united-church.zoom.us/meeting/register/Pfy-0rDhQt-l-V5KqspFkw \nFor more information contact: \nThérèse Samuel tsamuel@united-church.ca and John Egger jegger@united-church.ca \n\nModerator: \nRev. Éric Hébert-Daly serves as the Executive Minister to ECO and EOO Regional Councils in Eastern Ontario. He was ordained in 2020. He served for 5 years as Responsible\, Ministries in French\, for 9 years as the National Executive Director of the Canadian Parks and Wilderness Society. Éric spent 17 years working in federal political circles and 7 years as a registered lobbyist. He also brings a hope-filled passion for the church. \n\nPanel Members \nCharles Barrett is a retired economist\, who was actively involved in policy dialogue in North America\, and the Asia-Pacific region in international economic relations\, human resources development and capacity building. He has broad research experience and has written extensively on Canadian and international policy issues. He is a member of Riverside United Church\, Ottawa and Eastern Ontario Outaouais Regional Council. \n\nThe Rev. Dr. Jessica Hetherington is an ecotheologian and ordained minister in the United Church of Canada. Working at the intersection of ecology and theology for 20 years\, she inspires people of faith to transform their actions in response to the climate crisis. She currently serves as commissioner on climate justice with the World Council of Churches and the World Communion of Reformed Churches. Sign up for her weekly newsletter: Faith. Climate Crisis. Action. (https://jessicahetherington.substack.com/). \n\nBryan Smith is a long-term member of the Oxford Coalition for Social Justice\, an organization committed to work and advocacy on a wide range of social and environmental issues locally in the County of Oxford and across the planet. It stands in for the Ontario Health Coalition and stands up for public health. Bryan is a retired teacher\, and is active in providing school lunches and community dinners\, and promoting local foods\, the avoidance of waste\, community events\, and public health. \n\nRev. Jeffrey Dale (they/he) is the Minister at College Street United Church in downtown Toronto. Jeffrey is a harm reduction advocate and community educator\, working with harm reduction advocacy groups throughout the Province of Ontario to educate communities of faith and the wider society regarding the needs of people who use drugs. \n\nRev. Susan Eagle is the minister at Grace United Church in Barrie. She chairs both the Ecological and Social Justice Commission for Shining Waters Regional Council\, and the Steering Committee of the provincial interfaith coalition\, ISARC\, which does policy analysis and advocacy for income security\, homelessness and employment rights. She has worked with newcomer and low-income individuals and sole-support families as a community outreach worker\, and served on London City Council for 13 years. \n\nThis workshop is presented by the Social Justice Network of Ontario Regional Councils (SJNORC) with representation from Eastern Ontario Outaouais\, East Central Ontario\, Shining Waters\, Canadian Shield\, Antler River Watershed\, Horseshoe Falls\, Western Ontario Waterways and Prairie to Pine Regional Councils of The United Church of Canada. \nEngage\, Pray\, Vote.
URL:https://arwrcucc.ca/event/ontario-election-2025-more-than-tariffs-workshop/
LOCATION:Online by Zoom link
CATEGORIES:2SLGBTQIA,Affirming,Anti-Racism,Climate Change,Community,Event,Indigenous Justice,Kids and Youth,Learning Opportunity,Meeting,Online Gathering,Regional Council,Social Justice,Speakers
ATTACH;FMTTYPE=image/png:https://arwrcucc.ca/wp-content/uploads/2025/02/ontarioelection.png
END:VEVENT
BEGIN:VEVENT
DTSTART;TZID=America/Toronto:20250224T140000
DTEND;TZID=America/Toronto:20250224T153000
DTSTAMP:20260420T000555
CREATED:20250211T214914Z
LAST-MODIFIED:20250211T214914Z
UID:27590-1740405600-1740411000@arwrcucc.ca
SUMMARY:100th Centennial Round Table - Children and Youth Ministry
DESCRIPTION:
URL:https://arwrcucc.ca/event/100th-round-table-children-and-youth-ministry-3/
LOCATION:Online via Zoom
CATEGORIES:100th Anniversary,Community,Event,Events,Kids and Youth,Learning Opportunity,Meeting,Online Gathering
ATTACH;FMTTYPE=image/png:https://arwrcucc.ca/wp-content/uploads/2025/02/CentennialRoundtablev2.png
ORGANIZER;CN="Kathy Douglas":MAILTO:kdouglas@united-church.ca
END:VEVENT
BEGIN:VEVENT
DTSTART;TZID=America/New_York:20250225T190000
DTEND;TZID=America/New_York:20250225T190000
DTSTAMP:20260420T000555
CREATED:20250203T204330Z
LAST-MODIFIED:20250203T204330Z
UID:27552-1740510000-1740510000@arwrcucc.ca
SUMMARY:WOW Discipleship and Justice Meeting
DESCRIPTION:
URL:https://arwrcucc.ca/event/wow-discipleship-and-justice-meeting-7/
CATEGORIES:Meeting
END:VEVENT
BEGIN:VEVENT
DTSTART;TZID=America/Toronto:20250226T130000
DTEND;TZID=America/Toronto:20250226T130000
DTSTAMP:20260420T000555
CREATED:20250203T204421Z
LAST-MODIFIED:20250203T204421Z
UID:27554-1740574800-1740574800@arwrcucc.ca
SUMMARY:HF Human Resources Commission Meeting
DESCRIPTION:
URL:https://arwrcucc.ca/event/hf-human-resources-commission-meeting-16/
CATEGORIES:Meeting,Regional Council
END:VEVENT
END:VCALENDAR