BEGIN:VCALENDAR
VERSION:2.0
PRODID:-//Antler River Watershed Regional Council - ECPv6.15.20//NONSGML v1.0//EN
CALSCALE:GREGORIAN
METHOD:PUBLISH
X-ORIGINAL-URL:https://arwrcucc.ca
X-WR-CALDESC:Events for Antler River Watershed Regional Council
REFRESH-INTERVAL;VALUE=DURATION:PT1H
X-Robots-Tag:noindex
X-PUBLISHED-TTL:PT1H
BEGIN:VTIMEZONE
TZID:America/Toronto
BEGIN:DAYLIGHT
TZOFFSETFROM:-0500
TZOFFSETTO:-0400
TZNAME:EDT
DTSTART:20250309T070000
END:DAYLIGHT
BEGIN:STANDARD
TZOFFSETFROM:-0400
TZOFFSETTO:-0500
TZNAME:EST
DTSTART:20251102T060000
END:STANDARD
BEGIN:DAYLIGHT
TZOFFSETFROM:-0500
TZOFFSETTO:-0400
TZNAME:EDT
DTSTART:20260308T070000
END:DAYLIGHT
BEGIN:STANDARD
TZOFFSETFROM:-0400
TZOFFSETTO:-0500
TZNAME:EST
DTSTART:20261101T060000
END:STANDARD
BEGIN:DAYLIGHT
TZOFFSETFROM:-0500
TZOFFSETTO:-0400
TZNAME:EDT
DTSTART:20270314T070000
END:DAYLIGHT
BEGIN:STANDARD
TZOFFSETFROM:-0400
TZOFFSETTO:-0500
TZNAME:EST
DTSTART:20271107T060000
END:STANDARD
END:VTIMEZONE
BEGIN:VEVENT
DTSTART;TZID=America/Toronto:20260226T103000
DTEND;TZID=America/Toronto:20260226T120000
DTSTAMP:20260420T221637
CREATED:20260203T202809Z
LAST-MODIFIED:20260203T202809Z
UID:46694-1772101800-1772107200@arwrcucc.ca
SUMMARY:Biblical Grounding for Justice Seeking
DESCRIPTION:Biblical Grounding for Justice Seeking- Preparing for Palm Sunday- \nJoin Rev. Karen Orlandi for an exploration of the Palm Sunday text through a social justice lens. \nThis workshop is open to all preachers and justice seekers. \nThursday Feb 26\, 2026 (online by Zoom) \nYou can choose either the morning or the evening session (they are both the same workshop). \nMorning Session: 10:30 AM – 12:00 PM EST Register for the morning session only: https://united-church.zoom.us/meeting/register/dIQOtaqjQZGLtOPRf_RNlg \nOr \nEvening Session: 7:00-8:30 PM EST Register for the evening session: https://united-church.zoom.us/meeting/register/lPRBa_XKQd2KipC7QeYSdA \nFor more information contact Thérèse Samuel tsamuel@united-church.ca
URL:https://arwrcucc.ca/event/biblical-grounding-for-justice-seeking/
CATEGORIES:Event,Learning Opportunity,Lent Series,Online Gathering,Registration
END:VEVENT
BEGIN:VEVENT
DTSTART;TZID=America/Toronto:20260226T190000
DTEND;TZID=America/Toronto:20260226T203000
DTSTAMP:20260420T221637
CREATED:20260203T202851Z
LAST-MODIFIED:20260203T202851Z
UID:46696-1772132400-1772137800@arwrcucc.ca
SUMMARY:Biblical Grounding for Justice Seeking
DESCRIPTION:Biblical Grounding for Justice Seeking- Preparing for Palm Sunday- \nJoin Rev. Karen Orlandi for an exploration of the Palm Sunday text through a social justice lens. \nThis workshop is open to all preachers and justice seekers. \nThursday Feb 26\, 2026 (online by Zoom) \nYou can choose either the morning or the evening session (they are both the same workshop). \nMorning Session: 10:30 AM – 12:00 PM EST Register for the morning session only: https://united-church.zoom.us/meeting/register/dIQOtaqjQZGLtOPRf_RNlg \nOr \nEvening Session: 7:00-8:30 PM EST Register for the evening session: https://united-church.zoom.us/meeting/register/lPRBa_XKQd2KipC7QeYSdA \nFor more information contact Thérèse Samuel tsamuel@united-church.ca
URL:https://arwrcucc.ca/event/biblical-grounding-for-justice-seeking-2/
CATEGORIES:Event,Learning Opportunity,Lent Series,Online Gathering,Registration
END:VEVENT
BEGIN:VEVENT
DTSTART;TZID=America/Toronto:20260226T190000
DTEND;TZID=America/Toronto:20260226T203000
DTSTAMP:20260420T221637
CREATED:20260203T211615Z
LAST-MODIFIED:20260203T211615Z
UID:46702-1772132400-1772137800@arwrcucc.ca
SUMMARY:Dementia Workshop
DESCRIPTION:
URL:https://arwrcucc.ca/event/dementia-workshop-2/
CATEGORIES:Community,Event,Learning Opportunity,Online Gathering,Pastoral Relations,Social Justice,Speakers
ATTACH;FMTTYPE=image/png:https://arwrcucc.ca/wp-content/uploads/2026/02/Im-here-life-is-just-different.png
END:VEVENT
BEGIN:VEVENT
DTSTART;TZID=America/Toronto:20260305T150000
DTEND;TZID=America/Toronto:20260305T163000
DTSTAMP:20260420T221637
CREATED:20251103T230220Z
LAST-MODIFIED:20251103T230220Z
UID:32923-1772722800-1772728200@arwrcucc.ca
SUMMARY:Ministry and Personnel Gatherings
DESCRIPTION:Ministry & Personnel GatheringsA time for collegiality\, learning\, and conversation about issues facing M&P committees. \nParticipants must have completed M&P: The Basics on Zoom or through the recorded training. \nParticipants are required to agree with the confidentiality and group norms agreement as found below. \nSituations discussed will only be talked about by broad themes without reference to individuals. \nThursday November 6th\, 2025 3-4:30\nThursday January 8th\, 2026 3-4:30\nThursday March 5th\, 2026 3-4:30\nThursday May 7th\, 2026 3-4:30 \nWorship\, 30 minutes learning time\, 30 minutes of conversation\, Question and Answers\, etc. ending with a time to make suggestions for future learning.\n\n\n\n\n\n\n\n\n\n\n\n\n\n\nSign Up Now for M&P Gatherings
URL:https://arwrcucc.ca/event/ministry-and-personnel-gatherings-3/
LOCATION:Online via Zoom
CATEGORIES:Online Gathering
END:VEVENT
BEGIN:VEVENT
DTSTART;TZID=America/Toronto:20260310T090000
DTEND;TZID=America/Toronto:20260310T090000
DTSTAMP:20260420T221637
CREATED:20260302T154500Z
LAST-MODIFIED:20260302T154500Z
UID:47268-1773133200-1773133200@arwrcucc.ca
SUMMARY:ARW Human Resources Commission Meeting
DESCRIPTION:
URL:https://arwrcucc.ca/event/arw-human-resources-commission-meeting-17/
CATEGORIES:Meeting,Online Gathering,Regional Council
END:VEVENT
BEGIN:VEVENT
DTSTART;TZID=America/Toronto:20260312T130000
DTEND;TZID=America/Toronto:20260312T130000
DTSTAMP:20260420T221637
CREATED:20260224T162248Z
LAST-MODIFIED:20260224T162248Z
UID:47223-1773320400-1773320400@arwrcucc.ca
SUMMARY:Clergy Gathering
DESCRIPTION:Hosted by Laurie Stevenson\, Minister Pastoral Support\nNo Registration Required – Join Zoom Meeting\nhttps://us06web.zoom.us/j/83894431649?pwd=Je8cszpfphSaGa6z8ymGb3XrYTra3O.1\nMeeting ID: 838 9443 1649\nPasscode: 990324
URL:https://arwrcucc.ca/event/clergy-gathering/
LOCATION:Online by Zoom link
CATEGORIES:Clergy Gathering,Event,Learning Opportunity,Online Gathering,Regional Council
ATTACH;FMTTYPE=image/jpeg:https://arwrcucc.ca/wp-content/uploads/2026/02/Sabbatical-Clergy-Event.jpg
ORGANIZER;CN="Laurie Stevenson":MAILTO:LStevenson@united-church.ca
END:VEVENT
BEGIN:VEVENT
DTSTART;TZID=America/Toronto:20260317T100000
DTEND;TZID=America/Toronto:20260317T120000
DTSTAMP:20260420T221637
CREATED:20260302T154945Z
LAST-MODIFIED:20260302T154945Z
UID:47278-1773741600-1773748800@arwrcucc.ca
SUMMARY:WOW Pastoral Relations Commission Meeting
DESCRIPTION:
URL:https://arwrcucc.ca/event/wow-pastoral-relations-commission-meeting-10/
CATEGORIES:Meeting,Online Gathering,Regional Council
END:VEVENT
BEGIN:VEVENT
DTSTART;TZID=America/Toronto:20260326T140000
DTEND;TZID=America/Toronto:20260326T140000
DTSTAMP:20260420T221637
CREATED:20260318T142342Z
LAST-MODIFIED:20260318T143309Z
UID:47452-1774533600-1774533600@arwrcucc.ca
SUMMARY:Tri-Region Regional Representatives Gathering
DESCRIPTION:📢 Tri-Regional Regional Reps Gathering \nWe invite all regional representatives to join our gatherings. \n\n🗓️ Thursday\, March 26\, 2026 at⏰ 2:00 PM \n🎤 Guests: \nDaniel Reid – Toronto United Church Council (TUCC); \nOlas Ben-Wilson – GC Statistics\, and \nLaura Black – Minister\, First Thirds Ministry & Faith Formation (ARW\, HF\, WOW) \n\n🔗 Join Zoom Meeting  Meeting ID: 827 3791 1619; Password: 278721 \n\nQuestions? – contact your Congregational Support Minister (ARWCSM\, HFCSM\, WOWCSM)
URL:https://arwrcucc.ca/event/tri-regional-regional-representatives-gathering/
LOCATION:Online via Zoom
CATEGORIES:Event,Learning Opportunity,Online Gathering,Regional Representatives,Speakers
END:VEVENT
BEGIN:VEVENT
DTSTART;TZID=America/Toronto:20260414T090000
DTEND;TZID=America/Toronto:20260414T090000
DTSTAMP:20260420T221637
CREATED:20260330T145945Z
LAST-MODIFIED:20260330T145945Z
UID:47678-1776157200-1776157200@arwrcucc.ca
SUMMARY:ARW Human Resources Commission Meeting
DESCRIPTION:
URL:https://arwrcucc.ca/event/arw-human-resources-commission-meeting-18/
CATEGORIES:Meeting,Online Gathering,Regional Council
END:VEVENT
BEGIN:VEVENT
DTSTART;TZID=America/Toronto:20260421T100000
DTEND;TZID=America/Toronto:20260421T120000
DTSTAMP:20260420T221637
CREATED:20260330T150413Z
LAST-MODIFIED:20260330T150413Z
UID:47688-1776765600-1776772800@arwrcucc.ca
SUMMARY:WOW Pastoral Relations Commission Meeting
DESCRIPTION:
URL:https://arwrcucc.ca/event/wow-pastoral-relations-commission-meeting-11/
CATEGORIES:Meeting,Online Gathering,Regional Council
END:VEVENT
BEGIN:VEVENT
DTSTART;TZID=America/Toronto:20260422T103000
DTEND;TZID=America/Toronto:20260422T120000
DTSTAMP:20260420T221637
CREATED:20260313T215809Z
LAST-MODIFIED:20260313T215809Z
UID:47410-1776853800-1776859200@arwrcucc.ca
SUMMARY:Prayerful Decision Making
DESCRIPTION:Wednesday April 22 10:30 AM-12:00 Noon on Zoom \nAs Christians we pray\, “Thy will be done.” But\, how can we know what God’s will is? \nFor hundreds of years\, principles and practices developed by Ignatius of Loyola have helped Christians discern what God is calling them to do and be. While we may never be 100% sure of what God wants\, prayerful discernment can help us make choices that bring us as closer to the abundant life that Christ offers. \nThis workshop offers a basic introduction to time-tested Ignatian discernment methods. Grounded in Christian faith\, spiritual discernment can help us make small and large decisions in our lives\, and can even be adapted to use in groups such as church boards\, working groups\, families and more. \nFacilitator: Rev. Thérèse Samuel\, Minister\, Right Relations and Social Justice. Thérèse previously completed the Jubilee Program in Spiritual Direction and is currently completing doctoral studies in Spiritual Direction. She sees value in spiritual discernment for all aspects of personal and church life\, including our efforts to seek justice\, love kindness and journey humbly with God. \nAdvance registration required: \nhttps://united-church.zoom.us/meeting/register/PyGErHonSHOQTyWSHj3V3A \nIf you have accessibility needs for online participation\, or if you have any questions\, please contact Thérèse Samuel tsamuel@united-church.ca
URL:https://arwrcucc.ca/event/prayerful-decision-making/
LOCATION:Online via Zoom
CATEGORIES:Event,Learning Opportunity,Online Gathering,Social Justice
ORGANIZER;CN="Th%C3%A9r%C3%A8se Samuel":MAILTO:tsamuel@united-church.ca
END:VEVENT
BEGIN:VEVENT
DTSTART;TZID=America/Toronto:20260423T190000
DTEND;TZID=America/Toronto:20260423T200000
DTSTAMP:20260420T221637
CREATED:20260330T150639Z
LAST-MODIFIED:20260330T162118Z
UID:47692-1776970800-1776974400@arwrcucc.ca
SUMMARY:Tri-Region Regional Representatives Gathering
DESCRIPTION:📢 Tri-Regional Regional Reps Gathering \nWe invite all regional representatives to join our gatherings. \n\n🔗 Join Zoom Meeting  Meeting ID: 827 3791 1619; Password: 278721 \n\nQuestions? – contact your Congregational Support Minister (ARWCSM\, HFCSM\, WOWCSM)
URL:https://arwrcucc.ca/event/tri-region-regional-representatives-gathering/
LOCATION:Online via Zoom
CATEGORIES:Event,Learning Opportunity,Online Gathering,Regional Representatives,Speakers
END:VEVENT
BEGIN:VEVENT
DTSTART;TZID=America/Toronto:20260429T190000
DTEND;TZID=America/Toronto:20260429T203000
DTSTAMP:20260420T221637
CREATED:20260318T182039Z
LAST-MODIFIED:20260318T182039Z
UID:47474-1777489200-1777494600@arwrcucc.ca
SUMMARY:Towards 2035 Townhall Meeting
DESCRIPTION:Towards 2035 Townhall Meeting \nYou may have seen the presentation at the Regional Councils fall meeting…you may have heard about it from a colleague or fellow congregation member…you may have seen the General Council resources for Communities of Faith…you may be asking yourself “What does this all mean?” \nPlease join me (Executive Minister Mark) for a time of conversation\, and answering questions of what does Towards 2035 mean in your local context\, and what resources are needed for us to be this group of: \nresilient\, inspired\, diverse contextual communities of disciples \nseeking to continue the story of Jesus \nby embodying Christ’s presence in the world! \nThese sessions are open to clergy\, lay reps\, chairs of boards/council’s congregation members. Please register for a time at fits your schedule: \nWed April 29th 7-8:30pm \nWed May 6th 7-8:30 pm \nTues May 12th 1:30-3pm \nBlessings\,\n\n\n\n\n\n\n\n\n\n\n\n\n\n\n\n\n\n\n\n\n\n\n\n\n\n\n\n\n\nRev. Mark Laird\nExecutive Minister\, Antler River Watershed\, Horseshoe Falls\, Western Ontario Waterways Regional Councils of The United Church of Canada\nmlaird@united-church.ca
URL:https://arwrcucc.ca/event/towards-2035-townhall-meeting/
LOCATION:Online via Zoom
CATEGORIES:Community,Event,Learning Opportunity,Meeting,Online Gathering,Regional Council,The United Church of Canada,Towards 2035
ATTACH;FMTTYPE=image/png:https://arwrcucc.ca/wp-content/uploads/2026/03/Towards-2035-Townhall.png
END:VEVENT
BEGIN:VEVENT
DTSTART;TZID=America/Toronto:20260506T190000
DTEND;TZID=America/Toronto:20260506T203000
DTSTAMP:20260420T221637
CREATED:20260318T182113Z
LAST-MODIFIED:20260318T182113Z
UID:47477-1778094000-1778099400@arwrcucc.ca
SUMMARY:Towards 2035 Townhall Meeting
DESCRIPTION:Towards 2035 Townhall Meeting \nYou may have seen the presentation at the Regional Councils fall meeting…you may have heard about it from a colleague or fellow congregation member…you may have seen the General Council resources for Communities of Faith…you may be asking yourself “What does this all mean?” \nPlease join me (Executive Minister Mark) for a time of conversation\, and answering questions of what does Towards 2035 mean in your local context\, and what resources are needed for us to be this group of: \nresilient\, inspired\, diverse contextual communities of disciples \nseeking to continue the story of Jesus \nby embodying Christ’s presence in the world! \nThese sessions are open to clergy\, lay reps\, chairs of boards/council’s congregation members. Please register for a time at fits your schedule: \nWed April 29th 7-8:30pm \nWed May 6th 7-8:30 pm \nTues May 12th 1:30-3pm \nBlessings\,\n\n\n\n\n\n\n\n\n\n\n\n\n\n\n\n\n\n\n\n\n\n\n\n\n\n\n\n\n\nRev. Mark Laird\nExecutive Minister\, Antler River Watershed\, Horseshoe Falls\, Western Ontario Waterways Regional Councils of The United Church of Canada\nmlaird@united-church.ca
URL:https://arwrcucc.ca/event/towards-2035-townhall-meeting-2/
LOCATION:Online via Zoom
CATEGORIES:Community,Event,Learning Opportunity,Meeting,Online Gathering,Regional Council,The United Church of Canada,Towards 2035
ATTACH;FMTTYPE=image/png:https://arwrcucc.ca/wp-content/uploads/2026/03/Towards-2035-Townhall.png
END:VEVENT
BEGIN:VEVENT
DTSTART;TZID=America/Toronto:20260507T150000
DTEND;TZID=America/Toronto:20260507T163000
DTSTAMP:20260420T221637
CREATED:20251103T230240Z
LAST-MODIFIED:20251103T230240Z
UID:32925-1778166000-1778171400@arwrcucc.ca
SUMMARY:Ministry and Personnel Gatherings
DESCRIPTION:Ministry & Personnel GatheringsA time for collegiality\, learning\, and conversation about issues facing M&P committees. \nParticipants must have completed M&P: The Basics on Zoom or through the recorded training. \nParticipants are required to agree with the confidentiality and group norms agreement as found below. \nSituations discussed will only be talked about by broad themes without reference to individuals. \nThursday November 6th\, 2025 3-4:30\nThursday January 8th\, 2026 3-4:30\nThursday March 5th\, 2026 3-4:30\nThursday May 7th\, 2026 3-4:30 \nWorship\, 30 minutes learning time\, 30 minutes of conversation\, Question and Answers\, etc. ending with a time to make suggestions for future learning.\n\n\n\n\n\n\n\n\n\n\n\n\n\n\nSign Up Now for M&P Gatherings
URL:https://arwrcucc.ca/event/ministry-and-personnel-gatherings-4/
LOCATION:Online via Zoom
CATEGORIES:Online Gathering
END:VEVENT
BEGIN:VEVENT
DTSTART;TZID=America/Toronto:20260512T133000
DTEND;TZID=America/Toronto:20260512T150000
DTSTAMP:20260420T221637
CREATED:20260318T182204Z
LAST-MODIFIED:20260318T182204Z
UID:47479-1778592600-1778598000@arwrcucc.ca
SUMMARY:Towards 2035 Townhall Meeting
DESCRIPTION:Towards 2035 Townhall Meeting \nYou may have seen the presentation at the Regional Councils fall meeting…you may have heard about it from a colleague or fellow congregation member…you may have seen the General Council resources for Communities of Faith…you may be asking yourself “What does this all mean?” \nPlease join me (Executive Minister Mark) for a time of conversation\, and answering questions of what does Towards 2035 mean in your local context\, and what resources are needed for us to be this group of: \nresilient\, inspired\, diverse contextual communities of disciples \nseeking to continue the story of Jesus \nby embodying Christ’s presence in the world! \nThese sessions are open to clergy\, lay reps\, chairs of boards/council’s congregation members. Please register for a time at fits your schedule: \nWed April 29th 7-8:30pm \nWed May 6th 7-8:30 pm \nTues May 12th 1:30-3pm \nBlessings\,\n\n\n\n\n\n\n\n\n\n\n\n\n\n\n\n\n\n\n\n\n\n\n\n\n\n\n\n\n\nRev. Mark Laird\nExecutive Minister\, Antler River Watershed\, Horseshoe Falls\, Western Ontario Waterways Regional Councils of The United Church of Canada\nmlaird@united-church.ca
URL:https://arwrcucc.ca/event/towards-2035-townhall-meeting-3/
LOCATION:Online via Zoom
CATEGORIES:Community,Event,Learning Opportunity,Meeting,Online Gathering,Regional Council,The United Church of Canada,Towards 2035
ATTACH;FMTTYPE=image/png:https://arwrcucc.ca/wp-content/uploads/2026/03/Towards-2035-Townhall.png
END:VEVENT
BEGIN:VEVENT
DTSTART;TZID=America/Toronto:20260613T090000
DTEND;TZID=America/Toronto:20260613T130000
DTSTAMP:20260420T221637
CREATED:20260420T151019Z
LAST-MODIFIED:20260420T202402Z
UID:47718-1781341200-1781355600@arwrcucc.ca
SUMMARY:Strawberry Thanksgiving and Communion
DESCRIPTION:Learn about Spiritual Covenants and how your church can live into right relations by attending the all-ages Strawberry Thanksgiving and Communion. \nDon’t miss this special all-ages community event\, online or in-person at Six Nations Polytechnic in Ohsweken\, Sat. June 13. \nClick for Info and to Register Now
URL:https://arwrcucc.ca/event/strawberry-thanksgiving-and-communion/
CATEGORIES:Community,Event,Indigenous Justice,Learning Opportunity,Online Gathering,Regional Council,Registration,Seasonal,Social Justice
ATTACH;FMTTYPE=image/jpeg:https://arwrcucc.ca/wp-content/uploads/2026/04/2026-STC.jpg
ORGANIZER;CN="Th%C3%A9r%C3%A8se Samuel":MAILTO:tsamuel@united-church.ca
END:VEVENT
BEGIN:VEVENT
DTSTART;VALUE=DATE:20261015
DTEND;VALUE=DATE:20261017
DTSTAMP:20260420T221637
CREATED:20260420T214711Z
LAST-MODIFIED:20260420T214711Z
UID:47726-1792022400-1792195199@arwrcucc.ca
SUMMARY:WOWRC Fall Meeting 2026 (Online only)
DESCRIPTION:WOW – Thurs Oct 15th 6:30-9pm\, Friday Oct 16th 6:30-9pm \nTBD Celebration of Ministrey Sunday late afternoon on October 18th.
URL:https://arwrcucc.ca/event/wowrc-fall-meeting-2026-online-only-2/
LOCATION:Online by Zoom link
CATEGORIES:Community,Event,Learning Opportunity,Meeting,Online Gathering,Regional Council
END:VEVENT
BEGIN:VEVENT
DTSTART;VALUE=DATE:20261029
DTEND;VALUE=DATE:20261031
DTSTAMP:20260420T221637
CREATED:20260420T215400Z
LAST-MODIFIED:20260420T215400Z
UID:47730-1793232000-1793404799@arwrcucc.ca
SUMMARY:HFRC Fall Meeting 2026 (Online only)
DESCRIPTION:HF – Thurs Oct 29th 6:30pm-9pm\, Friday Oct 30th 6:30pm-9pm \nTBD Celebration of Ministry Sunday Nov 1 late afternoon.
URL:https://arwrcucc.ca/event/hfrc-fall-meeting-2026-online-only-2/
LOCATION:Online by Zoom link
CATEGORIES:Community,Event,Learning Opportunity,Meeting,Online Gathering,Regional Council
END:VEVENT
BEGIN:VEVENT
DTSTART;VALUE=DATE:20261113
DTEND;VALUE=DATE:20261115
DTSTAMP:20260420T221637
CREATED:20260420T220022Z
LAST-MODIFIED:20260420T220258Z
UID:47732-1794528000-1794700799@arwrcucc.ca
SUMMARY:ARWRC Fall Meeting 2026 (Online only)
DESCRIPTION:ARW – Friday Nov 13th 6:30pm-9pm\, Saturday Nov 14th 9am-5pm \nTBD Celebration of Ministry Service will occur during the 9am-5pm session on Saturday afternoon.
URL:https://arwrcucc.ca/event/arwrc-fall-meeting-2026-online-only-2/
LOCATION:Online by Zoom link
CATEGORIES:Community,Event,Learning Opportunity,Meeting,Online Gathering,Regional Council
ORGANIZER;CN="Antler River Watershed Regional Council":MAILTO:arwrc@united-church.ca
END:VEVENT
END:VCALENDAR