BEGIN:VCALENDAR
VERSION:2.0
PRODID:-//Antler River Watershed Regional Council - ECPv6.15.20//NONSGML v1.0//EN
CALSCALE:GREGORIAN
METHOD:PUBLISH
X-WR-CALNAME:Antler River Watershed Regional Council
X-ORIGINAL-URL:https://arwrcucc.ca
X-WR-CALDESC:Events for Antler River Watershed Regional Council
REFRESH-INTERVAL;VALUE=DURATION:PT1H
X-Robots-Tag:noindex
X-PUBLISHED-TTL:PT1H
BEGIN:VTIMEZONE
TZID:America/Toronto
BEGIN:DAYLIGHT
TZOFFSETFROM:-0500
TZOFFSETTO:-0400
TZNAME:EDT
DTSTART:20240310T070000
END:DAYLIGHT
BEGIN:STANDARD
TZOFFSETFROM:-0400
TZOFFSETTO:-0500
TZNAME:EST
DTSTART:20241103T060000
END:STANDARD
BEGIN:DAYLIGHT
TZOFFSETFROM:-0500
TZOFFSETTO:-0400
TZNAME:EDT
DTSTART:20250309T070000
END:DAYLIGHT
BEGIN:STANDARD
TZOFFSETFROM:-0400
TZOFFSETTO:-0500
TZNAME:EST
DTSTART:20251102T060000
END:STANDARD
BEGIN:DAYLIGHT
TZOFFSETFROM:-0500
TZOFFSETTO:-0400
TZNAME:EDT
DTSTART:20260308T070000
END:DAYLIGHT
BEGIN:STANDARD
TZOFFSETFROM:-0400
TZOFFSETTO:-0500
TZNAME:EST
DTSTART:20261101T060000
END:STANDARD
END:VTIMEZONE
BEGIN:VEVENT
DTSTART;TZID=America/Toronto:20251104T090000
DTEND;TZID=America/Toronto:20251104T090000
DTSTAMP:20260419T203125
CREATED:20251103T210101Z
LAST-MODIFIED:20251103T210101Z
UID:32881-1762246800-1762246800@arwrcucc.ca
SUMMARY:ARW Pastoral Relations Commission Meeting
DESCRIPTION:
URL:https://arwrcucc.ca/event/arw-pastoral-relations-commission-meeting-8/
CATEGORIES:Meeting,Online Gathering,Regional Council
END:VEVENT
BEGIN:VEVENT
DTSTART;VALUE=DATE:20251107
DTEND;VALUE=DATE:20251109
DTSTAMP:20260419T203125
CREATED:20250617T200601Z
LAST-MODIFIED:20250627T191148Z
UID:31221-1762473600-1762646399@arwrcucc.ca
SUMMARY:WOWRC Fall Meeting 2025 (Online only)
DESCRIPTION:
URL:https://arwrcucc.ca/event/wowrc-fall-meeting-2025-online-only/
LOCATION:Online by Zoom link
CATEGORIES:Community,Event,Learning Opportunity,Meeting,Online Gathering,Regional Council
END:VEVENT
BEGIN:VEVENT
DTSTART;TZID=America/Toronto:20251118T100000
DTEND;TZID=America/Toronto:20251118T120000
DTSTAMP:20260419T203125
CREATED:20251103T212316Z
LAST-MODIFIED:20251103T212316Z
UID:32897-1763460000-1763467200@arwrcucc.ca
SUMMARY:WOW Pastoral Relations Commission Meeting
DESCRIPTION:
URL:https://arwrcucc.ca/event/wow-pastoral-relations-commission-meeting-8/
CATEGORIES:Meeting,Online Gathering,Regional Council
END:VEVENT
BEGIN:VEVENT
DTSTART;VALUE=DATE:20251121
DTEND;VALUE=DATE:20251123
DTSTAMP:20260419T203125
CREATED:20250617T200459Z
LAST-MODIFIED:20250617T200459Z
UID:31219-1763683200-1763855999@arwrcucc.ca
SUMMARY:HFRC Fall Meeting 2025 (Online only)
DESCRIPTION:
URL:https://arwrcucc.ca/event/hfrc-fall-meeting-2025-online-only/
LOCATION:Online by Zoom link
CATEGORIES:Community,Event,Learning Opportunity,Meeting,Online Gathering,Regional Council
END:VEVENT
BEGIN:VEVENT
DTSTART;TZID=America/Toronto:20251126T130000
DTEND;TZID=America/Toronto:20251126T130000
DTSTAMP:20260419T203126
CREATED:20251103T212631Z
LAST-MODIFIED:20251103T212631Z
UID:32905-1764162000-1764162000@arwrcucc.ca
SUMMARY:HF Human Resources Commission Meeting
DESCRIPTION:
URL:https://arwrcucc.ca/event/hf-human-resources-commission-meeting-23/
CATEGORIES:Meeting,Regional Council
END:VEVENT
END:VCALENDAR