BEGIN:VCALENDAR
VERSION:2.0
PRODID:-//Antler River Watershed Regional Council - ECPv6.15.20//NONSGML v1.0//EN
CALSCALE:GREGORIAN
METHOD:PUBLISH
X-ORIGINAL-URL:https://arwrcucc.ca
X-WR-CALDESC:Events for Antler River Watershed Regional Council
REFRESH-INTERVAL;VALUE=DURATION:PT1H
X-Robots-Tag:noindex
X-PUBLISHED-TTL:PT1H
BEGIN:VTIMEZONE
TZID:America/New_York
BEGIN:DAYLIGHT
TZOFFSETFROM:-0500
TZOFFSETTO:-0400
TZNAME:EDT
DTSTART:20220313T070000
END:DAYLIGHT
BEGIN:STANDARD
TZOFFSETFROM:-0400
TZOFFSETTO:-0500
TZNAME:EST
DTSTART:20221106T060000
END:STANDARD
BEGIN:DAYLIGHT
TZOFFSETFROM:-0500
TZOFFSETTO:-0400
TZNAME:EDT
DTSTART:20230312T070000
END:DAYLIGHT
BEGIN:STANDARD
TZOFFSETFROM:-0400
TZOFFSETTO:-0500
TZNAME:EST
DTSTART:20231105T060000
END:STANDARD
BEGIN:DAYLIGHT
TZOFFSETFROM:-0500
TZOFFSETTO:-0400
TZNAME:EDT
DTSTART:20240310T070000
END:DAYLIGHT
BEGIN:STANDARD
TZOFFSETFROM:-0400
TZOFFSETTO:-0500
TZNAME:EST
DTSTART:20241103T060000
END:STANDARD
BEGIN:DAYLIGHT
TZOFFSETFROM:-0500
TZOFFSETTO:-0400
TZNAME:EDT
DTSTART:20250309T070000
END:DAYLIGHT
BEGIN:STANDARD
TZOFFSETFROM:-0400
TZOFFSETTO:-0500
TZNAME:EST
DTSTART:20251102T060000
END:STANDARD
END:VTIMEZONE
BEGIN:VTIMEZONE
TZID:America/Toronto
BEGIN:DAYLIGHT
TZOFFSETFROM:-0500
TZOFFSETTO:-0400
TZNAME:EDT
DTSTART:20220313T070000
END:DAYLIGHT
BEGIN:STANDARD
TZOFFSETFROM:-0400
TZOFFSETTO:-0500
TZNAME:EST
DTSTART:20221106T060000
END:STANDARD
BEGIN:DAYLIGHT
TZOFFSETFROM:-0500
TZOFFSETTO:-0400
TZNAME:EDT
DTSTART:20230312T070000
END:DAYLIGHT
BEGIN:STANDARD
TZOFFSETFROM:-0400
TZOFFSETTO:-0500
TZNAME:EST
DTSTART:20231105T060000
END:STANDARD
BEGIN:DAYLIGHT
TZOFFSETFROM:-0500
TZOFFSETTO:-0400
TZNAME:EDT
DTSTART:20240310T070000
END:DAYLIGHT
BEGIN:STANDARD
TZOFFSETFROM:-0400
TZOFFSETTO:-0500
TZNAME:EST
DTSTART:20241103T060000
END:STANDARD
BEGIN:DAYLIGHT
TZOFFSETFROM:-0500
TZOFFSETTO:-0400
TZNAME:EDT
DTSTART:20250309T070000
END:DAYLIGHT
BEGIN:STANDARD
TZOFFSETFROM:-0400
TZOFFSETTO:-0500
TZNAME:EST
DTSTART:20251102T060000
END:STANDARD
END:VTIMEZONE
BEGIN:VEVENT
DTSTART;TZID=America/New_York:20240118T103000
DTEND;TZID=America/New_York:20240118T120000
DTSTAMP:20260419T194233
CREATED:20231107T163638Z
LAST-MODIFIED:20240117T190110Z
UID:11167-1705573800-1705579200@arwrcucc.ca
SUMMARY:Come to the Well - Spiritual Grounding for Justice Seeking
DESCRIPTION:For Ministry Personnel \nJanuary 18\, 2024 10:30 AM-12:00 Noon \nCome to the Well – Spiritual Grounding for Justice Seeking \nRenewal and networking for Ministry Personnel whose ministry includes right relations\, social justice\, and eco-justice. \nWith Thérèse Samuel\, Minister for Right Relations and Social Justice and Kevin Steeper\, Pastoral Support Minister. \nRegister in advance for this meeting (registration required) \nhttps://united-church.zoom.us/meeting/register/tZEkduyvqT4oHdcYo28H8DevJcpbsYAqZ7oz \nAfter registering\, you will receive a confirmation email containing information about joining the meeting. \nFor more information contact \nThérèse Samuel TSamuel@united-church.ca or \nKevin Steeper KSteeper@united-church.ca
URL:https://arwrcucc.ca/event/come-to-the-well-spiritual-grounding-for-justice-seeking/
LOCATION:Online via Zoom
CATEGORIES:Clergy Gathering,Community,Event,Learning Opportunity,Meeting,Ministry Personnel,Online Gathering,Regional Council,Social Justice
ATTACH;FMTTYPE=image/jpeg:https://arwrcucc.ca/wp-content/uploads/2023/11/amritanshu-sikdar-LoGnr-w1D8E-unsplash-scaled.jpg
END:VEVENT
BEGIN:VEVENT
DTSTART;TZID=America/Toronto:20240116T100000
DTEND;TZID=America/Toronto:20240116T100000
DTSTAMP:20260419T194233
CREATED:20240116T202721Z
LAST-MODIFIED:20240116T202721Z
UID:12672-1705399200-1705399200@arwrcucc.ca
SUMMARY:WOW Human Resources Commission Meeting
DESCRIPTION:
URL:https://arwrcucc.ca/event/wow-human-resources-commission-meeting-6/
CATEGORIES:Meeting,Online Gathering,Regional Council
END:VEVENT
BEGIN:VEVENT
DTSTART;TZID=America/New_York:20240113T090000
DTEND;TZID=America/New_York:20240113T123000
DTSTAMP:20260419T194233
CREATED:20240116T202608Z
LAST-MODIFIED:20240116T202608Z
UID:12670-1705136400-1705149000@arwrcucc.ca
SUMMARY:Tri-Regional Council Executive Meeting
DESCRIPTION:
URL:https://arwrcucc.ca/event/tri-regional-council-executive-meeting/
LOCATION:Online via Zoom
CATEGORIES:Community,Event,Meeting,Online Gathering,Regional Council
END:VEVENT
BEGIN:VEVENT
DTSTART;TZID=America/Toronto:20240109T090000
DTEND;TZID=America/Toronto:20240109T090000
DTSTAMP:20260419T194233
CREATED:20240116T201933Z
LAST-MODIFIED:20240116T201933Z
UID:12659-1704790800-1704790800@arwrcucc.ca
SUMMARY:ARW Human Resources Commission Meeting
DESCRIPTION:
URL:https://arwrcucc.ca/event/arw-human-resources-commission-meeting-6/
CATEGORIES:Meeting,Online Gathering,Regional Council
END:VEVENT
BEGIN:VEVENT
DTSTART;VALUE=DATE:20241224
DTEND;VALUE=DATE:20250101
DTSTAMP:20260419T194233
CREATED:20241205T154810Z
LAST-MODIFIED:20241205T155704Z
UID:27107-1734998400-1735689599@arwrcucc.ca
SUMMARY:Christmas Office Closure
DESCRIPTION:
URL:https://arwrcucc.ca/event/christmas-office-closure-3/
CATEGORIES:Holiday,Regional Council,Staff
END:VEVENT
BEGIN:VEVENT
DTSTART;VALUE=DATE:20231222
DTEND;VALUE=DATE:20240102
DTSTAMP:20260419T194233
CREATED:20221212T183906Z
LAST-MODIFIED:20221212T183906Z
UID:9384-1703203200-1704153599@arwrcucc.ca
SUMMARY:Christmas Office Closure
DESCRIPTION:
URL:https://arwrcucc.ca/event/christmas-office-closure-2/
CATEGORIES:Holiday,Regional Council,Staff
END:VEVENT
BEGIN:VEVENT
DTSTART;TZID=America/Toronto:20231219T100000
DTEND;TZID=America/Toronto:20231219T100000
DTSTAMP:20260419T194233
CREATED:20231018T182300Z
LAST-MODIFIED:20231018T182300Z
UID:11039-1702980000-1702980000@arwrcucc.ca
SUMMARY:WOW Human Resources Commission Meeting
DESCRIPTION:
URL:https://arwrcucc.ca/event/wow-human-resources-commission-meeting-5/
CATEGORIES:Meeting,Online Gathering,Regional Council
END:VEVENT
BEGIN:VEVENT
DTSTART;TZID=America/New_York:20231212T133000
DTEND;TZID=America/New_York:20231212T153000
DTSTAMP:20260419T194233
CREATED:20231102T145235Z
LAST-MODIFIED:20231102T145909Z
UID:11127-1702387800-1702395000@arwrcucc.ca
SUMMARY:'Fare Thee Well' Celebration for Cheryl-Ann Stadelbauer-Sampa
DESCRIPTION:
URL:https://arwrcucc.ca/event/11127/
LOCATION:Avondale United Church\, 194 Avondale Avenue\, Stratford\, Ontario\, N5A6N4\, Canada
CATEGORIES:Community,Event,General Council,Regional Council,Staff
END:VEVENT
BEGIN:VEVENT
DTSTART;TZID=America/Toronto:20231212T090000
DTEND;TZID=America/Toronto:20231212T090000
DTSTAMP:20260419T194233
CREATED:20231018T181618Z
LAST-MODIFIED:20231018T181618Z
UID:11029-1702371600-1702371600@arwrcucc.ca
SUMMARY:ARW Human Resources Commission Meeting
DESCRIPTION:
URL:https://arwrcucc.ca/event/arw-human-resources-commission-meeting-5/
CATEGORIES:Meeting,Online Gathering,Regional Council
END:VEVENT
BEGIN:VEVENT
DTSTART;TZID=America/New_York:20231206T121500
DTEND;TZID=America/New_York:20231206T133000
DTSTAMP:20260419T194233
CREATED:20231115T153406Z
LAST-MODIFIED:20231115T153406Z
UID:11262-1701864900-1701869400@arwrcucc.ca
SUMMARY:Raising Cheerful Givers: Teaching GENEROSITY to Kids
DESCRIPTION:Children and Youth Ministry Webinars (Generosity) 2023) no link
URL:https://arwrcucc.ca/event/raising-cheerful-givers-teaching-generosity-to-kids/
LOCATION:Online via Zoom
CATEGORIES:Affirming,Community,Event,Kids and Youth,Learning Opportunity,Meeting,Online Gathering,Regional Council
ATTACH;FMTTYPE=image/png:https://arwrcucc.ca/wp-content/uploads/2023/11/raisingcheerfulgivers2.png
END:VEVENT
BEGIN:VEVENT
DTSTART;TZID=America/Toronto:20231122T130000
DTEND;TZID=America/Toronto:20231122T130000
DTSTAMP:20260419T194233
CREATED:20231018T161506Z
LAST-MODIFIED:20231018T161506Z
UID:11021-1700658000-1700658000@arwrcucc.ca
SUMMARY:HF Human Resources Commission Meeting
DESCRIPTION:
URL:https://arwrcucc.ca/event/hf-human-resources-commission-meeting-4/
CATEGORIES:Meeting,Regional Council
END:VEVENT
BEGIN:VEVENT
DTSTART;TZID=America/Toronto:20231121T100000
DTEND;TZID=America/Toronto:20231121T100000
DTSTAMP:20260419T194233
CREATED:20231018T161412Z
LAST-MODIFIED:20231018T161412Z
UID:11019-1700560800-1700560800@arwrcucc.ca
SUMMARY:WOW Human Resources Commission Meeting
DESCRIPTION:
URL:https://arwrcucc.ca/event/wow-human-resources-commission-meeting-4/
CATEGORIES:Meeting,Online Gathering,Regional Council
END:VEVENT
BEGIN:VEVENT
DTSTART;TZID=America/New_York:20231115T140000
DTEND;TZID=America/New_York:20231115T140000
DTSTAMP:20260419T194233
CREATED:20230822T130551Z
LAST-MODIFIED:20231109T185046Z
UID:10727-1700056800-1700056800@arwrcucc.ca
SUMMARY:Tri-Regional Church Property Information Session
DESCRIPTION:Nov 15 Church Property Information Session 2 pm  Zoom (tri-regional) \nARW HF and WOW present an Information Gathering \nManaging Church Property and the role of Regional Council\nJoin Lynne Allin Wed November 15th 2-3:00 pm to explore these topics \nHow to lease space? \nWhat is a Major Asset or Renovation? \nWhen is Regional Council consent required? \nWhere to get information about redevelopment? \nQ & A \nJoin Zoom Meeting\nhttps://united-church.zoom.us/j/87246561004 \nMeeting ID: 872 4656 1004\nOne tap mobile\n+15873281099\,\,87246561004# Canada\n+16473744685\,\,87246561004# Canada \nDial by your location \n* Please use local numbers when feasible to save costs for the church. * \n+1 587 328 1099 Canada\n+1 647 374 4685 Canada\n+1 647 558 0588 Canada\n+1 778 907 2071 Canada\n+1 438 809 7799 Canada\n855 703 8985 Canada Toll-free
URL:https://arwrcucc.ca/event/tri-regional-church-property-information-session/
LOCATION:Online via Zoom
CATEGORIES:Meeting,Online Gathering,Regional Council
ATTACH;FMTTYPE=image/png:https://arwrcucc.ca/wp-content/uploads/2023/08/Screenshot-200.png
END:VEVENT
BEGIN:VEVENT
DTSTART;TZID=America/Toronto:20231114T090000
DTEND;TZID=America/Toronto:20231114T090000
DTSTAMP:20260419T194233
CREATED:20231018T160832Z
LAST-MODIFIED:20231018T160832Z
UID:11011-1699952400-1699952400@arwrcucc.ca
SUMMARY:ARW Human Resources Commission Meeting
DESCRIPTION:
URL:https://arwrcucc.ca/event/arw-human-resources-commission-meeting-4/
CATEGORIES:Meeting,Online Gathering,Regional Council
END:VEVENT
BEGIN:VEVENT
DTSTART;TZID=America/New_York:20231108T140000
DTEND;TZID=America/New_York:20231108T140000
DTSTAMP:20260419T194233
CREATED:20231101T130946Z
LAST-MODIFIED:20231101T131258Z
UID:11120-1699452000-1699452000@arwrcucc.ca
SUMMARY:Tri-Regional Pastoral Charge Supervisor Gathering
DESCRIPTION:Join Zoom Meetinghttps://united-church.zoom.us/j/83527639224 \nMeeting ID: 835 2763 9224 855 703 8985 Canada Toll-free
URL:https://arwrcucc.ca/event/tri-regional-pastoral-charge-supervisor-gathering-2/
LOCATION:Online via Zoom
CATEGORIES:Community,Event,Learning Opportunity,Meeting,Online Gathering,Regional Council,Staff,Training
END:VEVENT
BEGIN:VEVENT
DTSTART;TZID=America/Toronto:20231107T140000
DTEND;TZID=America/Toronto:20231107T160000
DTSTAMP:20260419T194233
CREATED:20230823T183720Z
LAST-MODIFIED:20230823T183720Z
UID:10742-1699365600-1699372800@arwrcucc.ca
SUMMARY:Liaison Training
DESCRIPTION:Liaison Training – Tuesday November 7th from 2-4 PM
URL:https://arwrcucc.ca/event/liaison-training/
LOCATION:Online via Zoom
CATEGORIES:Community,Event,Learning Opportunity,Regional Council,Training
ORGANIZER;CN="Micol Cottrell":MAILTO:MCottrell@united-church.ca
END:VEVENT
BEGIN:VEVENT
DTSTART;VALUE=DATE:20231027
DTEND;VALUE=DATE:20231029
DTSTAMP:20260419T194233
CREATED:20230713T185758Z
LAST-MODIFIED:20230828T153340Z
UID:10424-1698364800-1698537599@arwrcucc.ca
SUMMARY:ARW Fall Regional Council Meeting
DESCRIPTION:SAVE THE DATES FOR THE:\n  \nAntler River Watershed Regional Council Fall Meeting\n\nARW Fall Regional Council Meeting sessions will be all be online via ZOOM:\n\n\n\nFriday October 27\, 2023\n\n\n\nTimes: TBA \nSaturday October 28\, 2023 \n\n\n\nTimes: TBA
URL:https://arwrcucc.ca/event/arw-fall-regional-council-meeting/
LOCATION:Online via Zoom
CATEGORIES:2SLGBTQIA,Affirming,Anti-Racism,Camps & Retreats,Clergy Gathering,Climate Change,Community,Event,General Council,Indigenous Justice,Kids and Youth,Learning Opportunity,Meeting,Ministry Personnel,Mission Support Grants,Music,Online Gathering,Regional Council,Social Justice,Speakers,Staff,Stewardship,UCW
ATTACH;FMTTYPE=image/png:https://arwrcucc.ca/wp-content/uploads/2023/08/arwfall2023.png
ORGANIZER;CN="Antler River Watershed Regional Council":MAILTO:arwrc@united-church.ca
END:VEVENT
BEGIN:VEVENT
DTSTART;VALUE=DATE:20231027
DTEND;VALUE=DATE:20231029
DTSTAMP:20260419T194233
CREATED:20221212T203106Z
LAST-MODIFIED:20221212T203106Z
UID:9400-1698364800-1698537599@arwrcucc.ca
SUMMARY:Antler River Watershed Fall Regional Council Meeting
DESCRIPTION:ARWRC Fall 2023 Meeting\nOctober 27-28\, 2023 (online)\nRegistration deadline: October 20\, 2023
URL:https://arwrcucc.ca/event/antler-river-watershed-fall-regional-council-meeting/
CATEGORIES:Affirming,Anti-Racism,Camps & Retreats,Clergy Gathering,Climate Change,Community,Event,Events,General Council,Indigenous Justice,Kids and Youth,Learning Opportunity,Meeting,Music,Online Gathering,Regional Council,Social Justice,Speakers,Staff,Stewardship,UCW
END:VEVENT
BEGIN:VEVENT
DTSTART;TZID=America/Toronto:20231025T130000
DTEND;TZID=America/Toronto:20231025T130000
DTSTAMP:20260419T194233
CREATED:20230831T192818Z
LAST-MODIFIED:20230831T192818Z
UID:10829-1698238800-1698238800@arwrcucc.ca
SUMMARY:HF Human Resources Commission Meeting
DESCRIPTION:
URL:https://arwrcucc.ca/event/hf-human-resources-commission-meeting-3/
CATEGORIES:Meeting,Regional Council
END:VEVENT
BEGIN:VEVENT
DTSTART;TZID=America/Toronto:20231017T100000
DTEND;TZID=America/Toronto:20231017T100000
DTSTAMP:20260419T194233
CREATED:20230831T192402Z
LAST-MODIFIED:20230831T192402Z
UID:10821-1697536800-1697536800@arwrcucc.ca
SUMMARY:WOW Human Resources Commission Meeting
DESCRIPTION:
URL:https://arwrcucc.ca/event/wow-human-resources-commission-meeting-3/
CATEGORIES:Meeting,Online Gathering,Regional Council
END:VEVENT
BEGIN:VEVENT
DTSTART;VALUE=DATE:20231013
DTEND;VALUE=DATE:20231015
DTSTAMP:20260419T194233
CREATED:20230828T155540Z
LAST-MODIFIED:20230828T155541Z
UID:10761-1697155200-1697327999@arwrcucc.ca
SUMMARY:Horseshoe Falls Fall Regional Council Meeting
DESCRIPTION:
URL:https://arwrcucc.ca/event/horseshoe-falls-fall-regional-council-meeting/
LOCATION:Online via Zoom
CATEGORIES:2SLGBTQIA,Affirming,Anti-Racism,Camps & Retreats,Clergy Gathering,Climate Change,Community,Event,General Council,Indigenous Justice,Kids and Youth,Learning Opportunity,Meeting,Ministry Personnel,Mission Support Grants,Music,Online Gathering,Regional Council,Social Justice,Speakers,Staff,Stewardship,UCW
ATTACH;FMTTYPE=image/png:https://arwrcucc.ca/wp-content/uploads/2023/08/hffall2023.png
END:VEVENT
BEGIN:VEVENT
DTSTART;TZID=America/Toronto:20231011T090000
DTEND;TZID=America/Toronto:20231011T090000
DTSTAMP:20260419T194233
CREATED:20230630T183108Z
LAST-MODIFIED:20230630T183153Z
UID:10409-1697014800-1697014800@arwrcucc.ca
SUMMARY:ARW Executive and Commissions Orientation
DESCRIPTION:
URL:https://arwrcucc.ca/event/arw-executive-and-commissions-orientation/
CATEGORIES:Meeting,Regional Council
END:VEVENT
BEGIN:VEVENT
DTSTART;TZID=America/Toronto:20231010T090000
DTEND;TZID=America/Toronto:20231010T090000
DTSTAMP:20260419T194233
CREATED:20230831T192040Z
LAST-MODIFIED:20230831T192040Z
UID:10815-1696928400-1696928400@arwrcucc.ca
SUMMARY:ARW Human Resources Commission Meeting
DESCRIPTION:
URL:https://arwrcucc.ca/event/arw-human-resources-commission-meeting-3/
CATEGORIES:Meeting,Online Gathering,Regional Council
END:VEVENT
BEGIN:VEVENT
DTSTART;VALUE=DATE:20230928
DTEND;VALUE=DATE:20231002
DTSTAMP:20260419T194233
CREATED:20230828T161648Z
LAST-MODIFIED:20230828T161648Z
UID:10766-1695859200-1696204799@arwrcucc.ca
SUMMARY:Western Ontario Waterways Fall Regional Council Meeting
DESCRIPTION:
URL:https://arwrcucc.ca/event/western-ontario-waterways-fall-regional-council-meeting/
CATEGORIES:2SLGBTQIA,Affirming,Anti-Racism,Clergy Gathering,Community,Event,General Council,Indigenous Justice,Kids and Youth,Learning Opportunity,Ministry Personnel,Mission Support Grants,Music,Online Gathering,Regional Council,Social Justice,Speakers,Staff,Stewardship,UCW
ATTACH;FMTTYPE=image/png:https://arwrcucc.ca/wp-content/uploads/2023/08/wowfall2023.png
END:VEVENT
BEGIN:VEVENT
DTSTART;TZID=America/Toronto:20230927T130000
DTEND;TZID=America/Toronto:20230927T130000
DTSTAMP:20260419T194233
CREATED:20230810T191614Z
LAST-MODIFIED:20230810T191614Z
UID:10686-1695819600-1695819600@arwrcucc.ca
SUMMARY:HF Human Resources Commission Meeting
DESCRIPTION:
URL:https://arwrcucc.ca/event/hf-human-resources-commission-meeting-2/
CATEGORIES:Meeting,Regional Council
END:VEVENT
BEGIN:VEVENT
DTSTART;TZID=America/Toronto:20230919T100000
DTEND;TZID=America/Toronto:20230919T100000
DTSTAMP:20260419T194233
CREATED:20230810T190818Z
LAST-MODIFIED:20230810T190818Z
UID:10673-1695117600-1695117600@arwrcucc.ca
SUMMARY:WOW Human Resources Commission Meeting
DESCRIPTION:
URL:https://arwrcucc.ca/event/wow-human-resources-commission-meeting/
CATEGORIES:Meeting,Online Gathering,Regional Council
END:VEVENT
BEGIN:VEVENT
DTSTART;TZID=America/Toronto:20230912T090000
DTEND;TZID=America/Toronto:20230912T090000
DTSTAMP:20260419T194233
CREATED:20230810T185705Z
LAST-MODIFIED:20230810T185705Z
UID:10658-1694509200-1694509200@arwrcucc.ca
SUMMARY:ARW Human Resources Commission Meeting
DESCRIPTION:
URL:https://arwrcucc.ca/event/arw-human-resources-commission-meeting-2/
CATEGORIES:Meeting,Online Gathering,Regional Council
END:VEVENT
BEGIN:VEVENT
DTSTART;TZID=America/Toronto:20230823T130000
DTEND;TZID=America/Toronto:20230823T130000
DTSTAMP:20260419T194233
CREATED:20230803T172535Z
LAST-MODIFIED:20230803T172535Z
UID:10573-1692795600-1692795600@arwrcucc.ca
SUMMARY:HF Human Resources Commission Meeting
DESCRIPTION:
URL:https://arwrcucc.ca/event/hf-human-resources-commission-meeting/
CATEGORIES:Meeting,Regional Council
END:VEVENT
BEGIN:VEVENT
DTSTART;TZID=America/Toronto:20230815T100000
DTEND;TZID=America/Toronto:20230815T100000
DTSTAMP:20260419T194233
CREATED:20230803T172245Z
LAST-MODIFIED:20230803T173126Z
UID:10571-1692093600-1692093600@arwrcucc.ca
SUMMARY:WOW Human Resources Commission Meeting
DESCRIPTION:
URL:https://arwrcucc.ca/event/wow-human-resources-commission-meeting-2/
CATEGORIES:Meeting,Online Gathering,Regional Council
END:VEVENT
BEGIN:VEVENT
DTSTART;TZID=America/Toronto:20230808T090000
DTEND;TZID=America/Toronto:20230808T090000
DTSTAMP:20260419T194233
CREATED:20230803T171538Z
LAST-MODIFIED:20230803T171538Z
UID:10559-1691485200-1691485200@arwrcucc.ca
SUMMARY:ARW Human Resources Commission Meeting
DESCRIPTION:
URL:https://arwrcucc.ca/event/arw-human-resources-commission-meeting/
CATEGORIES:Meeting,Online Gathering,Regional Council
END:VEVENT
END:VCALENDAR