BEGIN:VCALENDAR
VERSION:2.0
PRODID:-//Antler River Watershed Regional Council - ECPv6.15.20//NONSGML v1.0//EN
CALSCALE:GREGORIAN
METHOD:PUBLISH
X-WR-CALNAME:Antler River Watershed Regional Council
X-ORIGINAL-URL:https://arwrcucc.ca
X-WR-CALDESC:Events for Antler River Watershed Regional Council
REFRESH-INTERVAL;VALUE=DURATION:PT1H
X-Robots-Tag:noindex
X-PUBLISHED-TTL:PT1H
BEGIN:VTIMEZONE
TZID:America/Toronto
BEGIN:DAYLIGHT
TZOFFSETFROM:-0500
TZOFFSETTO:-0400
TZNAME:EDT
DTSTART:20210314T070000
END:DAYLIGHT
BEGIN:STANDARD
TZOFFSETFROM:-0400
TZOFFSETTO:-0500
TZNAME:EST
DTSTART:20211107T060000
END:STANDARD
BEGIN:DAYLIGHT
TZOFFSETFROM:-0500
TZOFFSETTO:-0400
TZNAME:EDT
DTSTART:20220313T070000
END:DAYLIGHT
BEGIN:STANDARD
TZOFFSETFROM:-0400
TZOFFSETTO:-0500
TZNAME:EST
DTSTART:20221106T060000
END:STANDARD
BEGIN:DAYLIGHT
TZOFFSETFROM:-0500
TZOFFSETTO:-0400
TZNAME:EDT
DTSTART:20230312T070000
END:DAYLIGHT
BEGIN:STANDARD
TZOFFSETFROM:-0400
TZOFFSETTO:-0500
TZNAME:EST
DTSTART:20231105T060000
END:STANDARD
END:VTIMEZONE
BEGIN:VEVENT
DTSTART;TZID=America/Toronto:20220602T210000
DTEND;TZID=America/Toronto:20220602T210000
DTSTAMP:20260420T071104
CREATED:20220413T164356Z
LAST-MODIFIED:20220413T164356Z
UID:8403-1654203600-1654203600@arwrcucc.ca
SUMMARY:Registration Closes for ARW Spring RC Meeting
DESCRIPTION:
URL:https://arwrcucc.ca/event/registration-closes-for-arw-spring-rc-meeting/
CATEGORIES:Deadline,Meeting,Regional Council,Registration
ORGANIZER;CN="Antler River Watershed Regional Council":MAILTO:arwrc@united-church.ca
END:VEVENT
BEGIN:VEVENT
DTSTART;VALUE=DATE:20220524
DTEND;VALUE=DATE:20220526
DTSTAMP:20260420T071104
CREATED:20220517T151456Z
LAST-MODIFIED:20220517T151702Z
UID:8543-1653350400-1653523199@arwrcucc.ca
SUMMARY:Summer Programming: What are you doing?
DESCRIPTION:“We Are Not Alone” in Children and Youth Ministry. Let us SHARE \nOne Topic offered at two different times \nSummer Programming: What are you doing?\nCome prepared to share your ideas and/or listen to others \nTo get Zoom Link\, Contact: \nKathy Douglas kdouglas@united-church.ca\nFaith Formation Minister\, ARW\,WOW\, HF Regions \nSharing: Summer Programming Round Table – Projects and Programs \nTuesday\, May 24@ 7:30-8:45pm OR Wednesday\, May 25@ 10-11:15am \nPurpose of these gatherings: \n\nConnect with others doing Children and Youth Ministry\nShare resources\, ideas and struggles\nA shared moment of Faith Practice
URL:https://arwrcucc.ca/event/summer-programming-what-are-you-doing/
LOCATION:Online via Zoom
CATEGORIES:Affirming,Camps & Retreats,Community,Event,Kids and Youth,Learning Opportunity,Meeting,Online Gathering,Regional Council,Seasonal
ATTACH;FMTTYPE=image/jpeg:https://arwrcucc.ca/wp-content/uploads/2022/05/mi-pham-xtd3zYWxEs4-unsplash-scaled.jpg
END:VEVENT
BEGIN:VEVENT
DTSTART;TZID=America/Toronto:20220511T173000
DTEND;TZID=America/Toronto:20220511T190000
DTSTAMP:20260420T071104
CREATED:20220322T164546Z
LAST-MODIFIED:20220322T164546Z
UID:8188-1652290200-1652295600@arwrcucc.ca
SUMMARY:Antler River Watershed Executive Meeting
DESCRIPTION:
URL:https://arwrcucc.ca/event/antler-river-watershed-executive-meeting-2/
LOCATION:Online via Zoom
CATEGORIES:Meeting,Regional Council
END:VEVENT
BEGIN:VEVENT
DTSTART;TZID=America/Toronto:20220510T090000
DTEND;TZID=America/Toronto:20220510T090000
DTSTAMP:20260420T071104
CREATED:20220321T165215Z
LAST-MODIFIED:20220321T165215Z
UID:8103-1652173200-1652173200@arwrcucc.ca
SUMMARY:Antler River Watershed Human Resources Commission Meeting
DESCRIPTION:
URL:https://arwrcucc.ca/event/antler-river-watershed-human-resources-commission-meeting-11/
LOCATION:Online via Zoom
CATEGORIES:Meeting,Online Gathering,Regional Council
END:VEVENT
BEGIN:VEVENT
DTSTART;TZID=America/Toronto:20220509T090000
DTEND;TZID=America/Toronto:20220509T090000
DTSTAMP:20260420T071104
CREATED:20220413T164248Z
LAST-MODIFIED:20220413T164248Z
UID:8401-1652086800-1652086800@arwrcucc.ca
SUMMARY:Registration Opens for ARW Spring RC Meeting
DESCRIPTION:
URL:https://arwrcucc.ca/event/registration-opens-for-arw-spring-rc-meeting/
CATEGORIES:Meeting,Regional Council,Registration
ORGANIZER;CN="Antler River Watershed Regional Council":MAILTO:arwrc@united-church.ca
END:VEVENT
BEGIN:VEVENT
DTSTART;TZID=America/Toronto:20220502T090000
DTEND;TZID=America/Toronto:20220502T090000
DTSTAMP:20260420T071104
CREATED:20220321T163622Z
LAST-MODIFIED:20220321T163622Z
UID:8084-1651482000-1651482000@arwrcucc.ca
SUMMARY:Antler River Watershed Covenant Commission Meeting
DESCRIPTION:
URL:https://arwrcucc.ca/event/antler-river-watershed-covenant-commission-meeting-11/
LOCATION:Online via Zoom
CATEGORIES:Meeting,Online Gathering,Regional Council
ORGANIZER;CN="Antler River Watershed Regional Council":MAILTO:arwrc@united-church.ca
END:VEVENT
BEGIN:VEVENT
DTSTART;TZID=America/Toronto:20220501T190000
DTEND;TZID=America/Toronto:20220501T210000
DTSTAMP:20260420T071104
CREATED:20220422T173105Z
LAST-MODIFIED:20220422T173105Z
UID:8442-1651431600-1651438800@arwrcucc.ca
SUMMARY:SJNORC Round Table
DESCRIPTION:Save the Date for SJNORC Round Table
URL:https://arwrcucc.ca/event/sjnorc-round-table/
LOCATION:Online via Zoom
CATEGORIES:Community,Event,Online Gathering,Regional Council,Social Justice
ATTACH;FMTTYPE=image/jpeg:https://arwrcucc.ca/wp-content/uploads/2022/04/jennifer-griffin-xePUAbiilko-unsplash-vote-scaled-e1649795968900.jpg
END:VEVENT
BEGIN:VEVENT
DTSTART;TZID=America/Toronto:20220414T140000
DTEND;TZID=America/Toronto:20220414T151500
DTSTAMP:20260420T071104
CREATED:20220411T145101Z
LAST-MODIFIED:20220411T154007Z
UID:8337-1649944800-1649949300@arwrcucc.ca
SUMMARY:A Special Invitation to Retired Clergy
DESCRIPTION:INVITATION to RETIRED CLERGY\nfrom Retirees Forum of East Central Ontario Regional CouncilFor an online gathering of Retired Clergy \nThursday\, April 14 from 2:00 to 3:15 pmThe Retirees Forum of ECORC would like to invite you to join us in a conversation about how our experiences in pastoral ministry might be helpful in addressing the challenging issues facing those in ministry today.For example: changing perspectives in theology\, communicating the gospel in a mostly secular/unchurched/multi-faith environment\, addressing lack of financial and other resources. Two members of the leadership team will offer their input and then we will break into small groups where we can all respond.To join the meetingsend an RSVP to pastor.ianr@gmail.com!The Zoom link will be sent the morning of Thursday\, April 14.Brought to you at no cost by the Rural Ministry Network\, Horseshoe Falls Regional Counciland the Retirees Form of East Central Ontario Regional Council.
URL:https://arwrcucc.ca/event/a-special-invitation-to-retired-clergy/
LOCATION:Online via Zoom
CATEGORIES:Clergy Gathering,Events,Meeting,Ministry Personnel,Online Gathering,Regional Council
END:VEVENT
BEGIN:VEVENT
DTSTART;TZID=America/Toronto:20220413T173000
DTEND;TZID=America/Toronto:20220413T190000
DTSTAMP:20260420T071104
CREATED:20220322T164438Z
LAST-MODIFIED:20220322T164438Z
UID:8185-1649871000-1649876400@arwrcucc.ca
SUMMARY:Antler River Watershed Executive Meeting
DESCRIPTION:
URL:https://arwrcucc.ca/event/antler-river-watershed-executive-meeting/
LOCATION:Online via Zoom
CATEGORIES:Meeting,Regional Council
END:VEVENT
BEGIN:VEVENT
DTSTART;TZID=America/Toronto:20220412T090000
DTEND;TZID=America/Toronto:20220412T090000
DTSTAMP:20260420T071104
CREATED:20220321T165123Z
LAST-MODIFIED:20220321T165123Z
UID:8100-1649754000-1649754000@arwrcucc.ca
SUMMARY:Antler River Watershed Human Resources Commission Meeting
DESCRIPTION:
URL:https://arwrcucc.ca/event/antler-river-watershed-human-resources-commission-meeting-10/
LOCATION:Online via Zoom
CATEGORIES:Meeting,Online Gathering,Regional Council
END:VEVENT
BEGIN:VEVENT
DTSTART;TZID=America/Toronto:20220404T090000
DTEND;TZID=America/Toronto:20220404T090000
DTSTAMP:20260420T071104
CREATED:20220321T163550Z
LAST-MODIFIED:20220321T163550Z
UID:8081-1649062800-1649062800@arwrcucc.ca
SUMMARY:Antler River Watershed Covenant Commission Meeting
DESCRIPTION:
URL:https://arwrcucc.ca/event/antler-river-watershed-covenant-commission-meeting-10/
LOCATION:Online via Zoom
CATEGORIES:Meeting,Online Gathering,Regional Council
ORGANIZER;CN="Antler River Watershed Regional Council":MAILTO:arwrc@united-church.ca
END:VEVENT
END:VCALENDAR