BEGIN:VCALENDAR
VERSION:2.0
PRODID:-//Antler River Watershed Regional Council - ECPv6.15.20//NONSGML v1.0//EN
CALSCALE:GREGORIAN
METHOD:PUBLISH
X-WR-CALNAME:Antler River Watershed Regional Council
X-ORIGINAL-URL:https://arwrcucc.ca
X-WR-CALDESC:Events for Antler River Watershed Regional Council
REFRESH-INTERVAL;VALUE=DURATION:PT1H
X-Robots-Tag:noindex
X-PUBLISHED-TTL:PT1H
BEGIN:VTIMEZONE
TZID:America/Toronto
BEGIN:DAYLIGHT
TZOFFSETFROM:-0500
TZOFFSETTO:-0400
TZNAME:EDT
DTSTART:20240310T070000
END:DAYLIGHT
BEGIN:STANDARD
TZOFFSETFROM:-0400
TZOFFSETTO:-0500
TZNAME:EST
DTSTART:20241103T060000
END:STANDARD
BEGIN:DAYLIGHT
TZOFFSETFROM:-0500
TZOFFSETTO:-0400
TZNAME:EDT
DTSTART:20250309T070000
END:DAYLIGHT
BEGIN:STANDARD
TZOFFSETFROM:-0400
TZOFFSETTO:-0500
TZNAME:EST
DTSTART:20251102T060000
END:STANDARD
BEGIN:DAYLIGHT
TZOFFSETFROM:-0500
TZOFFSETTO:-0400
TZNAME:EDT
DTSTART:20260308T070000
END:DAYLIGHT
BEGIN:STANDARD
TZOFFSETFROM:-0400
TZOFFSETTO:-0500
TZNAME:EST
DTSTART:20261101T060000
END:STANDARD
BEGIN:DAYLIGHT
TZOFFSETFROM:-0500
TZOFFSETTO:-0400
TZNAME:EDT
DTSTART:20270314T070000
END:DAYLIGHT
BEGIN:STANDARD
TZOFFSETFROM:-0400
TZOFFSETTO:-0500
TZNAME:EST
DTSTART:20271107T060000
END:STANDARD
END:VTIMEZONE
BEGIN:VEVENT
DTSTART;TZID=America/Toronto:20250625T130000
DTEND;TZID=America/Toronto:20250625T130000
DTSTAMP:20260420T001909
CREATED:20250602T180204Z
LAST-MODIFIED:20250602T180204Z
UID:31132-1750856400-1750856400@arwrcucc.ca
SUMMARY:HF Human Resources Commission Meeting
DESCRIPTION:
URL:https://arwrcucc.ca/event/hf-human-resources-commission-meeting-20/
CATEGORIES:Meeting,Regional Council
END:VEVENT
BEGIN:VEVENT
DTSTART;TZID=America/Toronto:20250729T090000
DTEND;TZID=America/Toronto:20250729T100000
DTSTAMP:20260420T001909
CREATED:20250721T175608Z
LAST-MODIFIED:20250721T175608Z
UID:31373-1753779600-1753783200@arwrcucc.ca
SUMMARY:Snapshot
DESCRIPTION:Contact Kathy Douglas\, Faith Formation Minister KDouglas@united-church.ca
URL:https://arwrcucc.ca/event/snapshot/
LOCATION:Online by Zoom link
CATEGORIES:2SLGBTQIA,Affirming,Anti-Racism,Camps & Retreats,Community,Event,Kids and Youth,Learning Opportunity,Meeting,Online Gathering,Regional Council
ATTACH;FMTTYPE=image/png:https://arwrcucc.ca/wp-content/uploads/2025/07/A-snapshot.png
END:VEVENT
BEGIN:VEVENT
DTSTART;TZID=America/Toronto:20250814T150000
DTEND;TZID=America/Toronto:20250814T160000
DTSTAMP:20260420T001909
CREATED:20250721T175709Z
LAST-MODIFIED:20250721T175709Z
UID:31376-1755183600-1755187200@arwrcucc.ca
SUMMARY:Snapshot
DESCRIPTION:Contact Kathy Douglas\, Faith Formation Minister KDouglas@united-church.ca
URL:https://arwrcucc.ca/event/snapshot-2/
LOCATION:Online by Zoom link
CATEGORIES:2SLGBTQIA,Affirming,Anti-Racism,Camps & Retreats,Community,Event,Kids and Youth,Learning Opportunity,Meeting,Online Gathering,Regional Council
ATTACH;FMTTYPE=image/png:https://arwrcucc.ca/wp-content/uploads/2025/07/A-snapshot.png
ORGANIZER;CN="Kathy Douglas":MAILTO:kdouglas@united-church.ca
END:VEVENT
BEGIN:VEVENT
DTSTART;TZID=America/Toronto:20250820T110000
DTEND;TZID=America/Toronto:20250820T120000
DTSTAMP:20260420T001909
CREATED:20250721T175805Z
LAST-MODIFIED:20250721T175805Z
UID:31378-1755687600-1755691200@arwrcucc.ca
SUMMARY:Snapshot
DESCRIPTION:Contact Kathy Douglas\, Faith Formation Minister KDouglas@united-church.ca
URL:https://arwrcucc.ca/event/snapshot-3/
LOCATION:Online by Zoom link
CATEGORIES:2SLGBTQIA,Affirming,Anti-Racism,Camps & Retreats,Community,Event,Kids and Youth,Learning Opportunity,Meeting,Online Gathering,Regional Council
ATTACH;FMTTYPE=image/png:https://arwrcucc.ca/wp-content/uploads/2025/07/A-snapshot.png
ORGANIZER;CN="Kathy Douglas":MAILTO:kdouglas@united-church.ca
END:VEVENT
BEGIN:VEVENT
DTSTART;TZID=America/Toronto:20250820T190000
DTEND;TZID=America/Toronto:20250820T200000
DTSTAMP:20260420T001909
CREATED:20250721T175844Z
LAST-MODIFIED:20250721T175844Z
UID:31380-1755716400-1755720000@arwrcucc.ca
SUMMARY:Snapshot
DESCRIPTION:Contact Kathy Douglas\, Faith Formation Minister KDouglas@united-church.ca
URL:https://arwrcucc.ca/event/snapshot-4/
LOCATION:Online by Zoom link
CATEGORIES:2SLGBTQIA,Affirming,Anti-Racism,Camps & Retreats,Community,Event,Kids and Youth,Learning Opportunity,Meeting,Online Gathering,Regional Council
ATTACH;FMTTYPE=image/png:https://arwrcucc.ca/wp-content/uploads/2025/07/A-snapshot.png
ORGANIZER;CN="Kathy Douglas":MAILTO:kdouglas@united-church.ca
END:VEVENT
BEGIN:VEVENT
DTSTART;TZID=America/Toronto:20250909T090000
DTEND;TZID=America/Toronto:20250909T090000
DTSTAMP:20260420T001909
CREATED:20250829T165620Z
LAST-MODIFIED:20250829T165620Z
UID:31482-1757408400-1757408400@arwrcucc.ca
SUMMARY:ARW Pastoral Relations Commission Meeting
DESCRIPTION:
URL:https://arwrcucc.ca/event/arw-pastoral-relations-commission-meeting-6/
CATEGORIES:Meeting,Online Gathering,Regional Council
END:VEVENT
BEGIN:VEVENT
DTSTART;TZID=America/Toronto:20250916T100000
DTEND;TZID=America/Toronto:20250916T120000
DTSTAMP:20260420T001909
CREATED:20250829T165902Z
LAST-MODIFIED:20250829T165902Z
UID:31488-1758016800-1758024000@arwrcucc.ca
SUMMARY:WOW Pastoral Relations Commission Meeting
DESCRIPTION:
URL:https://arwrcucc.ca/event/wow-pastoral-relations-commission-meeting-6/
CATEGORIES:Meeting,Online Gathering,Regional Council
END:VEVENT
BEGIN:VEVENT
DTSTART;TZID=America/Toronto:20250922T083000
DTEND;TZID=America/Toronto:20250922T083000
DTSTAMP:20260420T001909
CREATED:20250829T172227Z
LAST-MODIFIED:20250829T172227Z
UID:31501-1758529800-1758529800@arwrcucc.ca
SUMMARY:Mission Support Grant Deadline
DESCRIPTION:More information here: \nhttps://arwrcucc.ca/mission-support-grants/
URL:https://arwrcucc.ca/event/mission-support-grant-deadline/
CATEGORIES:Mission Support Grants,Regional Council,Social Justice
ATTACH;FMTTYPE=image/png:https://arwrcucc.ca/wp-content/uploads/2025/06/MSGrants2026.png
END:VEVENT
BEGIN:VEVENT
DTSTART;TZID=America/Toronto:20250924T100000
DTEND;TZID=America/Toronto:20250924T113000
DTSTAMP:20260420T001909
CREATED:20250822T204418Z
LAST-MODIFIED:20250822T204604Z
UID:31463-1758708000-1758713400@arwrcucc.ca
SUMMARY:Strawberry Thanksgiving and Communion - Online
DESCRIPTION:Join us online Wednesday\, September 24th at 10:00-11:30 AM for Strawberry Thanksgiving and Communion\, and take your acknowledgement of Territory to the next level by considering the Spiritual Covenant. \nMany congregations who have been acknowledging the territory for the past few years are asking what meaningful action they can take to move their acknowledgment from words to actions. You are invited to Strawberry Thanksgiving and Communion\, an online opportunity to begin the conversation about making a spiritual covenant. \nYou’re warmly invited\nto this special event featuring Adrian Jacobs of the Turtle Clan\, Cayuga Nation\, sharing on the Spiritual Covenant—a reflection on land\, relationship\, and reconciliation on Wednesday\, September 24th\, from 10:00-11:30 AM. \nAdrian Jacobs will offer a leadership in this workshop and communion service that will inform and inspire the discernment of churches on any traditional territory who wish to consider concrete action to live into their acknowledgment of territory. The workshop and worship will be grounded in history and scripture\, and will invite you to deeper relationship with the land and the peoples on the land\, and the Creator\, Christ and Spirit. (For more information about the Strawberry Thanksgiving and Communion and the Spiritual Covenant\, see below.) \nThe road to a decision about a faithful action by your community of faith is an ongoing journey. Come prepared to engage and to learn\, and then bring your reflections to your home church for prayerful consideration. \nBread and Juice for Communion\nThis workshop will include an online communion service\, so have your own juice and bread ready. For juice\, you are invited to honour Indigenous tradition with strawberry juice\, a local Indigenous medicine.  If you would like to make strawberry juice\, here is a simple recipe you can use:\nhttps://tworowtimes.com/healthy-roots/jihsodahk-the-leader-of-the-plants/. If you are not able to use strawberry juice\, feel free to bring any fruit juice of your choice. \nRegister in advance for this event:\nhttps://united-church.zoom.us/meeting/register/2BNM7atZRhKNuAGAeO_1nA\nAfter registering\, you will receive a confirmation email containing information about joining the meeting.\n\n\n\n\n\n\n\n\n\n\n\n\n\n\nRead More Here
URL:https://arwrcucc.ca/event/strawberry-thanksgiving-and-communion-online/
LOCATION:Online via Zoom
CATEGORIES:Community,Event,Indigenous Justice,Learning Opportunity,Online Gathering,Regional Council,Registration,Seasonal,Social Justice
ATTACH;FMTTYPE=image/png:https://arwrcucc.ca/wp-content/uploads/2025/08/strawberry3.png
END:VEVENT
BEGIN:VEVENT
DTSTART;TZID=America/Toronto:20250924T130000
DTEND;TZID=America/Toronto:20250924T130000
DTSTAMP:20260420T001909
CREATED:20250829T170206Z
LAST-MODIFIED:20250829T170206Z
UID:31494-1758718800-1758718800@arwrcucc.ca
SUMMARY:HF Human Resources Commission Meeting
DESCRIPTION:
URL:https://arwrcucc.ca/event/hf-human-resources-commission-meeting-21/
CATEGORIES:Meeting,Regional Council
END:VEVENT
BEGIN:VEVENT
DTSTART;VALUE=DATE:20251003
DTEND;VALUE=DATE:20251005
DTSTAMP:20260420T001909
CREATED:20250617T200411Z
LAST-MODIFIED:20250828T163359Z
UID:31217-1759449600-1759622399@arwrcucc.ca
SUMMARY:ARWRC Fall Meeting 2025 (Online only)
DESCRIPTION:Antler River Watershed Regional Council\nTHEME: Seasons\nYou are invited to the 2025 ARWRC Fall Gathering! \nOnline via Zoom only \nDATE: ARWRC Fall Meeting (online): October 3-4\, 2025 \nFriday October 3rd: Time 6:30pm – 8:30pm\nSaturday October 4th: Time 9:00am – 3:00pm \n\nAntler River Watershed Regional Council Fall Online Meeting Information \nRegistration begins September 4\, 2025 – Watch your emails for registration information
URL:https://arwrcucc.ca/event/arwrc-fall-meeting-2025-online-only/
LOCATION:Online by Zoom link
CATEGORIES:Community,Event,Learning Opportunity,Meeting,Online Gathering,Regional Council
ATTACH;FMTTYPE=image/png:https://arwrcucc.ca/wp-content/uploads/2025/08/ARWFall2025a.png
ORGANIZER;CN="Antler River Watershed Regional Council":MAILTO:arwrc@united-church.ca
END:VEVENT
BEGIN:VEVENT
DTSTART;TZID=America/Toronto:20251014T090000
DTEND;TZID=America/Toronto:20251014T090000
DTSTAMP:20260420T001909
CREATED:20251003T170250Z
LAST-MODIFIED:20251003T170250Z
UID:31818-1760432400-1760432400@arwrcucc.ca
SUMMARY:ARW Pastoral Relations Commission Meeting
DESCRIPTION:
URL:https://arwrcucc.ca/event/arw-pastoral-relations-commission-meeting-7/
CATEGORIES:Meeting,Online Gathering,Regional Council
END:VEVENT
BEGIN:VEVENT
DTSTART;TZID=America/Toronto:20251021T100000
DTEND;TZID=America/Toronto:20251021T120000
DTSTAMP:20260420T001909
CREATED:20251003T170638Z
LAST-MODIFIED:20251003T170638Z
UID:31824-1761040800-1761048000@arwrcucc.ca
SUMMARY:WOW Pastoral Relations Commission Meeting
DESCRIPTION:
URL:https://arwrcucc.ca/event/wow-pastoral-relations-commission-meeting-7/
CATEGORIES:Meeting,Online Gathering,Regional Council
END:VEVENT
BEGIN:VEVENT
DTSTART;TZID=America/Toronto:20251022T130000
DTEND;TZID=America/Toronto:20251022T130000
DTSTAMP:20260420T001909
CREATED:20251003T170840Z
LAST-MODIFIED:20251003T170840Z
UID:31830-1761138000-1761138000@arwrcucc.ca
SUMMARY:HF Human Resources Commission Meeting
DESCRIPTION:
URL:https://arwrcucc.ca/event/hf-human-resources-commission-meeting-22/
CATEGORIES:Meeting,Regional Council
END:VEVENT
BEGIN:VEVENT
DTSTART;TZID=America/Toronto:20251104T090000
DTEND;TZID=America/Toronto:20251104T090000
DTSTAMP:20260420T001909
CREATED:20251103T210101Z
LAST-MODIFIED:20251103T210101Z
UID:32881-1762246800-1762246800@arwrcucc.ca
SUMMARY:ARW Pastoral Relations Commission Meeting
DESCRIPTION:
URL:https://arwrcucc.ca/event/arw-pastoral-relations-commission-meeting-8/
CATEGORIES:Meeting,Online Gathering,Regional Council
END:VEVENT
BEGIN:VEVENT
DTSTART;VALUE=DATE:20251107
DTEND;VALUE=DATE:20251109
DTSTAMP:20260420T001909
CREATED:20250617T200601Z
LAST-MODIFIED:20250627T191148Z
UID:31221-1762473600-1762646399@arwrcucc.ca
SUMMARY:WOWRC Fall Meeting 2025 (Online only)
DESCRIPTION:
URL:https://arwrcucc.ca/event/wowrc-fall-meeting-2025-online-only/
LOCATION:Online by Zoom link
CATEGORIES:Community,Event,Learning Opportunity,Meeting,Online Gathering,Regional Council
END:VEVENT
BEGIN:VEVENT
DTSTART;TZID=America/Toronto:20251118T100000
DTEND;TZID=America/Toronto:20251118T120000
DTSTAMP:20260420T001909
CREATED:20251103T212316Z
LAST-MODIFIED:20251103T212316Z
UID:32897-1763460000-1763467200@arwrcucc.ca
SUMMARY:WOW Pastoral Relations Commission Meeting
DESCRIPTION:
URL:https://arwrcucc.ca/event/wow-pastoral-relations-commission-meeting-8/
CATEGORIES:Meeting,Online Gathering,Regional Council
END:VEVENT
BEGIN:VEVENT
DTSTART;VALUE=DATE:20251121
DTEND;VALUE=DATE:20251123
DTSTAMP:20260420T001909
CREATED:20250617T200459Z
LAST-MODIFIED:20250617T200459Z
UID:31219-1763683200-1763855999@arwrcucc.ca
SUMMARY:HFRC Fall Meeting 2025 (Online only)
DESCRIPTION:
URL:https://arwrcucc.ca/event/hfrc-fall-meeting-2025-online-only/
LOCATION:Online by Zoom link
CATEGORIES:Community,Event,Learning Opportunity,Meeting,Online Gathering,Regional Council
END:VEVENT
BEGIN:VEVENT
DTSTART;TZID=America/Toronto:20251126T130000
DTEND;TZID=America/Toronto:20251126T130000
DTSTAMP:20260420T001909
CREATED:20251103T212631Z
LAST-MODIFIED:20251103T212631Z
UID:32905-1764162000-1764162000@arwrcucc.ca
SUMMARY:HF Human Resources Commission Meeting
DESCRIPTION:
URL:https://arwrcucc.ca/event/hf-human-resources-commission-meeting-23/
CATEGORIES:Meeting,Regional Council
END:VEVENT
BEGIN:VEVENT
DTSTART;TZID=America/Toronto:20251209T090000
DTEND;TZID=America/Toronto:20251209T090000
DTSTAMP:20260420T001909
CREATED:20251203T223434Z
LAST-MODIFIED:20251203T223434Z
UID:33445-1765270800-1765270800@arwrcucc.ca
SUMMARY:ARW Pastoral Relations Commission Meeting
DESCRIPTION:
URL:https://arwrcucc.ca/event/arw-pastoral-relations-commission-meeting-9/
CATEGORIES:Meeting,Online Gathering,Regional Council
END:VEVENT
BEGIN:VEVENT
DTSTART;TZID=America/Toronto:20260116T133000
DTEND;TZID=America/Toronto:20260116T153000
DTSTAMP:20260420T001909
CREATED:20251128T203128Z
LAST-MODIFIED:20251128T203554Z
UID:33378-1768570200-1768577400@arwrcucc.ca
SUMMARY:Kathy Douglas' Retirement Party
DESCRIPTION:
URL:https://arwrcucc.ca/event/kathy-douglas-retirement-party/
LOCATION:Avondale United Church\, 194 Avondale Avenue\, Stratford\, Ontario\, N5A6N4\, Canada
CATEGORIES:Camps & Retreats,Community,Event,Kids and Youth,Regional Council,Social Justice,Staff,UCW
ATTACH;FMTTYPE=image/png:https://arwrcucc.ca/wp-content/uploads/2025/11/kathy-retirement-1.png
END:VEVENT
BEGIN:VEVENT
DTSTART;TZID=America/Toronto:20260122T130000
DTEND;TZID=America/Toronto:20260122T141500
DTSTAMP:20260420T001909
CREATED:20260107T165017Z
LAST-MODIFIED:20260107T165326Z
UID:43447-1769086800-1769091300@arwrcucc.ca
SUMMARY:Zoom Clergy Gathering - Making the Most of Study Leave
DESCRIPTION:  \nZoom link:\n\nTopic: Workshop on Study Leave\nTime: Jan 22\, 2026 01:00 PM America/Toronto\nJoin Zoom Meeting\nhttps://us06web.zoom.us/j/81883645749?pwd=hs4SdjxdDqypIihF2BdQbz7Wts6mfn.1\n\nMeeting ID: 818 8364 5749\nPasscode: 246188
URL:https://arwrcucc.ca/event/zoom-clergy-gathering-making-the-most-of-study-leave/
LOCATION:Online by Zoom link
CATEGORIES:Clergy Gathering,Event,Learning Opportunity,Online Gathering,Regional Council,Sabbatical
ATTACH;FMTTYPE=image/png:https://arwrcucc.ca/wp-content/uploads/2026/01/clergygatheringjanuary2026.png
ORGANIZER;CN="Laurie Stevenson":MAILTO:LStevenson@united-church.ca
END:VEVENT
BEGIN:VEVENT
DTSTART;TZID=America/Toronto:20260210T090000
DTEND;TZID=America/Toronto:20260210T090000
DTSTAMP:20260420T001909
CREATED:20260203T201136Z
LAST-MODIFIED:20260203T201136Z
UID:46679-1770714000-1770714000@arwrcucc.ca
SUMMARY:ARW Pastoral Relations Commission Meeting
DESCRIPTION:
URL:https://arwrcucc.ca/event/arw-pastoral-relations-commission-meeting-10/
CATEGORIES:Meeting,Online Gathering,Regional Council
END:VEVENT
BEGIN:VEVENT
DTSTART;TZID=America/Toronto:20260217T100000
DTEND;TZID=America/Toronto:20260217T120000
DTSTAMP:20260420T001909
CREATED:20260203T202322Z
LAST-MODIFIED:20260203T202322Z
UID:46690-1771322400-1771329600@arwrcucc.ca
SUMMARY:WOW Pastoral Relations Commission Meeting
DESCRIPTION:
URL:https://arwrcucc.ca/event/wow-pastoral-relations-commission-meeting-9/
CATEGORIES:Meeting,Online Gathering,Regional Council
END:VEVENT
BEGIN:VEVENT
DTSTART;TZID=America/Toronto:20260225T130000
DTEND;TZID=America/Toronto:20260225T130000
DTSTAMP:20260420T001909
CREATED:20260203T202528Z
LAST-MODIFIED:20260203T202528Z
UID:46692-1772024400-1772024400@arwrcucc.ca
SUMMARY:HF Human Resources Commission Meeting
DESCRIPTION:
URL:https://arwrcucc.ca/event/hf-human-resources-commission-meeting-24/
CATEGORIES:Meeting,Regional Council
END:VEVENT
BEGIN:VEVENT
DTSTART;TZID=America/Toronto:20260310T090000
DTEND;TZID=America/Toronto:20260310T090000
DTSTAMP:20260420T001909
CREATED:20260302T154500Z
LAST-MODIFIED:20260302T154500Z
UID:47268-1773133200-1773133200@arwrcucc.ca
SUMMARY:ARW Human Resources Commission Meeting
DESCRIPTION:
URL:https://arwrcucc.ca/event/arw-human-resources-commission-meeting-17/
CATEGORIES:Meeting,Online Gathering,Regional Council
END:VEVENT
BEGIN:VEVENT
DTSTART;TZID=America/Toronto:20260312T130000
DTEND;TZID=America/Toronto:20260312T130000
DTSTAMP:20260420T001909
CREATED:20260224T162248Z
LAST-MODIFIED:20260224T162248Z
UID:47223-1773320400-1773320400@arwrcucc.ca
SUMMARY:Clergy Gathering
DESCRIPTION:Hosted by Laurie Stevenson\, Minister Pastoral Support\nNo Registration Required – Join Zoom Meeting\nhttps://us06web.zoom.us/j/83894431649?pwd=Je8cszpfphSaGa6z8ymGb3XrYTra3O.1\nMeeting ID: 838 9443 1649\nPasscode: 990324
URL:https://arwrcucc.ca/event/clergy-gathering/
LOCATION:Online by Zoom link
CATEGORIES:Clergy Gathering,Event,Learning Opportunity,Online Gathering,Regional Council
ATTACH;FMTTYPE=image/jpeg:https://arwrcucc.ca/wp-content/uploads/2026/02/Sabbatical-Clergy-Event.jpg
ORGANIZER;CN="Laurie Stevenson":MAILTO:LStevenson@united-church.ca
END:VEVENT
BEGIN:VEVENT
DTSTART;TZID=America/Toronto:20260317T100000
DTEND;TZID=America/Toronto:20260317T120000
DTSTAMP:20260420T001909
CREATED:20260302T154945Z
LAST-MODIFIED:20260302T154945Z
UID:47278-1773741600-1773748800@arwrcucc.ca
SUMMARY:WOW Pastoral Relations Commission Meeting
DESCRIPTION:
URL:https://arwrcucc.ca/event/wow-pastoral-relations-commission-meeting-10/
CATEGORIES:Meeting,Online Gathering,Regional Council
END:VEVENT
BEGIN:VEVENT
DTSTART;TZID=America/Toronto:20260325T130000
DTEND;TZID=America/Toronto:20260325T130000
DTSTAMP:20260420T001909
CREATED:20260302T155142Z
LAST-MODIFIED:20260302T155142Z
UID:47282-1774443600-1774443600@arwrcucc.ca
SUMMARY:HF Human Resources Commission Meeting
DESCRIPTION:
URL:https://arwrcucc.ca/event/hf-human-resources-commission-meeting-25/
CATEGORIES:Meeting,Regional Council
END:VEVENT
BEGIN:VEVENT
DTSTART;TZID=America/Toronto:20260414T090000
DTEND;TZID=America/Toronto:20260414T090000
DTSTAMP:20260420T001909
CREATED:20260330T145945Z
LAST-MODIFIED:20260330T145945Z
UID:47678-1776157200-1776157200@arwrcucc.ca
SUMMARY:ARW Human Resources Commission Meeting
DESCRIPTION:
URL:https://arwrcucc.ca/event/arw-human-resources-commission-meeting-18/
CATEGORIES:Meeting,Online Gathering,Regional Council
END:VEVENT
END:VCALENDAR