BEGIN:VCALENDAR
VERSION:2.0
PRODID:-//Antler River Watershed Regional Council - ECPv6.15.20//NONSGML v1.0//EN
CALSCALE:GREGORIAN
METHOD:PUBLISH
X-ORIGINAL-URL:https://arwrcucc.ca
X-WR-CALDESC:Events for Antler River Watershed Regional Council
REFRESH-INTERVAL;VALUE=DURATION:PT1H
X-Robots-Tag:noindex
X-PUBLISHED-TTL:PT1H
BEGIN:VTIMEZONE
TZID:America/Toronto
BEGIN:DAYLIGHT
TZOFFSETFROM:-0500
TZOFFSETTO:-0400
TZNAME:EDT
DTSTART:20220313T070000
END:DAYLIGHT
BEGIN:STANDARD
TZOFFSETFROM:-0400
TZOFFSETTO:-0500
TZNAME:EST
DTSTART:20221106T060000
END:STANDARD
BEGIN:DAYLIGHT
TZOFFSETFROM:-0500
TZOFFSETTO:-0400
TZNAME:EDT
DTSTART:20230312T070000
END:DAYLIGHT
BEGIN:STANDARD
TZOFFSETFROM:-0400
TZOFFSETTO:-0500
TZNAME:EST
DTSTART:20231105T060000
END:STANDARD
BEGIN:DAYLIGHT
TZOFFSETFROM:-0500
TZOFFSETTO:-0400
TZNAME:EDT
DTSTART:20240310T070000
END:DAYLIGHT
BEGIN:STANDARD
TZOFFSETFROM:-0400
TZOFFSETTO:-0500
TZNAME:EST
DTSTART:20241103T060000
END:STANDARD
END:VTIMEZONE
BEGIN:VEVENT
DTSTART;TZID=America/Toronto:20230825T093000
DTEND;TZID=America/Toronto:20230825T120000
DTSTAMP:20260421T072850
CREATED:20230622T181724Z
LAST-MODIFIED:20230622T181724Z
UID:10286-1692955800-1692964800@arwrcucc.ca
SUMMARY:Mini Christian Pilgrimage Experience on the G2G Rail Trail
DESCRIPTION:Mini Christian Pilgrimage Experience on the G2G Rail Trail \nFriday\, August 25\, 2023\,  \n9:30am-noon (Walking/Rolling 1½-2 hours) \nG2G Rail Trail – Goderich To Guelph \nRegistration is required: \nhttps://regionalcouncil789.formstack.com/forms/g2g_christian_pilgrimage \nDeadline for Registration is Tuesday\, August 1\, 2023 \nYou will be contacted through email\, \nif inclement weather requires\, we cancel this event \nHosts:  \nCarolyn Davidson (Harcourt Memorial United Church)\, \nRev. Sue Campbell (Trinity United Church\, Elmira) \n& Kathy Douglas (Faith Formation Minister\, ARW\, WOW\, HF Regional Councils) \nContact:   Kathy Douglas  kdouglas@united-church.ca
URL:https://arwrcucc.ca/event/mini-christian-pilgrimage-experience-on-the-g2g-rail-trail/
CATEGORIES:Camps & Retreats,Community,Event,Kids and Youth,Learning Opportunity,Seasonal
ATTACH;FMTTYPE=image/png:https://arwrcucc.ca/wp-content/uploads/2023/06/Christian-Pilgrimage-G2G.png
END:VEVENT
END:VCALENDAR