BEGIN:VCALENDAR
VERSION:2.0
PRODID:-//Antler River Watershed Regional Council - ECPv6.15.20//NONSGML v1.0//EN
CALSCALE:GREGORIAN
METHOD:PUBLISH
X-ORIGINAL-URL:https://arwrcucc.ca
X-WR-CALDESC:Events for Antler River Watershed Regional Council
REFRESH-INTERVAL;VALUE=DURATION:PT1H
X-Robots-Tag:noindex
X-PUBLISHED-TTL:PT1H
BEGIN:VTIMEZONE
TZID:America/Toronto
BEGIN:DAYLIGHT
TZOFFSETFROM:-0500
TZOFFSETTO:-0400
TZNAME:EDT
DTSTART:20210314T070000
END:DAYLIGHT
BEGIN:STANDARD
TZOFFSETFROM:-0400
TZOFFSETTO:-0500
TZNAME:EST
DTSTART:20211107T060000
END:STANDARD
BEGIN:DAYLIGHT
TZOFFSETFROM:-0500
TZOFFSETTO:-0400
TZNAME:EDT
DTSTART:20220313T070000
END:DAYLIGHT
BEGIN:STANDARD
TZOFFSETFROM:-0400
TZOFFSETTO:-0500
TZNAME:EST
DTSTART:20221106T060000
END:STANDARD
BEGIN:DAYLIGHT
TZOFFSETFROM:-0500
TZOFFSETTO:-0400
TZNAME:EDT
DTSTART:20230312T070000
END:DAYLIGHT
BEGIN:STANDARD
TZOFFSETFROM:-0400
TZOFFSETTO:-0500
TZNAME:EST
DTSTART:20231105T060000
END:STANDARD
END:VTIMEZONE
BEGIN:VEVENT
DTSTART;TZID=America/Toronto:20220501T190000
DTEND;TZID=America/Toronto:20220501T210000
DTSTAMP:20260420T171756
CREATED:20220422T173105Z
LAST-MODIFIED:20220422T173105Z
UID:8442-1651431600-1651438800@arwrcucc.ca
SUMMARY:SJNORC Round Table
DESCRIPTION:Save the Date for SJNORC Round Table
URL:https://arwrcucc.ca/event/sjnorc-round-table/
LOCATION:Online via Zoom
CATEGORIES:Community,Event,Online Gathering,Regional Council,Social Justice
ATTACH;FMTTYPE=image/jpeg:https://arwrcucc.ca/wp-content/uploads/2022/04/jennifer-griffin-xePUAbiilko-unsplash-vote-scaled-e1649795968900.jpg
END:VEVENT
BEGIN:VEVENT
DTSTART;TZID=America/Toronto:20220422T200000
DTEND;TZID=America/Toronto:20220422T200000
DTSTAMP:20260420T171756
CREATED:20220331T200755Z
LAST-MODIFIED:20220803T160157Z
UID:8316-1650657600-1650657600@arwrcucc.ca
SUMMARY:Prayer Forum for the Phillipine Election
DESCRIPTION:Prayer Forum for the Philippine Election: \nJoin The United Church’s Filipino Network Friday\, April 22\, 8pm EDT for a prayer forum for the Philippine election. The purpose of this event is two parts: (1) to provide Filipino UCC and other faith communities in Canada\, a way of understanding the issues and concerns that surround the upcoming Philippine national election and\, (2) to discern a common response from us- the church here in Canada. Contact arielsiagan16@gmail.com with any questions or concerns.   \nRegister in advance for this meeting: https://united-church.zoom.us/meeting/register/tJwpfuqhqDIrGNEJXIAtAnGQSiuIiUFTPOZ5 After registering\, you will receive a confirmation email containing information about joining the meeting.
URL:https://arwrcucc.ca/event/prayer-forum-for-the-phillipine-election/
LOCATION:Online via Zoom
CATEGORIES:Community,Event,Online Gathering,Social Justice
END:VEVENT
BEGIN:VEVENT
DTSTART;VALUE=DATE:20220422
DTEND;VALUE=DATE:20220423
DTSTAMP:20260420T171756
CREATED:20220404T154629Z
LAST-MODIFIED:20220404T155357Z
UID:8323-1650585600-1650671999@arwrcucc.ca
SUMMARY:Earth Day
DESCRIPTION:
URL:https://arwrcucc.ca/event/earth-day/
CATEGORIES:Climate Change,Community,Social Justice
END:VEVENT
BEGIN:VEVENT
DTSTART;VALUE=DATE:20220417
DTEND;VALUE=DATE:20220418
DTSTAMP:20260420T171756
CREATED:20220404T154731Z
LAST-MODIFIED:20220404T155129Z
UID:8325-1650153600-1650239999@arwrcucc.ca
SUMMARY:Earth Sunday
DESCRIPTION:
URL:https://arwrcucc.ca/event/earth-sunday/
CATEGORIES:Social Justice
END:VEVENT
END:VCALENDAR