BEGIN:VCALENDAR
VERSION:2.0
PRODID:-//Antler River Watershed Regional Council - ECPv6.15.20//NONSGML v1.0//EN
CALSCALE:GREGORIAN
METHOD:PUBLISH
X-ORIGINAL-URL:https://arwrcucc.ca
X-WR-CALDESC:Events for Antler River Watershed Regional Council
REFRESH-INTERVAL;VALUE=DURATION:PT1H
X-Robots-Tag:noindex
X-PUBLISHED-TTL:PT1H
BEGIN:VTIMEZONE
TZID:America/Toronto
BEGIN:DAYLIGHT
TZOFFSETFROM:-0500
TZOFFSETTO:-0400
TZNAME:EDT
DTSTART:20200308T070000
END:DAYLIGHT
BEGIN:STANDARD
TZOFFSETFROM:-0400
TZOFFSETTO:-0500
TZNAME:EST
DTSTART:20201101T060000
END:STANDARD
BEGIN:DAYLIGHT
TZOFFSETFROM:-0500
TZOFFSETTO:-0400
TZNAME:EDT
DTSTART:20210314T070000
END:DAYLIGHT
BEGIN:STANDARD
TZOFFSETFROM:-0400
TZOFFSETTO:-0500
TZNAME:EST
DTSTART:20211107T060000
END:STANDARD
BEGIN:DAYLIGHT
TZOFFSETFROM:-0500
TZOFFSETTO:-0400
TZNAME:EDT
DTSTART:20220313T070000
END:DAYLIGHT
BEGIN:STANDARD
TZOFFSETFROM:-0400
TZOFFSETTO:-0500
TZNAME:EST
DTSTART:20221106T060000
END:STANDARD
BEGIN:DAYLIGHT
TZOFFSETFROM:-0500
TZOFFSETTO:-0400
TZNAME:EDT
DTSTART:20230312T070000
END:DAYLIGHT
BEGIN:STANDARD
TZOFFSETFROM:-0400
TZOFFSETTO:-0500
TZNAME:EST
DTSTART:20231105T060000
END:STANDARD
END:VTIMEZONE
BEGIN:VEVENT
DTSTART;VALUE=DATE:20221116
DTEND;VALUE=DATE:20221118
DTSTAMP:20260420T141154
CREATED:20221103T154237Z
LAST-MODIFIED:20221103T154858Z
UID:9121-1668556800-1668729599@arwrcucc.ca
SUMMARY:We Are Not Alone: in Children & Youth Ministry
DESCRIPTION:
URL:https://arwrcucc.ca/event/we-are-not-alone-in-children-youth-ministry/
LOCATION:Online via Zoom
CATEGORIES:Community,Event,Kids and Youth,Learning Opportunity,Online Gathering,Seasonal
ATTACH;FMTTYPE=image/jpeg:https://arwrcucc.ca/wp-content/uploads/2022/11/Children-and-Youth-Ministry-Webinars-Advent-Christmas-2022-with-NO-LINK_page-0001.jpg
END:VEVENT
BEGIN:VEVENT
DTSTART;TZID=America/Toronto:20221104T180000
DTEND;TZID=America/Toronto:20221106T160000
DTSTAMP:20260420T141154
CREATED:20221006T205225Z
LAST-MODIFIED:20221101T144420Z
UID:8972-1667584800-1667750400@arwrcucc.ca
SUMMARY:Youth Rally 2022: Surface Pressure
DESCRIPTION:Youth Rally 2022: Surface Pressure!\nA PROGRAM FOR Grade 9 to 19 years of age \nFriday\, November 4th at 6pm to Sunday November 6th at 4pm\, 2022  \nat the Lambton Centre – 6602 Lakeshore Road Forest Lambton Shores\, Warwick\, ON N0N 1J7 \nFees range from $150 – $200 – $300(Payment is by E-transfer\, instructions included)Do you love to be inspired\, challenged to think\, meet new people & hang out with good friends??? Do you enjoy being in an open & welcoming community where you are free to be completely yourself? Faith\, fellowship and connection is what Youth Rally is all about. Come and join us for Youth Rally 2022: Surface Pressure. \nRegister Now!
URL:https://arwrcucc.ca/event/youth-rally-2022-surface-pressure/
LOCATION:Lambton Centre\, 6602 Lakeshore Road Forest Lambton Shores\, Warwick\, Ontario\, N0N 1J7\, Canada
CATEGORIES:Camps & Retreats,Community,Event,Kids and Youth,Learning Opportunity
ATTACH;FMTTYPE=image/png:https://arwrcucc.ca/wp-content/uploads/2022/10/youthrally2022.png
ORGANIZER;CN="Youth Rally":MAILTO:youthrallyucc@gmail.com
END:VEVENT
BEGIN:VEVENT
DTSTART;VALUE=DATE:20221028
DTEND;VALUE=DATE:20221030
DTSTAMP:20260420T141154
CREATED:20220630T205810Z
LAST-MODIFIED:20220927T195550Z
UID:8664-1666915200-1667087999@arwrcucc.ca
SUMMARY:ARW Fall Regional Council Meetings 2022
DESCRIPTION:ONLINE MEETINGS:\nFriday October 28th 6:30 pm to 8:30 pm\nSaturday October 29th 9:00 am to 1:00 pm
URL:https://arwrcucc.ca/event/arw-fall-regional-council-meetings-2022/
LOCATION:Online via Zoom
CATEGORIES:Affirming,Anti-Racism,Community,Event,Events,General Council,Indigenous Justice,Kids and Youth,Learning Opportunity,Meeting,Ministry Personnel,Online Gathering,Regional Council,Registration,Speakers
ATTACH;FMTTYPE=image/png:https://arwrcucc.ca/wp-content/uploads/2022/06/arw-fall-meeting-2022.png
END:VEVENT
BEGIN:VEVENT
DTSTART;VALUE=DATE:20220928
DTEND;VALUE=DATE:20220930
DTSTAMP:20260420T141154
CREATED:20220915T160823Z
LAST-MODIFIED:20220915T160823Z
UID:8903-1664323200-1664495999@arwrcucc.ca
SUMMARY:Stumbling out of the gate…
DESCRIPTION:Children and Youth Ministry Webinars (September 2022) with NO LINK
URL:https://arwrcucc.ca/event/stumbling-out-of-the-gate/
LOCATION:Online via Zoom
CATEGORIES:Event,Kids and Youth,Learning Opportunity,Meeting,Online Gathering,Regional Council
ATTACH;FMTTYPE=image/jpeg:https://arwrcucc.ca/wp-content/uploads/2022/09/bernard-hermant-5zu86kyV_UY-unsplash-scaled.jpg
END:VEVENT
BEGIN:VEVENT
DTSTART;VALUE=DATE:20220715
DTEND;VALUE=DATE:20220718
DTSTAMP:20260420T141154
CREATED:20220509T125438Z
LAST-MODIFIED:20220601T205755Z
UID:8519-1657843200-1658102399@arwrcucc.ca
SUMMARY:CANCELLED: Skylight Festival 2022
DESCRIPTION:Date: Friday\, July 15 – Sunday\, July 17 \nRegistration for the Skylight Festival is now open. Join us at Skylight the weekend of July 15 to 17\, where you can connect with diverse communities\, collectively explore faith through the lens of the arts\, nature\, peace and justice. Find out more on our website. \nWhat is the Skylight Festival?\nFounded in 2015 by people passionate about the arts\, faith and justice\, Skylight is a celebratory and creative space where diverse communities connect to explore arts\, faith\, peace and justice. \nHow did it come about?\nIn 2013 a group of United Church leaders and Mennonite Church Canada leaders attended the Greenbelt Festival of faith\, justice and arts in the U.K. In 2014 a group of UC folk attended the Wild Goose Festival and were inspired to brainstorm ideas for a Canadian version. \nThey were excited! By early 2015 there was a movement to create a similar festival in Canada. And there was so much passion that that festival materialized in that summer! And every summer since. At the Paris Fairgrounds. And now at Five Oaks Education and Retreat Centre (since 2018). \nThe contributions of The United Church of Canada\, EDGE\, The United Church of Canada Network for Ministry Development and the Mennonite Church Canada have been key to the sustainability of the festival.
URL:https://arwrcucc.ca/event/skylight-festival-2022/
LOCATION:Five Oaks Education and Retreat Centre\, 1 Bethel Road\, Paris\, Ontario\, N3L 3E3\, Canada
CATEGORIES:Affirming,Camps & Retreats,Community,Event,Events,Festival,Kids and Youth,Learning Opportunity,Music,Regional Council,Seasonal,Speakers
ATTACH;FMTTYPE=image/gif:https://arwrcucc.ca/wp-content/uploads/2022/05/final_61eead9dac58d100d876cc3c_661388.gif
END:VEVENT
BEGIN:VEVENT
DTSTART;VALUE=DATE:20220524
DTEND;VALUE=DATE:20220526
DTSTAMP:20260420T141154
CREATED:20220517T151456Z
LAST-MODIFIED:20220517T151702Z
UID:8543-1653350400-1653523199@arwrcucc.ca
SUMMARY:Summer Programming: What are you doing?
DESCRIPTION:“We Are Not Alone” in Children and Youth Ministry. Let us SHARE \nOne Topic offered at two different times \nSummer Programming: What are you doing?\nCome prepared to share your ideas and/or listen to others \nTo get Zoom Link\, Contact: \nKathy Douglas kdouglas@united-church.ca\nFaith Formation Minister\, ARW\,WOW\, HF Regions \nSharing: Summer Programming Round Table – Projects and Programs \nTuesday\, May 24@ 7:30-8:45pm OR Wednesday\, May 25@ 10-11:15am \nPurpose of these gatherings: \n\nConnect with others doing Children and Youth Ministry\nShare resources\, ideas and struggles\nA shared moment of Faith Practice
URL:https://arwrcucc.ca/event/summer-programming-what-are-you-doing/
LOCATION:Online via Zoom
CATEGORIES:Affirming,Camps & Retreats,Community,Event,Kids and Youth,Learning Opportunity,Meeting,Online Gathering,Regional Council,Seasonal
ATTACH;FMTTYPE=image/jpeg:https://arwrcucc.ca/wp-content/uploads/2022/05/mi-pham-xtd3zYWxEs4-unsplash-scaled.jpg
END:VEVENT
BEGIN:VEVENT
DTSTART;VALUE=DATE:20220505
DTEND;VALUE=DATE:20220509
DTSTAMP:20260420T141154
CREATED:20220411T204108Z
LAST-MODIFIED:20220411T204108Z
UID:8362-1651708800-1652054399@arwrcucc.ca
SUMMARY:UNJPPI 2022 Gathering - May 5-8\, 2022
DESCRIPTION:Attend a national gathering for peace\, justice & human rights in Palestine Israel! \nThe United Network for Justice and Peace in Palestine/Israel (UNJPPI) is a country-wide network of people\, many connected with the United Church of Canada\, who are concerned about justice and peace in Palestine/Israel. We focus on advocacy\, education to uphold human rights and justice in the region. \nEvery year\, UNJPPI organizes a national gathering. Now that pandemic restrictions have eased up we are grateful for the opportunity to gather again for the first time since 2019 and would like to invite you to join! \nWe meet May 5-8\, 2022 in London\, Ontario. The gathering theme is “Responding to a Cry for Hope.” \nUNJPPI’s May gathering is an opportunity to learn regardless of your previous knowledge or engagement with peace and justice in Israel and Palestine. It is a chance to hear from dynamic and diverse speakers\, form connections with like minded advocates from across the country\, gather strength and inspiration as we emerge from pandemic shut downs\, form community over meals and music\, engage in meaningful learning sessions and discussions\, and envision how we carry the work for peace and justice forward. \nUNJPPI is working to make this gathering a meaningful and memorable learning opportunity! \nMore information (program outline\, speakers\, logistics and registration) is available on the event website: www.unjppi.ca \nYou can learn more about UNJPPI at: https://www.unjppi.org/index.html \nYou can find the event’s Facebook page here: https://fb.me/e/2gn3aoAty \nUNJPPI Gathering 2022 printer friendly rev\n\nHow Are the Children_May 5 London
URL:https://arwrcucc.ca/event/unjppi-2022-gathering-may-5-8-2022/
LOCATION:Best Western Stoneridge Inn\, 6675 Burtwistle Lane\, London\, Ontario\, N6L 1H5\, Canada
CATEGORIES:Affirming,Anti-Racism,Community,Event,Kids and Youth,Social Justice
ATTACH;FMTTYPE=image/png:https://arwrcucc.ca/wp-content/uploads/2022/04/24c7f8e5-6162-7bb5-326b-e8cbd2bc08e7.png
ORGANIZER;CN="UNJPPI":MAILTO:unitednetwork4justpeace@gmail.com
END:VEVENT
BEGIN:VEVENT
DTSTART;VALUE=DATE:20220424
DTEND;VALUE=DATE:20220425
DTSTAMP:20260420T141154
CREATED:20220328T190122Z
LAST-MODIFIED:20220328T190122Z
UID:8297-1650758400-1650844799@arwrcucc.ca
SUMMARY:Camping Sunday
DESCRIPTION:
URL:https://arwrcucc.ca/event/camping-sunday/
CATEGORIES:Affirming,Camps & Retreats,Event,Kids and Youth
ATTACH;FMTTYPE=image/jpeg:https://arwrcucc.ca/wp-content/uploads/2022/03/campingministryarw.jpg
END:VEVENT
BEGIN:VEVENT
DTSTART;TZID=America/Toronto:20211106T100000
DTEND;TZID=America/Toronto:20211106T100000
DTSTAMP:20260420T141154
CREATED:20211012T175328Z
LAST-MODIFIED:20211022T171101Z
UID:7351-1636192800-1636192800@arwrcucc.ca
SUMMARY:A Step Toward Affirming
DESCRIPTION:Poster for Nov tri-region event v4
URL:https://arwrcucc.ca/event/a-step-toward-affirming/
LOCATION:Online via Zoom
CATEGORIES:Affirming,Community,Kids and Youth,Online Gathering,Speakers
ATTACH;FMTTYPE=image/jpeg:https://arwrcucc.ca/wp-content/uploads/2021/10/asteptowardaffirming.jpg
ORGANIZER;CN="UCW Tri-Region":MAILTO:kdouglas@united-church.ca
END:VEVENT
BEGIN:VEVENT
DTSTART;TZID=America/Toronto:20211019T190000
DTEND;TZID=America/Toronto:20211019T190000
DTSTAMP:20260420T141154
CREATED:20210913T163450Z
LAST-MODIFIED:20210913T163451Z
UID:7104-1634670000-1634670000@arwrcucc.ca
SUMMARY:Youth Mental Health
DESCRIPTION:
URL:https://arwrcucc.ca/event/youth-mental-health/
LOCATION:Online via Livestream
CATEGORIES:Kids and Youth,Learning Opportunity,Speakers
ATTACH;FMTTYPE=application/pdf:https://arwrcucc.ca/wp-content/uploads/2021/09/The-Spiritual-Growth-Ministry-of-Port-Nelson-United-Church-presents-1.pdf
ORGANIZER;CN="Karen Eade":MAILTO:karen@portnelson.ca
END:VEVENT
END:VCALENDAR