BEGIN:VCALENDAR
VERSION:2.0
PRODID:-//Antler River Watershed Regional Council - ECPv6.15.20//NONSGML v1.0//EN
CALSCALE:GREGORIAN
METHOD:PUBLISH
X-WR-CALNAME:Antler River Watershed Regional Council
X-ORIGINAL-URL:https://arwrcucc.ca
X-WR-CALDESC:Events for Antler River Watershed Regional Council
REFRESH-INTERVAL;VALUE=DURATION:PT1H
X-Robots-Tag:noindex
X-PUBLISHED-TTL:PT1H
BEGIN:VTIMEZONE
TZID:America/Toronto
BEGIN:DAYLIGHT
TZOFFSETFROM:-0500
TZOFFSETTO:-0400
TZNAME:EDT
DTSTART:20230312T070000
END:DAYLIGHT
BEGIN:STANDARD
TZOFFSETFROM:-0400
TZOFFSETTO:-0500
TZNAME:EST
DTSTART:20231105T060000
END:STANDARD
BEGIN:DAYLIGHT
TZOFFSETFROM:-0500
TZOFFSETTO:-0400
TZNAME:EDT
DTSTART:20240310T070000
END:DAYLIGHT
BEGIN:STANDARD
TZOFFSETFROM:-0400
TZOFFSETTO:-0500
TZNAME:EST
DTSTART:20241103T060000
END:STANDARD
BEGIN:DAYLIGHT
TZOFFSETFROM:-0500
TZOFFSETTO:-0400
TZNAME:EDT
DTSTART:20250309T070000
END:DAYLIGHT
BEGIN:STANDARD
TZOFFSETFROM:-0400
TZOFFSETTO:-0500
TZNAME:EST
DTSTART:20251102T060000
END:STANDARD
END:VTIMEZONE
BEGIN:VTIMEZONE
TZID:America/New_York
BEGIN:DAYLIGHT
TZOFFSETFROM:-0500
TZOFFSETTO:-0400
TZNAME:EDT
DTSTART:20230312T070000
END:DAYLIGHT
BEGIN:STANDARD
TZOFFSETFROM:-0400
TZOFFSETTO:-0500
TZNAME:EST
DTSTART:20231105T060000
END:STANDARD
BEGIN:DAYLIGHT
TZOFFSETFROM:-0500
TZOFFSETTO:-0400
TZNAME:EDT
DTSTART:20240310T070000
END:DAYLIGHT
BEGIN:STANDARD
TZOFFSETFROM:-0400
TZOFFSETTO:-0500
TZNAME:EST
DTSTART:20241103T060000
END:STANDARD
BEGIN:DAYLIGHT
TZOFFSETFROM:-0500
TZOFFSETTO:-0400
TZNAME:EDT
DTSTART:20250309T070000
END:DAYLIGHT
BEGIN:STANDARD
TZOFFSETFROM:-0400
TZOFFSETTO:-0500
TZNAME:EST
DTSTART:20251102T060000
END:STANDARD
END:VTIMEZONE
BEGIN:VEVENT
DTSTART;TZID=America/Toronto:20240821T100000
DTEND;TZID=America/Toronto:20240821T111500
DTSTAMP:20260420T010836
CREATED:20240726T154951Z
LAST-MODIFIED:20240726T154951Z
UID:18942-1724234400-1724238900@arwrcucc.ca
SUMMARY:Curriculum Round Table
DESCRIPTION:“We Are Not Alone” in Children and Youth Ministry. \nWhat are your plans for children’s ministry this fall? Are you wondering about curriculum options? Do you want to connect\, share\, and learn from others in the field? Then don’t miss our Curriculum Round Table webinar!\nTo register or for more information\, contact: \nKdouglas@united-church.ca Kathy Douglas (she/her): Faith Formation Minister\, ARW\, HF\, WOW Regional Councils \nShull@united-church.ca Sharon Hull (she/her) Minister for Spiritual Nurture\, Respectful Relationships and Justice with All Ages\, East Central Ontario Regional Council \nSredden@united-church.ca Shawn Redden (she/her): Justice and Faith Formation Minister\, Canadian Shield & Shining Waters Regional Councils
URL:https://arwrcucc.ca/event/curriculum-round-table/
LOCATION:Online via Zoom
CATEGORIES:2SLGBTQIA,Affirming,Anti-Racism,Community,Event,Kids and Youth,Learning Opportunity,Meeting,Regional Council,Social Justice,Speakers,Training
ATTACH;FMTTYPE=image/png:https://arwrcucc.ca/wp-content/uploads/2024/07/Curriculum-Round-Table-1.png
END:VEVENT
BEGIN:VEVENT
DTSTART;TZID=America/Toronto:20240820T100000
DTEND;TZID=America/Toronto:20240820T120000
DTSTAMP:20260420T010836
CREATED:20240802T193748Z
LAST-MODIFIED:20240802T193748Z
UID:22655-1724148000-1724155200@arwrcucc.ca
SUMMARY:WOW Human Resources Commission Meeting
DESCRIPTION:
URL:https://arwrcucc.ca/event/wow-human-resources-commission-meeting-13/
CATEGORIES:Meeting,Online Gathering,Regional Council
END:VEVENT
BEGIN:VEVENT
DTSTART;TZID=America/Toronto:20240813T090000
DTEND;TZID=America/Toronto:20240813T090000
DTSTAMP:20260420T010836
CREATED:20240802T193601Z
LAST-MODIFIED:20240802T193601Z
UID:22653-1723539600-1723539600@arwrcucc.ca
SUMMARY:ARW Human Resources Commission Meeting
DESCRIPTION:
URL:https://arwrcucc.ca/event/arw-human-resources-commission-meeting-13/
CATEGORIES:Meeting,Online Gathering,Regional Council
END:VEVENT
BEGIN:VEVENT
DTSTART;TZID=America/New_York:20240808T130000
DTEND;TZID=America/New_York:20240808T130000
DTSTAMP:20260420T010836
CREATED:20240802T193457Z
LAST-MODIFIED:20240802T193457Z
UID:22651-1723122000-1723122000@arwrcucc.ca
SUMMARY:WOW Congregational Support Commission
DESCRIPTION:
URL:https://arwrcucc.ca/event/wow-congregational-support-commission-13/
CATEGORIES:Meeting
END:VEVENT
BEGIN:VEVENT
DTSTART;TZID=America/Toronto:20240808T093000
DTEND;TZID=America/Toronto:20240808T113000
DTSTAMP:20260420T010836
CREATED:20240802T193319Z
LAST-MODIFIED:20240802T193319Z
UID:22647-1723109400-1723116600@arwrcucc.ca
SUMMARY:Regional Council Staff Meeting
DESCRIPTION:
URL:https://arwrcucc.ca/event/regional-council-staff-meeting-55/
LOCATION:Online via Zoom
CATEGORIES:Event,Meeting
END:VEVENT
BEGIN:VEVENT
DTSTART;TZID=America/New_York:20240807T090000
DTEND;TZID=America/New_York:20240807T110000
DTSTAMP:20260420T010836
CREATED:20240802T193211Z
LAST-MODIFIED:20240802T193211Z
UID:22645-1723021200-1723028400@arwrcucc.ca
SUMMARY:ARW Congregational Support Commission
DESCRIPTION:
URL:https://arwrcucc.ca/event/arw-congregational-support-commission-6/
CATEGORIES:Meeting
END:VEVENT
BEGIN:VEVENT
DTSTART;TZID=America/Toronto:20240725T093000
DTEND;TZID=America/Toronto:20240725T113000
DTSTAMP:20260420T010836
CREATED:20240627T180430Z
LAST-MODIFIED:20240627T180430Z
UID:14779-1721899800-1721907000@arwrcucc.ca
SUMMARY:Regional Council Staff Meeting
DESCRIPTION:
URL:https://arwrcucc.ca/event/regional-council-staff-meeting-54/
LOCATION:Online via Zoom
CATEGORIES:Event,Meeting
END:VEVENT
BEGIN:VEVENT
DTSTART;TZID=America/Toronto:20240724T130000
DTEND;TZID=America/Toronto:20240724T130000
DTSTAMP:20260420T010836
CREATED:20240710T181107Z
LAST-MODIFIED:20240710T181107Z
UID:15318-1721826000-1721826000@arwrcucc.ca
SUMMARY:HF Human Resources Commission Meeting
DESCRIPTION:
URL:https://arwrcucc.ca/event/hf-human-resources-commission-meeting-10/
CATEGORIES:Meeting,Regional Council
END:VEVENT
BEGIN:VEVENT
DTSTART;TZID=America/Toronto:20240720T094500
DTEND;TZID=America/Toronto:20240720T150000
DTSTAMP:20260420T010836
CREATED:20240531T144514Z
LAST-MODIFIED:20240531T144514Z
UID:14460-1721468700-1721487600@arwrcucc.ca
SUMMARY:ARW - UCW Summer Event - Go Make a Difference
DESCRIPTION:Click here for: Registration Form\nMore Information about YOU
URL:https://arwrcucc.ca/event/arw-ucw-summer-event-go-make-a-difference/
LOCATION:Siloam United Church\, 1240 Fanshawe Park Rd E\, London\, Ontario\, N5X 3Z8\, Canada
CATEGORIES:Community,Event,Learning Opportunity,Meeting,UCW
ATTACH;FMTTYPE=image/png:https://arwrcucc.ca/wp-content/uploads/2024/05/arwucwsummereventposter.png
ORGANIZER;CN="Antler River Watershed Regional Council":MAILTO:arwrc@united-church.ca
END:VEVENT
BEGIN:VEVENT
DTSTART;TZID=America/New_York:20240718T140000
DTEND;TZID=America/New_York:20240718T150000
DTSTAMP:20260420T010836
CREATED:20240628T183316Z
LAST-MODIFIED:20240628T184219Z
UID:14808-1721311200-1721314800@arwrcucc.ca
SUMMARY:WOW Online Clergy Gathering
DESCRIPTION:
URL:https://arwrcucc.ca/event/wow-online-clergy-gathering-7/
LOCATION:Online via Zoom
CATEGORIES:Clergy Gathering,Event,Learning Opportunity,Meeting,Ministry Personnel,Online Gathering
ORGANIZER;CN="Kevin Steeper":MAILTO:mailto:KSteeper@united-church.ca
END:VEVENT
BEGIN:VEVENT
DTSTART;TZID=America/New_York:20240717T150000
DTEND;TZID=America/New_York:20240717T160000
DTSTAMP:20260420T010836
CREATED:20240628T183206Z
LAST-MODIFIED:20240628T183206Z
UID:14806-1721228400-1721232000@arwrcucc.ca
SUMMARY:HF Online Clergy Gathering
DESCRIPTION:
URL:https://arwrcucc.ca/event/hf-online-clergy-gathering-6/
LOCATION:Online via Zoom
CATEGORIES:Clergy Gathering,Event,Learning Opportunity,Meeting,Ministry Personnel,Online Gathering
ORGANIZER;CN="Kevin Steeper":MAILTO:mailto:KSteeper@united-church.ca
END:VEVENT
BEGIN:VEVENT
DTSTART;TZID=America/New_York:20240716T140000
DTEND;TZID=America/New_York:20240716T150000
DTSTAMP:20260420T010836
CREATED:20240628T183057Z
LAST-MODIFIED:20240628T183057Z
UID:14803-1721138400-1721142000@arwrcucc.ca
SUMMARY:ARW Online Clergy Gathering
DESCRIPTION:
URL:https://arwrcucc.ca/event/arw-online-clergy-gathering-7/
LOCATION:Online via Zoom
CATEGORIES:Clergy Gathering,Event,Learning Opportunity,Meeting,Ministry Personnel,Online Gathering
ATTACH;FMTTYPE=image/png:https://arwrcucc.ca/wp-content/uploads/2024/06/July-2024.png
ORGANIZER;CN="Kevin Steeper":MAILTO:mailto:KSteeper@united-church.ca
END:VEVENT
BEGIN:VEVENT
DTSTART;TZID=America/Toronto:20240716T100000
DTEND;TZID=America/Toronto:20240716T120000
DTSTAMP:20260420T010836
CREATED:20240710T180907Z
LAST-MODIFIED:20240710T180907Z
UID:15316-1721124000-1721131200@arwrcucc.ca
SUMMARY:WOW Human Resources Commission Meeting
DESCRIPTION:
URL:https://arwrcucc.ca/event/wow-human-resources-commission-meeting-12/
CATEGORIES:Meeting,Online Gathering,Regional Council
END:VEVENT
BEGIN:VEVENT
DTSTART;TZID=America/New_York:20240711T130000
DTEND;TZID=America/New_York:20240711T130000
DTSTAMP:20260420T010836
CREATED:20240710T180756Z
LAST-MODIFIED:20240710T180756Z
UID:15314-1720702800-1720702800@arwrcucc.ca
SUMMARY:WOW Congregational Support Commission
DESCRIPTION:
URL:https://arwrcucc.ca/event/wow-congregational-support-commission-12/
CATEGORIES:Meeting
END:VEVENT
BEGIN:VEVENT
DTSTART;TZID=America/New_York:20240709T100000
DTEND;TZID=America/New_York:20240709T120000
DTSTAMP:20260420T010836
CREATED:20240710T180704Z
LAST-MODIFIED:20240710T180704Z
UID:15312-1720519200-1720526400@arwrcucc.ca
SUMMARY:HF Congregational Support Commission
DESCRIPTION:
URL:https://arwrcucc.ca/event/hf-congregational-support-commission-12/
CATEGORIES:Meeting
END:VEVENT
BEGIN:VEVENT
DTSTART;TZID=America/Toronto:20240709T090000
DTEND;TZID=America/Toronto:20240709T090000
DTSTAMP:20260420T010836
CREATED:20240710T180553Z
LAST-MODIFIED:20240710T180553Z
UID:15310-1720515600-1720515600@arwrcucc.ca
SUMMARY:ARW Human Resources Commission Meeting
DESCRIPTION:
URL:https://arwrcucc.ca/event/arw-human-resources-commission-meeting-12/
CATEGORIES:Meeting,Online Gathering,Regional Council
END:VEVENT
BEGIN:VEVENT
DTSTART;TZID=America/New_York:20240703T090000
DTEND;TZID=America/New_York:20240703T110000
DTSTAMP:20260420T010836
CREATED:20240710T180425Z
LAST-MODIFIED:20240710T180425Z
UID:15308-1719997200-1720004400@arwrcucc.ca
SUMMARY:ARW Congregational Support Commission
DESCRIPTION:
URL:https://arwrcucc.ca/event/arw-congregational-support-commission-5/
CATEGORIES:Meeting
END:VEVENT
BEGIN:VEVENT
DTSTART;VALUE=DATE:20240703
DTEND;VALUE=DATE:20240707
DTSTAMP:20260420T010836
CREATED:20231003T155001Z
LAST-MODIFIED:20231003T155246Z
UID:10916-1719964800-1720310399@arwrcucc.ca
SUMMARY:Rendez-Vous 2024 - Audacious Hope
DESCRIPTION:Youth\, Young Adults\, and Those Who Lead Them:\n\n\nSave the Date!\n\n\nAudacious Hope\nJuly 3-6\, 2024\, Brock University\, St. Catharines\, ON\n\n\nBrought to you by the Rendez-vous team of The United Church of Canada and the LIFT team of the Presbyterian Church in Canada.\n\n\nMore information soon!\n\n\n#UCCan #AudaciousHope2024
URL:https://arwrcucc.ca/event/rendez-vous-2024-audacious-hope/
CATEGORIES:2SLGBTQIA,Affirming,Anti-Racism,Camps & Retreats,Climate Change,Community,Event,Indigenous Justice,Kids and Youth,Learning Opportunity,Meeting,Music,Regional Council,Social Justice,Speakers,Staff
END:VEVENT
BEGIN:VEVENT
DTSTART;TZID=America/Toronto:20240627T093000
DTEND;TZID=America/Toronto:20240627T113000
DTSTAMP:20260420T010836
CREATED:20240603T182347Z
LAST-MODIFIED:20240603T182347Z
UID:14512-1719480600-1719487800@arwrcucc.ca
SUMMARY:Regional Council Staff Meeting
DESCRIPTION:
URL:https://arwrcucc.ca/event/regional-council-staff-meeting-53/
LOCATION:Online via Zoom
CATEGORIES:Event,Meeting
END:VEVENT
BEGIN:VEVENT
DTSTART;TZID=America/New_York:20240626T090000
DTEND;TZID=America/New_York:20240626T090000
DTSTAMP:20260420T010836
CREATED:20240227T154716Z
LAST-MODIFIED:20240227T154716Z
UID:13315-1719392400-1719392400@arwrcucc.ca
SUMMARY:HF Regional Council Orientation
DESCRIPTION:
URL:https://arwrcucc.ca/event/hf-regional-council-orientation-2/
CATEGORIES:Meeting
END:VEVENT
BEGIN:VEVENT
DTSTART;TZID=America/New_York:20240625T190000
DTEND;TZID=America/New_York:20240625T210000
DTSTAMP:20260420T010836
CREATED:20240205T191640Z
LAST-MODIFIED:20240205T192524Z
UID:13125-1719342000-1719349200@arwrcucc.ca
SUMMARY:'The Basics': Ministry & Personnel Committee Workshops
DESCRIPTION:‘The Basics’: Ministry & Personnel Committee Workshops\nOnline by Zoom\, Spring 2024 dates:\nFebruary 15th 2-4pm\, March 19th 7-9pm\, May 8th 2-4pm and June 25th 7-9pm\nwith Micol Cottrell\, Minister\, Pastoral Relations \n \nOrdered ministers and designated lay ministers while in paid accountable ministry positions are office holders within The United Church of Canada. \nWhile there may be elements similar to employment\, \nthe essential nature of the relationship is a covenant.  \n~ Statement on Ministry in The United Church of Canada (2012) \nNew members are often elected to the vital Ministry & Personnel Committee near the start of the year\, although M&P Committee membership can change for many other reasons throughout the year. \nThe Basics will help a new member learn the essentials of this crucial role. More experienced members of M&P Committees are invited to take this workshop as a refresher with their team\, and keep up with changing United Church practices and policies. This workshop is open to members from Western Ontario Waterways\, Antler River Watershed and Horseshoe Falls Regional Councils! \nPlease Note: each member of your M&P Committee attending this workshop is required to register. \nIn your Confirmation Email\, you will receive the Zoom link and material in preparation for the meeting to make the most of our time together. If you have questions about the content\, please email Micol Cottrell\, Minister\, Pastoral Relations\, at MCottrell@united-church.ca\, or better yet\, write down the questions to bring with you.
URL:https://arwrcucc.ca/event/the-basics-ministry-personnel-committee-workshops-4/
LOCATION:Online via Zoom
CATEGORIES:Event,Meeting,Ministry Personnel,Training
ORGANIZER;CN="Micol Cottrell":MAILTO:MCottrell@united-church.ca
END:VEVENT
BEGIN:VEVENT
DTSTART;TZID=America/Toronto:20240624T190000
DTEND;TZID=America/Toronto:20240624T203000
DTSTAMP:20260420T010836
CREATED:20240603T151417Z
LAST-MODIFIED:20240611T135133Z
UID:14494-1719255600-1719261000@arwrcucc.ca
SUMMARY:Music Ministry - Celebrating Pride Month
DESCRIPTION:
URL:https://arwrcucc.ca/event/music-ministry-celebrating-pride-month/
LOCATION:Online via Zoom
CATEGORIES:2SLGBTQIA,Affirming,Community,Event,Learning Opportunity,Meeting,Music,Online Gathering,Speakers
ATTACH;FMTTYPE=image/jpeg:https://arwrcucc.ca/wp-content/uploads/2024/06/Music-Ministry-Gathering-June-2024-Music-Ministry-Pride-Month-jpg-final-scaled.jpg
END:VEVENT
BEGIN:VEVENT
DTSTART;TZID=America/New_York:20240619T090000
DTEND;TZID=America/New_York:20240619T090000
DTSTAMP:20260420T010836
CREATED:20240227T154805Z
LAST-MODIFIED:20240227T154805Z
UID:13318-1718787600-1718787600@arwrcucc.ca
SUMMARY:WOW Regional Council Orientation
DESCRIPTION:
URL:https://arwrcucc.ca/event/wow-regional-council-orientation/
CATEGORIES:Meeting
END:VEVENT
BEGIN:VEVENT
DTSTART;TZID=America/Toronto:20240618T100000
DTEND;TZID=America/Toronto:20240618T120000
DTSTAMP:20260420T010836
CREATED:20240603T181422Z
LAST-MODIFIED:20240603T181422Z
UID:14510-1718704800-1718712000@arwrcucc.ca
SUMMARY:WOW Human Resources Commission Meeting
DESCRIPTION:
URL:https://arwrcucc.ca/event/wow-human-resources-commission-meeting-11/
CATEGORIES:Meeting,Online Gathering,Regional Council
END:VEVENT
BEGIN:VEVENT
DTSTART;TZID=America/New_York:20240613T130000
DTEND;TZID=America/New_York:20240613T130000
DTSTAMP:20260420T010836
CREATED:20240603T180527Z
LAST-MODIFIED:20240603T180527Z
UID:14508-1718283600-1718283600@arwrcucc.ca
SUMMARY:WOW Congregational Support Commission
DESCRIPTION:
URL:https://arwrcucc.ca/event/wow-congregational-support-commission-11/
CATEGORIES:Meeting
END:VEVENT
BEGIN:VEVENT
DTSTART;TZID=America/Toronto:20240613T113000
DTEND;TZID=America/Toronto:20240613T150000
DTSTAMP:20260420T010836
CREATED:20240227T154632Z
LAST-MODIFIED:20240607T165936Z
UID:13313-1718278200-1718290800@arwrcucc.ca
SUMMARY:ARW Regional Council Orientation
DESCRIPTION:To be held at: St. Andrews United Church\, Chatham\, ON
URL:https://arwrcucc.ca/event/arw-executive-and-commissions-orientation-2/
CATEGORIES:Meeting,Regional Council
END:VEVENT
BEGIN:VEVENT
DTSTART;TZID=America/New_York:20240611T190000
DTEND;TZID=America/New_York:20240611T190000
DTSTAMP:20260420T010836
CREATED:20240603T180418Z
LAST-MODIFIED:20240603T180418Z
UID:14506-1718132400-1718132400@arwrcucc.ca
SUMMARY:HF Congregational Support Commission
DESCRIPTION:
URL:https://arwrcucc.ca/event/hf-congregational-support-commission-11/
CATEGORIES:Meeting
END:VEVENT
BEGIN:VEVENT
DTSTART;TZID=America/Toronto:20240611T090000
DTEND;TZID=America/Toronto:20240611T090000
DTSTAMP:20260420T010836
CREATED:20240603T180318Z
LAST-MODIFIED:20240603T180318Z
UID:14504-1718096400-1718096400@arwrcucc.ca
SUMMARY:ARW Human Resources Commission Meeting
DESCRIPTION:
URL:https://arwrcucc.ca/event/arw-human-resources-commission-meeting-11/
CATEGORIES:Meeting,Online Gathering,Regional Council
END:VEVENT
BEGIN:VEVENT
DTSTART;TZID=America/New_York:20240608T100000
DTEND;TZID=America/New_York:20240608T143000
DTSTAMP:20260420T010836
CREATED:20240131T163913Z
LAST-MODIFIED:20240318T142514Z
UID:13065-1717840800-1717857000@arwrcucc.ca
SUMMARY:The Day of Fellowship - Horseshoe Falls
DESCRIPTION:Register Now\n  \nSave the Date: \nThe Day of Fellowship will launch us into the year long Centenary Celebration of the United Church with Greetings from General Secretary\, The Rev. Michael Blair. \nRenewal and Transformation … A Season of Hope \nThe day will begin with Gathering at 10:00am \nMorning service 10:30am – 12:00 noon \nLunch Break 12:00 noon – 1:00pm \nAfternoon Session from 1-2:30pm (cultural expressions from around the region).
URL:https://arwrcucc.ca/event/the-day-of-fellowship-horseshoe-falls/
CATEGORIES:Community,Event,Festival,Learning Opportunity,Music,Regional Council,Speakers
ATTACH;FMTTYPE=image/png:https://arwrcucc.ca/wp-content/uploads/2024/01/DAYOFFELLOWSHIPHF-2.png
END:VEVENT
BEGIN:VEVENT
DTSTART;VALUE=DATE:20240607
DTEND;VALUE=DATE:20240609
DTSTAMP:20260420T010836
CREATED:20240408T194015Z
LAST-MODIFIED:20240408T195857Z
UID:13822-1717718400-1717891199@arwrcucc.ca
SUMMARY:Kids Across the Regions 2024
DESCRIPTION:Camp Bimini\, St. Paul’s\, Ontario (Google map) \nKids Across the Regions is a fun\, faith-filled weekend for children (in grades 4-8) from across the three regional councils of Antler River Watershed\, Western Ontario Waterways and Horseshoe Falls of The United Church of Canada! \nPlease note: your GPS and/or Google Maps will not lead you to the camp! Download a Camp Map and Directions\, Participant Letter\, Permission Form and Packing List.\nThese are also attached in the Confirmation Email once you submit your registration. \nKnowing that families have different financial realities\, we offer a Voluntary Three-Tier Pricing System. Participants can choose the tier that is most suitable for their family: $50\, $60\, $70 (closest to actual cost). There is no cost for Leaders. \nPayment is by E-Transfer to hfrc@united-church.ca. \nAPPLICATION DEADLINE: MAY 24th Your application\, signatures & payment are required to complete your registration. If you don’t receive a Confirmation Email after submitting the registration form please call Kathy Douglas at 519-441-0656 to confirm we have received your registration. \nRegister Now:\nEvent Leader Registration\n  \nChild Participant Registration
URL:https://arwrcucc.ca/event/kids-across-the-region-2024/
LOCATION:Camp Bimini\, 3180 Perth Road\, St. Paul’s\, Ontario\, N0K 1V0\, Canada
CATEGORIES:2SLGBTQIA,Affirming,Anti-Racism,Camps & Retreats,Community,Event,Kids and Youth,Learning Opportunity,Regional Council,Seasonal
ATTACH;FMTTYPE=image/png:https://arwrcucc.ca/wp-content/uploads/2024/04/KAR2024Header.png
END:VEVENT
END:VCALENDAR