BEGIN:VCALENDAR
VERSION:2.0
PRODID:-//Antler River Watershed Regional Council - ECPv6.15.20//NONSGML v1.0//EN
CALSCALE:GREGORIAN
METHOD:PUBLISH
X-WR-CALNAME:Antler River Watershed Regional Council
X-ORIGINAL-URL:https://arwrcucc.ca
X-WR-CALDESC:Events for Antler River Watershed Regional Council
REFRESH-INTERVAL;VALUE=DURATION:PT1H
X-Robots-Tag:noindex
X-PUBLISHED-TTL:PT1H
BEGIN:VTIMEZONE
TZID:America/Toronto
BEGIN:DAYLIGHT
TZOFFSETFROM:-0500
TZOFFSETTO:-0400
TZNAME:EDT
DTSTART:20230312T070000
END:DAYLIGHT
BEGIN:STANDARD
TZOFFSETFROM:-0400
TZOFFSETTO:-0500
TZNAME:EST
DTSTART:20231105T060000
END:STANDARD
BEGIN:DAYLIGHT
TZOFFSETFROM:-0500
TZOFFSETTO:-0400
TZNAME:EDT
DTSTART:20240310T070000
END:DAYLIGHT
BEGIN:STANDARD
TZOFFSETFROM:-0400
TZOFFSETTO:-0500
TZNAME:EST
DTSTART:20241103T060000
END:STANDARD
BEGIN:DAYLIGHT
TZOFFSETFROM:-0500
TZOFFSETTO:-0400
TZNAME:EDT
DTSTART:20250309T070000
END:DAYLIGHT
BEGIN:STANDARD
TZOFFSETFROM:-0400
TZOFFSETTO:-0500
TZNAME:EST
DTSTART:20251102T060000
END:STANDARD
END:VTIMEZONE
BEGIN:VTIMEZONE
TZID:America/New_York
BEGIN:DAYLIGHT
TZOFFSETFROM:-0500
TZOFFSETTO:-0400
TZNAME:EDT
DTSTART:20230312T070000
END:DAYLIGHT
BEGIN:STANDARD
TZOFFSETFROM:-0400
TZOFFSETTO:-0500
TZNAME:EST
DTSTART:20231105T060000
END:STANDARD
BEGIN:DAYLIGHT
TZOFFSETFROM:-0500
TZOFFSETTO:-0400
TZNAME:EDT
DTSTART:20240310T070000
END:DAYLIGHT
BEGIN:STANDARD
TZOFFSETFROM:-0400
TZOFFSETTO:-0500
TZNAME:EST
DTSTART:20241103T060000
END:STANDARD
BEGIN:DAYLIGHT
TZOFFSETFROM:-0500
TZOFFSETTO:-0400
TZNAME:EDT
DTSTART:20250309T070000
END:DAYLIGHT
BEGIN:STANDARD
TZOFFSETFROM:-0400
TZOFFSETTO:-0500
TZNAME:EST
DTSTART:20251102T060000
END:STANDARD
END:VTIMEZONE
BEGIN:VEVENT
DTSTART;TZID=America/Toronto:20240228T130000
DTEND;TZID=America/Toronto:20240228T130000
DTSTAMP:20260420T030752
CREATED:20240117T210505Z
LAST-MODIFIED:20240117T210505Z
UID:12743-1709125200-1709125200@arwrcucc.ca
SUMMARY:HF Human Resources Commission Meeting
DESCRIPTION:
URL:https://arwrcucc.ca/event/hf-human-resources-commission-meeting-6/
CATEGORIES:Meeting,Regional Council
END:VEVENT
BEGIN:VEVENT
DTSTART;TZID=America/New_York:20240228T120000
DTEND;TZID=America/New_York:20240228T140000
DTSTAMP:20260420T030752
CREATED:20240110T200150Z
LAST-MODIFIED:20240125T193354Z
UID:12525-1709121600-1709128800@arwrcucc.ca
SUMMARY:ARW Clergy Luncheon
DESCRIPTION:Register Now\n\n\n  \nIn an effort to continue to build our relationships with one another you are invited to gather with colleagues in ministry from across the Regional Council for a time of fellowship and conversation. Come as we gather around the table to share and break bread together. Watch for more details to come! \nLuncheon speakers include Cheryl-Ann Stadelbauer-Sampa – “Leadership in a time of transition” and Greg Smith-Young – Regional Growth Animator \n\n\nThe Rev. Kevin Steeper \n\nMinister\, Pastoral Support\n\nContact: Kevin Steeper KSteeper@united-church.ca
URL:https://arwrcucc.ca/event/arw-clergy-luncheon-2/
CATEGORIES:Clergy Gathering,Community,Event,Meeting,Ministry Personnel
ATTACH;FMTTYPE=image/png:https://arwrcucc.ca/wp-content/uploads/2024/01/ARWLUNCH2024v2.png
ORGANIZER;CN="Kevin Steeper":MAILTO:mailto:KSteeper@united-church.ca
END:VEVENT
BEGIN:VEVENT
DTSTART;TZID=America/Toronto:20240222T093000
DTEND;TZID=America/Toronto:20240222T113000
DTSTAMP:20260420T030752
CREATED:20231116T193533Z
LAST-MODIFIED:20240109T201448Z
UID:11319-1708594200-1708601400@arwrcucc.ca
SUMMARY:Regional Council Staff Meeting
DESCRIPTION:
URL:https://arwrcucc.ca/event/regional-council-staff-meeting-46/
LOCATION:Online via Zoom
CATEGORIES:Event,Meeting
END:VEVENT
BEGIN:VEVENT
DTSTART;TZID=America/New_York:20240221T093000
DTEND;TZID=America/New_York:20240221T093000
DTSTAMP:20260420T030752
CREATED:20240117T210359Z
LAST-MODIFIED:20240117T210359Z
UID:12741-1708507800-1708507800@arwrcucc.ca
SUMMARY:WOW Regional Council Executive Meeting
DESCRIPTION:
URL:https://arwrcucc.ca/event/wow-regional-council-executive-meeting-5/
CATEGORIES:Meeting
END:VEVENT
BEGIN:VEVENT
DTSTART;TZID=America/New_York:20240220T190000
DTEND;TZID=America/New_York:20240220T190000
DTSTAMP:20260420T030752
CREATED:20240130T155051Z
LAST-MODIFIED:20240130T155051Z
UID:13044-1708455600-1708455600@arwrcucc.ca
SUMMARY:Good News: How to Share the Impact of your Ministry
DESCRIPTION:Good News: How to Share the Impact of your Ministry \n\nLearn how to inspire current and potential donors with the story of your ministry\, project or outreach initiative\nHear how to tell your story when reporting to grant organizations or applying for a grant\nInspire other communities of faith as we share the good news of God at work in our regions\n\nSession will include examples of inspiring stories from right here in our regions as well as time for discussion and Q&A. \nRegister here: https://united-church.zoom.us/meeting/register/tZMpfuyhqTgsEtJu7zpRbldzViJPzpRPXqvz#/registration \nThe session will be recorded and posted to region websites.
URL:https://arwrcucc.ca/event/good-news-how-to-share-the-impact-of-your-ministry/
LOCATION:Online via Zoom
CATEGORIES:Community,Event,Learning Opportunity,Mission Support Grants,Online Gathering,Regional Council,Speakers,Stewardship
ATTACH;FMTTYPE=image/png:https://arwrcucc.ca/wp-content/uploads/2024/01/GoodNewsv2.png
END:VEVENT
BEGIN:VEVENT
DTSTART;TZID=America/Toronto:20240220T100000
DTEND;TZID=America/Toronto:20240220T120000
DTSTAMP:20260420T030752
CREATED:20240117T210300Z
LAST-MODIFIED:20240117T210300Z
UID:12739-1708423200-1708430400@arwrcucc.ca
SUMMARY:WOW Human Resources Commission Meeting
DESCRIPTION:
URL:https://arwrcucc.ca/event/wow-human-resources-commission-meeting-7/
CATEGORIES:Meeting,Online Gathering,Regional Council
END:VEVENT
BEGIN:VEVENT
DTSTART;TZID=America/New_York:20240215T140000
DTEND;TZID=America/New_York:20240215T160000
DTSTAMP:20260420T030752
CREATED:20240205T191445Z
LAST-MODIFIED:20240205T192610Z
UID:13119-1708005600-1708012800@arwrcucc.ca
SUMMARY:'The Basics': Ministry & Personnel Committee Workshops
DESCRIPTION:‘The Basics’: Ministry & Personnel Committee Workshops\nOnline by Zoom\, Spring 2024 dates:\nFebruary 15th 2-4pm\, March 19th 7-9pm\, May 8th 2-4pm and June 25th 7-9pm\nwith Micol Cottrell\, Minister\, Pastoral Relations \n \nOrdered ministers and designated lay ministers while in paid accountable ministry positions are office holders within The United Church of Canada. \nWhile there may be elements similar to employment\, \nthe essential nature of the relationship is a covenant.  \n~ Statement on Ministry in The United Church of Canada (2012) \nNew members are often elected to the vital Ministry & Personnel Committee near the start of the year\, although M&P Committee membership can change for many other reasons throughout the year. \nThe Basics will help a new member learn the essentials of this crucial role. More experienced members of M&P Committees are invited to take this workshop as a refresher with their team\, and keep up with changing United Church practices and policies. This workshop is open to members from Western Ontario Waterways\, Antler River Watershed and Horseshoe Falls Regional Councils! \nPlease Note: each member of your M&P Committee attending this workshop is required to register. \nIn your Confirmation Email\, you will receive the Zoom link and material in preparation for the meeting to make the most of our time together. If you have questions about the content\, please email Micol Cottrell\, Minister\, Pastoral Relations\, at MCottrell@united-church.ca\, or better yet\, write down the questions to bring with you.
URL:https://arwrcucc.ca/event/the-basics-ministry-personnel-committee-workshops/
LOCATION:Online via Zoom
CATEGORIES:Event,Meeting,Ministry Personnel,Training
END:VEVENT
BEGIN:VEVENT
DTSTART;TZID=America/New_York:20240214T100000
DTEND;TZID=America/New_York:20240214T100000
DTSTAMP:20260420T030752
CREATED:20240117T210211Z
LAST-MODIFIED:20240117T210211Z
UID:12737-1707904800-1707904800@arwrcucc.ca
SUMMARY:ARW Regional Council Executive Meeting
DESCRIPTION:
URL:https://arwrcucc.ca/event/arw-regional-council-executive-meeting-5/
CATEGORIES:Meeting
END:VEVENT
BEGIN:VEVENT
DTSTART;TZID=America/New_York:20240213T190000
DTEND;TZID=America/New_York:20240213T190000
DTSTAMP:20260420T030752
CREATED:20240117T210118Z
LAST-MODIFIED:20240117T210118Z
UID:12735-1707850800-1707850800@arwrcucc.ca
SUMMARY:HF Congregational Support Commission
DESCRIPTION:
URL:https://arwrcucc.ca/event/hf-congregational-support-commission-7/
CATEGORIES:Meeting
END:VEVENT
BEGIN:VEVENT
DTSTART;TZID=America/New_York:20240213T100000
DTEND;TZID=America/New_York:20240213T113000
DTSTAMP:20260420T030752
CREATED:20240123T172937Z
LAST-MODIFIED:20240123T172937Z
UID:12833-1707818400-1707823800@arwrcucc.ca
SUMMARY:HF Retired Clergy Online Gathering
DESCRIPTION:On behalf of Horseshoe Falls Regional Council\, the Human Resources Commission has been seeking to redress a lack of connection between the regional council and retirees since the dissolution of presbyteries. This has included creating a contact list of retirees in our region and finding a connection point in the structure. Happily\, the Human Resources Commission has included relating to retirees as part of its mandate and our Minister for Pastoral Support\, the Rev. Kevin Steeper\, will also serve as a resource in this effort.Our next step is to host a regional council wide online gathering: \n\nto connect with one another\,\nto explore how we all might best relate to one another;\nto listen to the ideas you may have for gatherings in smaller groupings and how the region might best support you.\n\nThere will be an opportunity for you to gather in geographic groupings to self-organize.From an earlier email to many of you\, we received a suggestion that we might invite a national staff person to join us at a gathering once a year to hear about the wider church and to answer questions you may have. General Secretary\, the Rev. Dr. Michael Blair\, has graciously agreed to be with us for part of our meeting to do just that.Save the Date!Join us on February 13\, 2024 from 10:00 to 11:30 a.m. online. Watch for the meeting link to come after the new year.We recognize that not everyone has online access. If you know of a colleague who would appreciate being present\, perhaps you could invite them to join  you.
URL:https://arwrcucc.ca/event/hf-retired-clergy-online-gathering/
LOCATION:Online via Zoom
CATEGORIES:Clergy Gathering,Community,Event,Learning Opportunity,Meeting,Ministry Personnel,Online Gathering,Regional Council,Speakers
END:VEVENT
BEGIN:VEVENT
DTSTART;TZID=America/Toronto:20240213T090000
DTEND;TZID=America/Toronto:20240213T090000
DTSTAMP:20260420T030752
CREATED:20240117T205846Z
LAST-MODIFIED:20240117T205846Z
UID:12733-1707814800-1707814800@arwrcucc.ca
SUMMARY:ARW Human Resources Commission Meeting
DESCRIPTION:
URL:https://arwrcucc.ca/event/arw-human-resources-commission-meeting-7/
CATEGORIES:Meeting,Online Gathering,Regional Council
END:VEVENT
BEGIN:VEVENT
DTSTART;TZID=America/New_York:20240210T130000
DTEND;TZID=America/New_York:20240210T130000
DTSTAMP:20260420T030752
CREATED:20240122T213729Z
LAST-MODIFIED:20240122T213729Z
UID:12825-1707570000-1707570000@arwrcucc.ca
SUMMARY:WOW UCW Event – Celebrating our Camps
DESCRIPTION:WOW UCW ZOOM EVENT:\nGather with United Church Women to celebrate and support our Camps!⛺️🛶⛵️🏊‍♀️\n\nSaturday February 10th at 1pm via Zoom\nZoom Link: https://united-church.zoom.us/j/88259084126…
URL:https://arwrcucc.ca/event/wow-ucw-event-celebrating-our-camps/
LOCATION:Online via Zoom
CATEGORIES:2SLGBTQIA,Affirming,Anti-Racism,Camps & Retreats,Community,Event,Holiday,Kids and Youth,Meeting,Online Gathering,Speakers,UCW
ATTACH;FMTTYPE=image/png:https://arwrcucc.ca/wp-content/uploads/2024/01/UCWWOWFEB10TH.png
END:VEVENT
BEGIN:VEVENT
DTSTART;TZID=America/Toronto:20240208T093000
DTEND;TZID=America/Toronto:20240208T113000
DTSTAMP:20260420T030752
CREATED:20231116T193509Z
LAST-MODIFIED:20240109T201414Z
UID:11317-1707384600-1707391800@arwrcucc.ca
SUMMARY:Regional Council Staff Meeting
DESCRIPTION:
URL:https://arwrcucc.ca/event/regional-council-staff-meeting-38/
LOCATION:Online via Zoom
CATEGORIES:Event,Meeting
END:VEVENT
BEGIN:VEVENT
DTSTART;TZID=America/New_York:20240208T093000
DTEND;TZID=America/New_York:20240208T093000
DTSTAMP:20260420T030752
CREATED:20240117T205706Z
LAST-MODIFIED:20240117T205706Z
UID:12731-1707384600-1707384600@arwrcucc.ca
SUMMARY:WOW Congregational Support Commission
DESCRIPTION:
URL:https://arwrcucc.ca/event/wow-congregational-support-commission-7/
CATEGORIES:Meeting
END:VEVENT
BEGIN:VEVENT
DTSTART;TZID=America/Toronto:20240207T120000
DTEND;TZID=America/Toronto:20240207T140000
DTSTAMP:20260420T030752
CREATED:20231221T191445Z
LAST-MODIFIED:20240124T222323Z
UID:12311-1707307200-1707314400@arwrcucc.ca
SUMMARY:WOW Clergy Luncheon
DESCRIPTION:In an effort to continue to build our relationships with one another you are invited to gather with colleagues in ministry from across the Regional Council for a time of fellowship and conversation. Come as we gather around the table to share and break bread together. \n\n\n\nLuncheon speakers include Cheryl-Ann Stadelbauer-Sampa – “Leadership in a time of transition” and Greg Smith-Young – Regional Growth Animator \n\n\nThe Rev. Kevin Steeper\nMinister\, Pastoral Support\n\n\nContact: Kevin Steeper KSteeper@united-church.ca\n\n\n\n\nClick Here to Register Now!\n 
URL:https://arwrcucc.ca/event/wow-clergy-luncheon/
CATEGORIES:Clergy Gathering,Community,Event,Ministry Personnel
ATTACH;FMTTYPE=image/png:https://arwrcucc.ca/wp-content/uploads/2023/12/WOWLUNCH2024-1.png
ORGANIZER;CN="Kevin Steeper":MAILTO:mailto:KSteeper@united-church.ca
END:VEVENT
BEGIN:VEVENT
DTSTART;TZID=America/New_York:20240207T090000
DTEND;TZID=America/New_York:20240207T090000
DTSTAMP:20260420T030752
CREATED:20240117T205308Z
LAST-MODIFIED:20240117T205308Z
UID:12727-1707296400-1707296400@arwrcucc.ca
SUMMARY:ARW Congregational Support Commission
DESCRIPTION:
URL:https://arwrcucc.ca/event/arw-congregational-support-commission-7/
CATEGORIES:Meeting
END:VEVENT
BEGIN:VEVENT
DTSTART;TZID=America/New_York:20240131T190000
DTEND;TZID=America/New_York:20240131T203000
DTSTAMP:20260420T030752
CREATED:20240116T203749Z
LAST-MODIFIED:20240116T203806Z
UID:12681-1706727600-1706733000@arwrcucc.ca
SUMMARY:HF Regional Lay Representative Gathering
DESCRIPTION:
URL:https://arwrcucc.ca/event/hf-regional-lay-representative-gathering/
LOCATION:Online via Zoom
CATEGORIES:Meeting
ORGANIZER;CN="Lynne Allin":MAILTO:LAllin@united-church.ca
END:VEVENT
BEGIN:VEVENT
DTSTART;TZID=America/New_York:20240131T140000
DTEND;TZID=America/New_York:20240131T140000
DTSTAMP:20260420T030752
CREATED:20240122T184439Z
LAST-MODIFIED:20240122T184936Z
UID:12815-1706709600-1706709600@arwrcucc.ca
SUMMARY:Designated Lay Ministers Online Gathering
DESCRIPTION:Wednesday January 31st at 2pm\n\nClick here for Zoom link: https://mailchi.mp/unit…/designated-lay-ministers-hello…
URL:https://arwrcucc.ca/event/designated-lay-ministers-online-gathering/
LOCATION:Online via Zoom
CATEGORIES:Event,Meeting,Online Gathering
END:VEVENT
BEGIN:VEVENT
DTSTART;TZID=America/New_York:20240125T140000
DTEND;TZID=America/New_York:20240125T150000
DTSTAMP:20260420T030752
CREATED:20231130T190450Z
LAST-MODIFIED:20231130T190450Z
UID:11906-1706191200-1706194800@arwrcucc.ca
SUMMARY:WOW Online Clergy Gathering
DESCRIPTION:
URL:https://arwrcucc.ca/event/wow-online-clergy-gathering-3/
LOCATION:Online via Zoom
CATEGORIES:Clergy Gathering,Event,Learning Opportunity,Meeting,Online Gathering
ORGANIZER;CN="Kevin Steeper":MAILTO:mailto:KSteeper@united-church.ca
END:VEVENT
BEGIN:VEVENT
DTSTART;TZID=America/Toronto:20240125T093000
DTEND;TZID=America/Toronto:20240125T113000
DTSTAMP:20260420T030752
CREATED:20231116T193351Z
LAST-MODIFIED:20240109T201314Z
UID:11312-1706175000-1706182200@arwrcucc.ca
SUMMARY:Regional Council Staff Meeting
DESCRIPTION:
URL:https://arwrcucc.ca/event/regional-council-staff-meeting-36/
LOCATION:Online via Zoom
CATEGORIES:Event,Meeting
END:VEVENT
BEGIN:VEVENT
DTSTART;TZID=America/New_York:20240124T160000
DTEND;TZID=America/New_York:20240124T160000
DTSTAMP:20260420T030752
CREATED:20240116T210025Z
LAST-MODIFIED:20240116T210025Z
UID:12683-1706112000-1706112000@arwrcucc.ca
SUMMARY:HF Regional Council Executive Meeting
DESCRIPTION:
URL:https://arwrcucc.ca/event/hf-regional-council-executive-meeting-3/
CATEGORIES:Meeting
END:VEVENT
BEGIN:VEVENT
DTSTART;TZID=America/New_York:20240124T150000
DTEND;TZID=America/New_York:20240124T160000
DTSTAMP:20260420T030752
CREATED:20231130T190412Z
LAST-MODIFIED:20231130T190412Z
UID:11905-1706108400-1706112000@arwrcucc.ca
SUMMARY:HF Online Clergy Gathering
DESCRIPTION:
URL:https://arwrcucc.ca/event/hf-online-clergy-gathering-3/
LOCATION:Online via Zoom
CATEGORIES:Clergy Gathering,Event,Learning Opportunity,Meeting,Online Gathering
ORGANIZER;CN="Kevin Steeper":MAILTO:mailto:KSteeper@united-church.ca
END:VEVENT
BEGIN:VEVENT
DTSTART;TZID=America/Toronto:20240124T130000
DTEND;TZID=America/Toronto:20240124T130000
DTSTAMP:20260420T030752
CREATED:20240116T203509Z
LAST-MODIFIED:20240116T203509Z
UID:12679-1706101200-1706101200@arwrcucc.ca
SUMMARY:HF Human Resources Commission Meeting
DESCRIPTION:
URL:https://arwrcucc.ca/event/hf-human-resources-commission-meeting-5/
CATEGORIES:Meeting,Regional Council
END:VEVENT
BEGIN:VEVENT
DTSTART;TZID=America/New_York:20240123T140000
DTEND;TZID=America/New_York:20240123T150000
DTSTAMP:20260420T030752
CREATED:20231130T190333Z
LAST-MODIFIED:20240122T212240Z
UID:11904-1706018400-1706022000@arwrcucc.ca
SUMMARY:ARW Online Clergy Gathering
DESCRIPTION:
URL:https://arwrcucc.ca/event/arw-online-clergy-gathering-3/
LOCATION:Online via Zoom
CATEGORIES:Clergy Gathering,Event,Learning Opportunity,Meeting,Online Gathering
ATTACH;FMTTYPE=image/png:https://arwrcucc.ca/wp-content/uploads/2023/11/January-2024-KS.png
ORGANIZER;CN="Kevin Steeper":MAILTO:mailto:KSteeper@united-church.ca
END:VEVENT
BEGIN:VEVENT
DTSTART;TZID=America/New_York:20240118T103000
DTEND;TZID=America/New_York:20240118T120000
DTSTAMP:20260420T030752
CREATED:20231107T163638Z
LAST-MODIFIED:20240117T190110Z
UID:11167-1705573800-1705579200@arwrcucc.ca
SUMMARY:Come to the Well - Spiritual Grounding for Justice Seeking
DESCRIPTION:For Ministry Personnel \nJanuary 18\, 2024 10:30 AM-12:00 Noon \nCome to the Well – Spiritual Grounding for Justice Seeking \nRenewal and networking for Ministry Personnel whose ministry includes right relations\, social justice\, and eco-justice. \nWith Thérèse Samuel\, Minister for Right Relations and Social Justice and Kevin Steeper\, Pastoral Support Minister. \nRegister in advance for this meeting (registration required) \nhttps://united-church.zoom.us/meeting/register/tZEkduyvqT4oHdcYo28H8DevJcpbsYAqZ7oz \nAfter registering\, you will receive a confirmation email containing information about joining the meeting. \nFor more information contact \nThérèse Samuel TSamuel@united-church.ca or \nKevin Steeper KSteeper@united-church.ca
URL:https://arwrcucc.ca/event/come-to-the-well-spiritual-grounding-for-justice-seeking/
LOCATION:Online via Zoom
CATEGORIES:Clergy Gathering,Community,Event,Learning Opportunity,Meeting,Ministry Personnel,Online Gathering,Regional Council,Social Justice
ATTACH;FMTTYPE=image/jpeg:https://arwrcucc.ca/wp-content/uploads/2023/11/amritanshu-sikdar-LoGnr-w1D8E-unsplash-scaled.jpg
END:VEVENT
BEGIN:VEVENT
DTSTART;TZID=America/New_York:20240117T190000
DTEND;TZID=America/New_York:20240117T190000
DTSTAMP:20260420T030752
CREATED:20231107T161338Z
LAST-MODIFIED:20240108T163100Z
UID:11165-1705518000-1705518000@arwrcucc.ca
SUMMARY:Remit Q&A Session (Online)
DESCRIPTION:Prepare to Vote:\nRemit Q&A Session (Online)\nwith Thérèse Samuel and John Egger \nWednesday January 17\, 2024 7:00-8:30 PM \nFor Pastoral Charges \nADVANCE REGISTRATION REQUIRED: Click to Register Now: \nNote: Registration is through CHURCHx. If you do not yet have a CHURCHx account\, you will be prompted to open one. Your account can be used for other programs in and beyond the United Church. \nPlease prepare and submit your questions in advance: \nPREPARE for the Q&A Session:We ask that all participants have previously participated in an education workshop or have listened to/watched the half-hour Remit Foundations video. \nPlease click this link to look at this information sheet \nAn additional information sheet will be available before the workshop. \nIn the workshop\, facilitators will present responses to questions received by 9:00 AM January 16th using the form. There will be time for discussion\, and for additional questions if time permits. \nSUBMIT YOUR QUESTIONS NOW: Please click here to send your questions. \nPlease DO NOT send questions by email. \n\nFor information contact: \nThérèse Samuel TSamuel@united-church.ca or \nJohn Egger JEgger@united-church.ca \nPresented by Antler River Watershed\, Horseshoe Falls and Western Ontario Waterways Regional Councils
URL:https://arwrcucc.ca/event/remit-qa-session-online/
LOCATION:Online via CHURCHx
CATEGORIES:Community,Event,General Council,Indigenous Justice,Learning Opportunity,Online Gathering
ATTACH;FMTTYPE=image/png:https://arwrcucc.ca/wp-content/uploads/2023/11/Got-questions-Remit-QAv3.png
END:VEVENT
BEGIN:VEVENT
DTSTART;TZID=America/New_York:20240117T093000
DTEND;TZID=America/New_York:20240117T093000
DTSTAMP:20260420T030752
CREATED:20240116T202929Z
LAST-MODIFIED:20240116T202929Z
UID:12677-1705483800-1705483800@arwrcucc.ca
SUMMARY:WOW Regional Council Executive Meeting
DESCRIPTION:
URL:https://arwrcucc.ca/event/wow-regional-council-executive-meeting-4/
CATEGORIES:Meeting
END:VEVENT
BEGIN:VEVENT
DTSTART;TZID=America/Toronto:20240116T100000
DTEND;TZID=America/Toronto:20240116T100000
DTSTAMP:20260420T030752
CREATED:20240116T202841Z
LAST-MODIFIED:20240116T202841Z
UID:12675-1705399200-1705399200@arwrcucc.ca
SUMMARY:ARW Discipleship & Justice Meeting
DESCRIPTION:
URL:https://arwrcucc.ca/event/arw-discipleship-justice-meeting-10/
LOCATION:Online via Zoom
CATEGORIES:Meeting
END:VEVENT
BEGIN:VEVENT
DTSTART;TZID=America/Toronto:20240116T100000
DTEND;TZID=America/Toronto:20240116T100000
DTSTAMP:20260420T030752
CREATED:20240116T202721Z
LAST-MODIFIED:20240116T202721Z
UID:12672-1705399200-1705399200@arwrcucc.ca
SUMMARY:WOW Human Resources Commission Meeting
DESCRIPTION:
URL:https://arwrcucc.ca/event/wow-human-resources-commission-meeting-6/
CATEGORIES:Meeting,Online Gathering,Regional Council
END:VEVENT
BEGIN:VEVENT
DTSTART;TZID=America/New_York:20240113T090000
DTEND;TZID=America/New_York:20240113T123000
DTSTAMP:20260420T030752
CREATED:20240116T202608Z
LAST-MODIFIED:20240116T202608Z
UID:12670-1705136400-1705149000@arwrcucc.ca
SUMMARY:Tri-Regional Council Executive Meeting
DESCRIPTION:
URL:https://arwrcucc.ca/event/tri-regional-council-executive-meeting/
LOCATION:Online via Zoom
CATEGORIES:Community,Event,Meeting,Online Gathering,Regional Council
END:VEVENT
END:VCALENDAR