BEGIN:VCALENDAR
VERSION:2.0
PRODID:-//Antler River Watershed Regional Council - ECPv6.15.20//NONSGML v1.0//EN
CALSCALE:GREGORIAN
METHOD:PUBLISH
X-WR-CALNAME:Antler River Watershed Regional Council
X-ORIGINAL-URL:https://arwrcucc.ca
X-WR-CALDESC:Events for Antler River Watershed Regional Council
REFRESH-INTERVAL;VALUE=DURATION:PT1H
X-Robots-Tag:noindex
X-PUBLISHED-TTL:PT1H
BEGIN:VTIMEZONE
TZID:America/Toronto
BEGIN:DAYLIGHT
TZOFFSETFROM:-0500
TZOFFSETTO:-0400
TZNAME:EDT
DTSTART:20250309T070000
END:DAYLIGHT
BEGIN:STANDARD
TZOFFSETFROM:-0400
TZOFFSETTO:-0500
TZNAME:EST
DTSTART:20251102T060000
END:STANDARD
BEGIN:DAYLIGHT
TZOFFSETFROM:-0500
TZOFFSETTO:-0400
TZNAME:EDT
DTSTART:20260308T070000
END:DAYLIGHT
BEGIN:STANDARD
TZOFFSETFROM:-0400
TZOFFSETTO:-0500
TZNAME:EST
DTSTART:20261101T060000
END:STANDARD
BEGIN:DAYLIGHT
TZOFFSETFROM:-0500
TZOFFSETTO:-0400
TZNAME:EDT
DTSTART:20270314T070000
END:DAYLIGHT
BEGIN:STANDARD
TZOFFSETFROM:-0400
TZOFFSETTO:-0500
TZNAME:EST
DTSTART:20271107T060000
END:STANDARD
END:VTIMEZONE
BEGIN:VTIMEZONE
TZID:America/New_York
BEGIN:DAYLIGHT
TZOFFSETFROM:-0500
TZOFFSETTO:-0400
TZNAME:EDT
DTSTART:20250309T070000
END:DAYLIGHT
BEGIN:STANDARD
TZOFFSETFROM:-0400
TZOFFSETTO:-0500
TZNAME:EST
DTSTART:20251102T060000
END:STANDARD
BEGIN:DAYLIGHT
TZOFFSETFROM:-0500
TZOFFSETTO:-0400
TZNAME:EDT
DTSTART:20260308T070000
END:DAYLIGHT
BEGIN:STANDARD
TZOFFSETFROM:-0400
TZOFFSETTO:-0500
TZNAME:EST
DTSTART:20261101T060000
END:STANDARD
BEGIN:DAYLIGHT
TZOFFSETFROM:-0500
TZOFFSETTO:-0400
TZNAME:EDT
DTSTART:20270314T070000
END:DAYLIGHT
BEGIN:STANDARD
TZOFFSETFROM:-0400
TZOFFSETTO:-0500
TZNAME:EST
DTSTART:20271107T060000
END:STANDARD
END:VTIMEZONE
BEGIN:VEVENT
DTSTART;TZID=America/Toronto:20260310T090000
DTEND;TZID=America/Toronto:20260310T090000
DTSTAMP:20260420T153705
CREATED:20260302T154500Z
LAST-MODIFIED:20260302T154500Z
UID:47268-1773133200-1773133200@arwrcucc.ca
SUMMARY:ARW Human Resources Commission Meeting
DESCRIPTION:
URL:https://arwrcucc.ca/event/arw-human-resources-commission-meeting-17/
CATEGORIES:Meeting,Online Gathering,Regional Council
END:VEVENT
BEGIN:VEVENT
DTSTART;TZID=America/New_York:20260310T100000
DTEND;TZID=America/New_York:20260310T100000
DTSTAMP:20260420T153705
CREATED:20260302T154611Z
LAST-MODIFIED:20260302T154611Z
UID:47270-1773136800-1773136800@arwrcucc.ca
SUMMARY:HF Congregational Support Commission
DESCRIPTION:
URL:https://arwrcucc.ca/event/hf-congregational-support-commission-29/
CATEGORIES:Meeting
END:VEVENT
BEGIN:VEVENT
DTSTART;TZID=America/Toronto:20260310T100000
DTEND;TZID=America/Toronto:20260310T100000
DTSTAMP:20260420T153705
CREATED:20260302T154653Z
LAST-MODIFIED:20260302T154653Z
UID:47272-1773136800-1773136800@arwrcucc.ca
SUMMARY:ARW Discipleship & Justice Meeting
DESCRIPTION:
URL:https://arwrcucc.ca/event/arw-discipleship-justice-meeting-24/
LOCATION:Online via Zoom
CATEGORIES:Meeting
END:VEVENT
BEGIN:VEVENT
DTSTART;TZID=America/New_York:20260311T100000
DTEND;TZID=America/New_York:20260311T100000
DTSTAMP:20260420T153705
CREATED:20260302T154759Z
LAST-MODIFIED:20260302T154759Z
UID:47274-1773223200-1773223200@arwrcucc.ca
SUMMARY:ARW Regional Council Executive Meeting
DESCRIPTION:
URL:https://arwrcucc.ca/event/arw-regional-council-executive-meeting-20/
CATEGORIES:Meeting
END:VEVENT
BEGIN:VEVENT
DTSTART;TZID=America/New_York:20260312T123000
DTEND;TZID=America/New_York:20260312T123000
DTSTAMP:20260420T153705
CREATED:20260302T154859Z
LAST-MODIFIED:20260302T154859Z
UID:47276-1773318600-1773318600@arwrcucc.ca
SUMMARY:WOW Congregational Support Commission
DESCRIPTION:
URL:https://arwrcucc.ca/event/wow-congregational-support-commission-23/
CATEGORIES:Meeting
END:VEVENT
BEGIN:VEVENT
DTSTART;TZID=America/Toronto:20260312T130000
DTEND;TZID=America/Toronto:20260312T130000
DTSTAMP:20260420T153705
CREATED:20260224T162248Z
LAST-MODIFIED:20260224T162248Z
UID:47223-1773320400-1773320400@arwrcucc.ca
SUMMARY:Clergy Gathering
DESCRIPTION:Hosted by Laurie Stevenson\, Minister Pastoral Support\nNo Registration Required – Join Zoom Meeting\nhttps://us06web.zoom.us/j/83894431649?pwd=Je8cszpfphSaGa6z8ymGb3XrYTra3O.1\nMeeting ID: 838 9443 1649\nPasscode: 990324
URL:https://arwrcucc.ca/event/clergy-gathering/
LOCATION:Online by Zoom link
CATEGORIES:Clergy Gathering,Event,Learning Opportunity,Online Gathering,Regional Council
ATTACH;FMTTYPE=image/jpeg:https://arwrcucc.ca/wp-content/uploads/2026/02/Sabbatical-Clergy-Event.jpg
ORGANIZER;CN="Laurie Stevenson":MAILTO:LStevenson@united-church.ca
END:VEVENT
BEGIN:VEVENT
DTSTART;TZID=America/Toronto:20260317T100000
DTEND;TZID=America/Toronto:20260317T120000
DTSTAMP:20260420T153705
CREATED:20260302T154945Z
LAST-MODIFIED:20260302T154945Z
UID:47278-1773741600-1773748800@arwrcucc.ca
SUMMARY:WOW Pastoral Relations Commission Meeting
DESCRIPTION:
URL:https://arwrcucc.ca/event/wow-pastoral-relations-commission-meeting-10/
CATEGORIES:Meeting,Online Gathering,Regional Council
END:VEVENT
BEGIN:VEVENT
DTSTART;TZID=America/New_York:20260318T093000
DTEND;TZID=America/New_York:20260318T093000
DTSTAMP:20260420T153705
CREATED:20260302T160615Z
LAST-MODIFIED:20260302T160615Z
UID:47284-1773826200-1773826200@arwrcucc.ca
SUMMARY:WOW Regional Council Executive Meeting
DESCRIPTION:
URL:https://arwrcucc.ca/event/wow-regional-council-executive-meeting-22/
CATEGORIES:Meeting
END:VEVENT
BEGIN:VEVENT
DTSTART;TZID=America/Toronto:20260319T093000
DTEND;TZID=America/Toronto:20260319T113000
DTSTAMP:20260420T153705
CREATED:20260302T154347Z
LAST-MODIFIED:20260302T154347Z
UID:47266-1773912600-1773919800@arwrcucc.ca
SUMMARY:Regional Council Staff Meeting
DESCRIPTION:
URL:https://arwrcucc.ca/event/regional-council-staff-meeting-88/
LOCATION:Online via Zoom
CATEGORIES:Event,Meeting
END:VEVENT
BEGIN:VEVENT
DTSTART;TZID=America/New_York:20260325T093000
DTEND;TZID=America/New_York:20260325T093000
DTSTAMP:20260420T153705
CREATED:20260302T155100Z
LAST-MODIFIED:20260302T155100Z
UID:47280-1774431000-1774431000@arwrcucc.ca
SUMMARY:HF Regional Council Executive Meeting
DESCRIPTION:
URL:https://arwrcucc.ca/event/hf-regional-council-executive-meeting-18/
CATEGORIES:Meeting
END:VEVENT
BEGIN:VEVENT
DTSTART;TZID=America/Toronto:20260325T130000
DTEND;TZID=America/Toronto:20260325T130000
DTSTAMP:20260420T153705
CREATED:20260302T155142Z
LAST-MODIFIED:20260302T155142Z
UID:47282-1774443600-1774443600@arwrcucc.ca
SUMMARY:HF Human Resources Commission Meeting
DESCRIPTION:
URL:https://arwrcucc.ca/event/hf-human-resources-commission-meeting-25/
CATEGORIES:Meeting,Regional Council
END:VEVENT
BEGIN:VEVENT
DTSTART;TZID=America/Toronto:20260326T140000
DTEND;TZID=America/Toronto:20260326T140000
DTSTAMP:20260420T153705
CREATED:20260318T142342Z
LAST-MODIFIED:20260318T143309Z
UID:47452-1774533600-1774533600@arwrcucc.ca
SUMMARY:Tri-Region Regional Representatives Gathering
DESCRIPTION:📢 Tri-Regional Regional Reps Gathering \nWe invite all regional representatives to join our gatherings. \n\n🗓️ Thursday\, March 26\, 2026 at⏰ 2:00 PM \n🎤 Guests: \nDaniel Reid – Toronto United Church Council (TUCC); \nOlas Ben-Wilson – GC Statistics\, and \nLaura Black – Minister\, First Thirds Ministry & Faith Formation (ARW\, HF\, WOW) \n\n🔗 Join Zoom Meeting  Meeting ID: 827 3791 1619; Password: 278721 \n\nQuestions? – contact your Congregational Support Minister (ARWCSM\, HFCSM\, WOWCSM)
URL:https://arwrcucc.ca/event/tri-regional-regional-representatives-gathering/
LOCATION:Online via Zoom
CATEGORIES:Event,Learning Opportunity,Online Gathering,Regional Representatives,Speakers
END:VEVENT
BEGIN:VEVENT
DTSTART;TZID=America/New_York:20260401T090000
DTEND;TZID=America/New_York:20260401T110000
DTSTAMP:20260420T153705
CREATED:20260330T145443Z
LAST-MODIFIED:20260330T145443Z
UID:47668-1775034000-1775041200@arwrcucc.ca
SUMMARY:ARW Congregational Support Commission
DESCRIPTION:
URL:https://arwrcucc.ca/event/arw-congregational-support-commission-24/
CATEGORIES:Meeting
END:VEVENT
BEGIN:VEVENT
DTSTART;TZID=America/Toronto:20260402T093000
DTEND;TZID=America/Toronto:20260402T113000
DTSTAMP:20260420T153705
CREATED:20260330T145527Z
LAST-MODIFIED:20260330T145527Z
UID:47670-1775122200-1775129400@arwrcucc.ca
SUMMARY:Regional Council Staff Meeting
DESCRIPTION:
URL:https://arwrcucc.ca/event/regional-council-staff-meeting-89/
LOCATION:Online via Zoom
CATEGORIES:Event,Meeting
END:VEVENT
BEGIN:VEVENT
DTSTART;TZID=America/Toronto:20260402T150000
DTEND;TZID=America/Toronto:20260402T163000
DTSTAMP:20260420T153705
CREATED:20251103T225111Z
LAST-MODIFIED:20251103T225421Z
UID:32917-1775142000-1775147400@arwrcucc.ca
SUMMARY:Ministry and Personnel The Basics Workshop
DESCRIPTION:‘The Basics’: Ministry & Personnel Committee WorkshopsOnline by Zoom\, Upcoming dates: \nNovember 4th\, 7-8:30 PM\nFebruary 5th\, 3-4:30 PM\nApril 2nd\, 3-4:30 PMwith Micol Cottrell\, Minister\, Pastoral Relations \nOrdered ministers and designated lay ministers while in paid accountable ministry positions are office holders within The United Church of Canada.  \nWhile there may be elements similar to employment\, \nthe essential nature of the relationship is a covenant.  \n~ Statement on Ministry in The United Church of Canada (2012) \nNew members are often elected to the vital Ministry & Personnel Committee near the start of the year\, although M&P Committee membership can change for many other reasons throughout the year. \nThe Basics will help a new member learn the essentials of this crucial role. More experienced members of M&P Committees are invited to take this workshop as a refresher with their team\, and keep up with changing United Church practices and policies. This workshop is open to members from Western Ontario Waterways\, Antler River Watershed and Horseshoe Falls Regional Councils! \nPlease Note: each member of your M&P Committee attending this workshop is required to register. \nIn your Confirmation Email\, you will receive the Zoom link and material in preparation for the meeting to make the most of our time together. If you have questions about the content\, please email Micol Cottrell\, Minister\, Pastoral Relations\, at MCottrell@united-church.ca\, or better yet\, write down the questions to bring with you.\n\n\n\n\n\n\n\n\n\n\n\n\n\n\nRegister Now for The Basics M&P Workshop
URL:https://arwrcucc.ca/event/ministry-and-personnel-the-basics-workshop-7/
LOCATION:Online via Zoom
CATEGORIES:Event,Meeting,Training
END:VEVENT
BEGIN:VEVENT
DTSTART;VALUE=DATE:20260403
DTEND;VALUE=DATE:20260407
DTSTAMP:20260420T153705
CREATED:20260330T162744Z
LAST-MODIFIED:20260330T162744Z
UID:47698-1775174400-1775519999@arwrcucc.ca
SUMMARY:Easter Office Closure
DESCRIPTION:Please note the Regional Council Office will be closed. \nWishing you a blessed Easter!
URL:https://arwrcucc.ca/event/easter-office-closure/
CATEGORIES:Holiday
END:VEVENT
BEGIN:VEVENT
DTSTART;TZID=America/New_York:20260409T123000
DTEND;TZID=America/New_York:20260409T123000
DTSTAMP:20260420T153705
CREATED:20260330T145707Z
LAST-MODIFIED:20260330T145707Z
UID:47676-1775737800-1775737800@arwrcucc.ca
SUMMARY:WOW Congregational Support Commission
DESCRIPTION:
URL:https://arwrcucc.ca/event/wow-congregational-support-commission-24/
CATEGORIES:Meeting
END:VEVENT
BEGIN:VEVENT
DTSTART;TZID=America/New_York:20260413T190000
DTEND;TZID=America/New_York:20260413T190000
DTSTAMP:20260420T153705
CREATED:20260107T170801Z
LAST-MODIFIED:20260120T161538Z
UID:43458-1776106800-1776106800@arwrcucc.ca
SUMMARY:Search Team Training
DESCRIPTION:Search Team Training\nHas your church begun searching for a new minister? Has a search team been formed? If so\, they will need to be trained. Training can happen in two ways:\n\nWith your liaison\nOnline with Laurie Stevenson\, Pastoral Relations Minister (if you have a liaison\, please invite your liaison to attend with you)\n\nTraining is mandatory for all search teams.\nThe online training is two hours and during this time we explore:\n\nThe search process\nWorking to understand and overcome the impact of bias\nThe various types of ministry personnel you will find on ChurchHub\nWhere to find resources for using ChurchHub\nAnd more.\n\nIf you are interested in taking the training online please register at Search Team Training – Formstack.\n\n\n\nThe dates for the fall are the second Monday of each month: \n\n\n\nFebruary 9\, 7-9pm\nMarch 9\, 7-9pm\nApril 13\, 7-9pm\nMay 11\, 7-9pm\nJune 8\, 7-9pm
URL:https://arwrcucc.ca/event/search-team-training-14/
LOCATION:Online
CATEGORIES:Meeting
ORGANIZER;CN="Laurie Stevenson":MAILTO:LStevenson@united-church.ca
END:VEVENT
BEGIN:VEVENT
DTSTART;TZID=America/Toronto:20260414T090000
DTEND;TZID=America/Toronto:20260414T090000
DTSTAMP:20260420T153705
CREATED:20260330T145945Z
LAST-MODIFIED:20260330T145945Z
UID:47678-1776157200-1776157200@arwrcucc.ca
SUMMARY:ARW Human Resources Commission Meeting
DESCRIPTION:
URL:https://arwrcucc.ca/event/arw-human-resources-commission-meeting-18/
CATEGORIES:Meeting,Online Gathering,Regional Council
END:VEVENT
BEGIN:VEVENT
DTSTART;TZID=America/Toronto:20260414T100000
DTEND;TZID=America/Toronto:20260414T100000
DTSTAMP:20260420T153705
CREATED:20260330T150028Z
LAST-MODIFIED:20260330T150028Z
UID:47680-1776160800-1776160800@arwrcucc.ca
SUMMARY:ARW Discipleship & Justice Meeting
DESCRIPTION:
URL:https://arwrcucc.ca/event/arw-discipleship-justice-meeting-25/
LOCATION:Online via Zoom
CATEGORIES:Meeting
END:VEVENT
BEGIN:VEVENT
DTSTART;TZID=America/New_York:20260414T190000
DTEND;TZID=America/New_York:20260414T190000
DTSTAMP:20260420T153705
CREATED:20260330T150215Z
LAST-MODIFIED:20260330T150215Z
UID:47684-1776193200-1776193200@arwrcucc.ca
SUMMARY:HF Congregational Support Commission
DESCRIPTION:
URL:https://arwrcucc.ca/event/hf-congregational-support-commission-30/
CATEGORIES:Meeting
END:VEVENT
BEGIN:VEVENT
DTSTART;TZID=America/Toronto:20260415T100000
DTEND;TZID=America/Toronto:20260415T140000
DTSTAMP:20260420T153705
CREATED:20260318T141552Z
LAST-MODIFIED:20260318T141552Z
UID:47449-1776247200-1776261600@arwrcucc.ca
SUMMARY:Shared Shelves
DESCRIPTION:
URL:https://arwrcucc.ca/event/shared-shelves/
LOCATION:Regional Councils Office\, Hamilton
CATEGORIES:Community,Event,Regional Council
ATTACH;FMTTYPE=image/png:https://arwrcucc.ca/wp-content/uploads/2026/03/ChatGPT-Image-Mar-6-2026-at-03_34_25-PM.png
ORGANIZER;CN="Laurie Stevenson":MAILTO:LStevenson@united-church.ca
END:VEVENT
BEGIN:VEVENT
DTSTART;TZID=America/Toronto:20260415T130000
DTEND;TZID=America/Toronto:20260415T130000
DTSTAMP:20260420T153705
CREATED:20260330T150119Z
LAST-MODIFIED:20260330T150119Z
UID:47682-1776258000-1776258000@arwrcucc.ca
SUMMARY:National Congregational Support Meeting
DESCRIPTION:
URL:https://arwrcucc.ca/event/national-congregational-support-meeting-2/
END:VEVENT
BEGIN:VEVENT
DTSTART;TZID=America/Toronto:20260416T093000
DTEND;TZID=America/Toronto:20260416T113000
DTSTAMP:20260420T153705
CREATED:20260330T145547Z
LAST-MODIFIED:20260330T145547Z
UID:47672-1776331800-1776339000@arwrcucc.ca
SUMMARY:Regional Council Staff Meeting
DESCRIPTION:
URL:https://arwrcucc.ca/event/regional-council-staff-meeting-90/
LOCATION:Online via Zoom
CATEGORIES:Event,Meeting
END:VEVENT
BEGIN:VEVENT
DTSTART;TZID=America/New_York:20260416T190000
DTEND;TZID=America/New_York:20260416T190000
DTSTAMP:20260420T153705
CREATED:20260330T150312Z
LAST-MODIFIED:20260330T150312Z
UID:47686-1776366000-1776366000@arwrcucc.ca
SUMMARY:HF Discipleship and Justice Meeting
DESCRIPTION:
URL:https://arwrcucc.ca/event/hf-discipleship-and-justice-meeting-10/
CATEGORIES:Meeting
END:VEVENT
BEGIN:VEVENT
DTSTART;TZID=America/Toronto:20260418T090000
DTEND;TZID=America/Toronto:20260418T150000
DTSTAMP:20260420T153705
CREATED:20260318T144920Z
LAST-MODIFIED:20260318T144920Z
UID:47456-1776502800-1776524400@arwrcucc.ca
SUMMARY:ARW UCW Annual Gathering
DESCRIPTION:Click here for more information! \nClick here for registration form!
URL:https://arwrcucc.ca/event/arw-ucw-annual-gathering/
CATEGORIES:Community,Event,Learning Opportunity,Regional Council,Speakers,UCW
ATTACH;FMTTYPE=image/png:https://arwrcucc.ca/wp-content/uploads/2026/03/ARWUCW-Annual-Gathering.png
END:VEVENT
BEGIN:VEVENT
DTSTART;TZID=America/Toronto:20260421T100000
DTEND;TZID=America/Toronto:20260421T120000
DTSTAMP:20260420T153705
CREATED:20260330T150413Z
LAST-MODIFIED:20260330T150413Z
UID:47688-1776765600-1776772800@arwrcucc.ca
SUMMARY:WOW Pastoral Relations Commission Meeting
DESCRIPTION:
URL:https://arwrcucc.ca/event/wow-pastoral-relations-commission-meeting-11/
CATEGORIES:Meeting,Online Gathering,Regional Council
END:VEVENT
BEGIN:VEVENT
DTSTART;TZID=America/Toronto:20260422T103000
DTEND;TZID=America/Toronto:20260422T120000
DTSTAMP:20260420T153705
CREATED:20260313T215809Z
LAST-MODIFIED:20260313T215809Z
UID:47410-1776853800-1776859200@arwrcucc.ca
SUMMARY:Prayerful Decision Making
DESCRIPTION:Wednesday April 22 10:30 AM-12:00 Noon on Zoom \nAs Christians we pray\, “Thy will be done.” But\, how can we know what God’s will is? \nFor hundreds of years\, principles and practices developed by Ignatius of Loyola have helped Christians discern what God is calling them to do and be. While we may never be 100% sure of what God wants\, prayerful discernment can help us make choices that bring us as closer to the abundant life that Christ offers. \nThis workshop offers a basic introduction to time-tested Ignatian discernment methods. Grounded in Christian faith\, spiritual discernment can help us make small and large decisions in our lives\, and can even be adapted to use in groups such as church boards\, working groups\, families and more. \nFacilitator: Rev. Thérèse Samuel\, Minister\, Right Relations and Social Justice. Thérèse previously completed the Jubilee Program in Spiritual Direction and is currently completing doctoral studies in Spiritual Direction. She sees value in spiritual discernment for all aspects of personal and church life\, including our efforts to seek justice\, love kindness and journey humbly with God. \nAdvance registration required: \nhttps://united-church.zoom.us/meeting/register/PyGErHonSHOQTyWSHj3V3A \nIf you have accessibility needs for online participation\, or if you have any questions\, please contact Thérèse Samuel tsamuel@united-church.ca
URL:https://arwrcucc.ca/event/prayerful-decision-making/
LOCATION:Online via Zoom
CATEGORIES:Event,Learning Opportunity,Online Gathering,Social Justice
ORGANIZER;CN="Th%C3%A9r%C3%A8se Samuel":MAILTO:tsamuel@united-church.ca
END:VEVENT
BEGIN:VEVENT
DTSTART;TZID=America/Toronto:20260422T130000
DTEND;TZID=America/Toronto:20260422T130000
DTSTAMP:20260420T153705
CREATED:20260330T150518Z
LAST-MODIFIED:20260330T150518Z
UID:47690-1776862800-1776862800@arwrcucc.ca
SUMMARY:HF Human Resources Commission Meeting
DESCRIPTION:
URL:https://arwrcucc.ca/event/hf-human-resources-commission-meeting-26/
CATEGORIES:Meeting,Regional Council
END:VEVENT
BEGIN:VEVENT
DTSTART;TZID=America/Toronto:20260423T190000
DTEND;TZID=America/Toronto:20260423T200000
DTSTAMP:20260420T153705
CREATED:20260330T150639Z
LAST-MODIFIED:20260330T162118Z
UID:47692-1776970800-1776974400@arwrcucc.ca
SUMMARY:Tri-Region Regional Representatives Gathering
DESCRIPTION:📢 Tri-Regional Regional Reps Gathering \nWe invite all regional representatives to join our gatherings. \n\n🔗 Join Zoom Meeting  Meeting ID: 827 3791 1619; Password: 278721 \n\nQuestions? – contact your Congregational Support Minister (ARWCSM\, HFCSM\, WOWCSM)
URL:https://arwrcucc.ca/event/tri-region-regional-representatives-gathering/
LOCATION:Online via Zoom
CATEGORIES:Event,Learning Opportunity,Online Gathering,Regional Representatives,Speakers
END:VEVENT
END:VCALENDAR