BEGIN:VCALENDAR
VERSION:2.0
PRODID:-//Antler River Watershed Regional Council - ECPv6.15.20//NONSGML v1.0//EN
CALSCALE:GREGORIAN
METHOD:PUBLISH
X-WR-CALNAME:Antler River Watershed Regional Council
X-ORIGINAL-URL:https://arwrcucc.ca
X-WR-CALDESC:Events for Antler River Watershed Regional Council
REFRESH-INTERVAL;VALUE=DURATION:PT1H
X-Robots-Tag:noindex
X-PUBLISHED-TTL:PT1H
BEGIN:VTIMEZONE
TZID:America/New_York
BEGIN:DAYLIGHT
TZOFFSETFROM:-0500
TZOFFSETTO:-0400
TZNAME:EDT
DTSTART:20220313T070000
END:DAYLIGHT
BEGIN:STANDARD
TZOFFSETFROM:-0400
TZOFFSETTO:-0500
TZNAME:EST
DTSTART:20221106T060000
END:STANDARD
BEGIN:DAYLIGHT
TZOFFSETFROM:-0500
TZOFFSETTO:-0400
TZNAME:EDT
DTSTART:20230312T070000
END:DAYLIGHT
BEGIN:STANDARD
TZOFFSETFROM:-0400
TZOFFSETTO:-0500
TZNAME:EST
DTSTART:20231105T060000
END:STANDARD
BEGIN:DAYLIGHT
TZOFFSETFROM:-0500
TZOFFSETTO:-0400
TZNAME:EDT
DTSTART:20240310T070000
END:DAYLIGHT
BEGIN:STANDARD
TZOFFSETFROM:-0400
TZOFFSETTO:-0500
TZNAME:EST
DTSTART:20241103T060000
END:STANDARD
END:VTIMEZONE
BEGIN:VTIMEZONE
TZID:America/Toronto
BEGIN:DAYLIGHT
TZOFFSETFROM:-0500
TZOFFSETTO:-0400
TZNAME:EDT
DTSTART:20220313T070000
END:DAYLIGHT
BEGIN:STANDARD
TZOFFSETFROM:-0400
TZOFFSETTO:-0500
TZNAME:EST
DTSTART:20221106T060000
END:STANDARD
BEGIN:DAYLIGHT
TZOFFSETFROM:-0500
TZOFFSETTO:-0400
TZNAME:EDT
DTSTART:20230312T070000
END:DAYLIGHT
BEGIN:STANDARD
TZOFFSETFROM:-0400
TZOFFSETTO:-0500
TZNAME:EST
DTSTART:20231105T060000
END:STANDARD
BEGIN:DAYLIGHT
TZOFFSETFROM:-0500
TZOFFSETTO:-0400
TZNAME:EDT
DTSTART:20240310T070000
END:DAYLIGHT
BEGIN:STANDARD
TZOFFSETFROM:-0400
TZOFFSETTO:-0500
TZNAME:EST
DTSTART:20241103T060000
END:STANDARD
END:VTIMEZONE
BEGIN:VEVENT
DTSTART;TZID=America/New_York:20231212T190000
DTEND;TZID=America/New_York:20231212T190000
DTSTAMP:20260420T202503
CREATED:20231018T181831Z
LAST-MODIFIED:20231018T181831Z
UID:11033-1702407600-1702407600@arwrcucc.ca
SUMMARY:HF Congregational Support Commission
DESCRIPTION:
URL:https://arwrcucc.ca/event/hf-congregational-support-commission-5/
CATEGORIES:Meeting
END:VEVENT
BEGIN:VEVENT
DTSTART;TZID=America/New_York:20231212T133000
DTEND;TZID=America/New_York:20231212T153000
DTSTAMP:20260420T202503
CREATED:20231102T145235Z
LAST-MODIFIED:20231102T145909Z
UID:11127-1702387800-1702395000@arwrcucc.ca
SUMMARY:'Fare Thee Well' Celebration for Cheryl-Ann Stadelbauer-Sampa
DESCRIPTION:
URL:https://arwrcucc.ca/event/11127/
LOCATION:Avondale United Church\, 194 Avondale Avenue\, Stratford\, Ontario\, N5A6N4\, Canada
CATEGORIES:Community,Event,General Council,Regional Council,Staff
END:VEVENT
BEGIN:VEVENT
DTSTART;TZID=America/Toronto:20231212T100000
DTEND;TZID=America/Toronto:20231212T100000
DTSTAMP:20260420T202503
CREATED:20231018T181727Z
LAST-MODIFIED:20231018T181727Z
UID:11031-1702375200-1702375200@arwrcucc.ca
SUMMARY:ARW Discipleship & Justice Meeting
DESCRIPTION:
URL:https://arwrcucc.ca/event/arw-discipleship-justice-meeting-9/
LOCATION:Online via Zoom
CATEGORIES:Meeting
END:VEVENT
BEGIN:VEVENT
DTSTART;TZID=America/Toronto:20231212T090000
DTEND;TZID=America/Toronto:20231212T090000
DTSTAMP:20260420T202503
CREATED:20231018T181618Z
LAST-MODIFIED:20231018T181618Z
UID:11029-1702371600-1702371600@arwrcucc.ca
SUMMARY:ARW Human Resources Commission Meeting
DESCRIPTION:
URL:https://arwrcucc.ca/event/arw-human-resources-commission-meeting-5/
CATEGORIES:Meeting,Online Gathering,Regional Council
END:VEVENT
BEGIN:VEVENT
DTSTART;TZID=America/New_York:20231206T121500
DTEND;TZID=America/New_York:20231206T133000
DTSTAMP:20260420T202503
CREATED:20231115T153406Z
LAST-MODIFIED:20231115T153406Z
UID:11262-1701864900-1701869400@arwrcucc.ca
SUMMARY:Raising Cheerful Givers: Teaching GENEROSITY to Kids
DESCRIPTION:Children and Youth Ministry Webinars (Generosity) 2023) no link
URL:https://arwrcucc.ca/event/raising-cheerful-givers-teaching-generosity-to-kids/
LOCATION:Online via Zoom
CATEGORIES:Affirming,Community,Event,Kids and Youth,Learning Opportunity,Meeting,Online Gathering,Regional Council
ATTACH;FMTTYPE=image/png:https://arwrcucc.ca/wp-content/uploads/2023/11/raisingcheerfulgivers2.png
END:VEVENT
BEGIN:VEVENT
DTSTART;VALUE=DATE:20231204
DTEND;VALUE=DATE:20231205
DTSTAMP:20260420T202503
CREATED:20231018T181527Z
LAST-MODIFIED:20231018T181527Z
UID:11027-1701648000-1701734399@arwrcucc.ca
SUMMARY:Xmas Newsletter Deadline
DESCRIPTION:
URL:https://arwrcucc.ca/event/xmas-newsletter-deadline/
CATEGORIES:Deadline
END:VEVENT
BEGIN:VEVENT
DTSTART;TZID=America/Toronto:20231130T093000
DTEND;TZID=America/Toronto:20231130T113000
DTSTAMP:20260420T202503
CREATED:20230105T164325Z
LAST-MODIFIED:20230907T155234Z
UID:9549-1701336600-1701343800@arwrcucc.ca
SUMMARY:Regional Council Staff Meeting
DESCRIPTION:
URL:https://arwrcucc.ca/event/regional-council-staff-meeting-45/
LOCATION:Online via Zoom
CATEGORIES:Event,Meeting
END:VEVENT
BEGIN:VEVENT
DTSTART;TZID=America/New_York:20231128T190000
DTEND;TZID=America/New_York:20231128T190000
DTSTAMP:20260420T202503
CREATED:20231018T161648Z
LAST-MODIFIED:20231018T161648Z
UID:11025-1701198000-1701198000@arwrcucc.ca
SUMMARY:WOW Discipleship and Justice Meeting
DESCRIPTION:
URL:https://arwrcucc.ca/event/wow-discipleship-and-justice-meeting-3/
CATEGORIES:Meeting
END:VEVENT
BEGIN:VEVENT
DTSTART;TZID=America/New_York:20231123T203000
DTEND;TZID=America/New_York:20231123T203000
DTSTAMP:20260420T202503
CREATED:20231107T160554Z
LAST-MODIFIED:20231107T160554Z
UID:11163-1700771400-1700771400@arwrcucc.ca
SUMMARY:Remit Education Workshop
DESCRIPTION:An Invitation from our Neighbours to the West:\nRegional Council learning time on the Remit\, \nNovember 23 at 6:30 Mountain and 7:30 Central (8:30 Eastern)\, on Zoom. \nPlease join Northern Spirit\, Living Skies\, and Prairie to Pine Regional Councils online for a learning time on the Remit on an autonomous Indigenous organization within the United Church. We are grateful that elders and knowledge keepers Charlene and Russel Burns will be joining Executive Minister Shannon McCarthy for the conversation.  All welcome; content will be designed for pastoral charge council or board members\, pastoral charge supervisors\, and ministry personnel. Please register here; this will send you the link automatically. 
URL:https://arwrcucc.ca/event/remit-education-workshop/
LOCATION:Online via Zoom
CATEGORIES:Community,Event,General Council,Indigenous Justice,Learning Opportunity,Online Gathering
END:VEVENT
BEGIN:VEVENT
DTSTART;TZID=America/New_York:20231123T140000
DTEND;TZID=America/New_York:20231123T150000
DTSTAMP:20260420T202503
CREATED:20231106T161215Z
LAST-MODIFIED:20231106T161540Z
UID:11146-1700748000-1700751600@arwrcucc.ca
SUMMARY:WOW Online Clergy Gathering
DESCRIPTION:
URL:https://arwrcucc.ca/event/wow-online-clergy-gathering/
LOCATION:Online via Zoom
CATEGORIES:Clergy Gathering,Event,Learning Opportunity,Meeting,Online Gathering
ORGANIZER;CN="Kevin Steeper":MAILTO:mailto:KSteeper@united-church.ca
END:VEVENT
BEGIN:VEVENT
DTSTART;TZID=America/New_York:20231122T160000
DTEND;TZID=America/New_York:20231122T160000
DTSTAMP:20260420T202503
CREATED:20231018T161558Z
LAST-MODIFIED:20231018T161558Z
UID:11023-1700668800-1700668800@arwrcucc.ca
SUMMARY:HF Regional Council Executive Meeting
DESCRIPTION:
URL:https://arwrcucc.ca/event/hf-regional-council-executive-meeting-2/
CATEGORIES:Meeting
END:VEVENT
BEGIN:VEVENT
DTSTART;TZID=America/New_York:20231122T150000
DTEND;TZID=America/New_York:20231122T160000
DTSTAMP:20260420T202503
CREATED:20231106T161134Z
LAST-MODIFIED:20231106T161647Z
UID:11144-1700665200-1700668800@arwrcucc.ca
SUMMARY:HF Online Clergy Gathering
DESCRIPTION:
URL:https://arwrcucc.ca/event/hf-online-clergy-gathering-2/
LOCATION:Online via Zoom
CATEGORIES:Clergy Gathering,Event,Learning Opportunity,Meeting,Online Gathering
ORGANIZER;CN="Kevin Steeper":MAILTO:mailto:KSteeper@united-church.ca
END:VEVENT
BEGIN:VEVENT
DTSTART;TZID=America/Toronto:20231122T130000
DTEND;TZID=America/Toronto:20231122T130000
DTSTAMP:20260420T202503
CREATED:20231018T161506Z
LAST-MODIFIED:20231018T161506Z
UID:11021-1700658000-1700658000@arwrcucc.ca
SUMMARY:HF Human Resources Commission Meeting
DESCRIPTION:
URL:https://arwrcucc.ca/event/hf-human-resources-commission-meeting-4/
CATEGORIES:Meeting,Regional Council
END:VEVENT
BEGIN:VEVENT
DTSTART;TZID=America/New_York:20231121T190000
DTEND;TZID=America/New_York:20231121T210000
DTSTAMP:20260420T202503
CREATED:20230823T184609Z
LAST-MODIFIED:20230823T184609Z
UID:10744-1700593200-1700600400@arwrcucc.ca
SUMMARY:M&P Training
DESCRIPTION:M&P training Tuesday November 21st from 7-9 PM
URL:https://arwrcucc.ca/event/mp-training/
LOCATION:Online via Zoom
CATEGORIES:Meeting
ORGANIZER;CN="Micol Cottrell":MAILTO:MCottrell@united-church.ca
END:VEVENT
BEGIN:VEVENT
DTSTART;TZID=America/New_York:20231121T140000
DTEND;TZID=America/New_York:20231121T150000
DTSTAMP:20260420T202503
CREATED:20231106T161047Z
LAST-MODIFIED:20231106T161614Z
UID:11141-1700575200-1700578800@arwrcucc.ca
SUMMARY:ARW Online Clergy Gathering
DESCRIPTION:
URL:https://arwrcucc.ca/event/arw-online-clergy-gathering/
LOCATION:Online via Zoom
CATEGORIES:Clergy Gathering,Event,Learning Opportunity,Meeting,Online Gathering
ORGANIZER;CN="Kevin Steeper":MAILTO:mailto:KSteeper@united-church.ca
END:VEVENT
BEGIN:VEVENT
DTSTART;TZID=America/Toronto:20231121T100000
DTEND;TZID=America/Toronto:20231121T100000
DTSTAMP:20260420T202503
CREATED:20231018T161412Z
LAST-MODIFIED:20231018T161412Z
UID:11019-1700560800-1700560800@arwrcucc.ca
SUMMARY:WOW Human Resources Commission Meeting
DESCRIPTION:
URL:https://arwrcucc.ca/event/wow-human-resources-commission-meeting-4/
CATEGORIES:Meeting,Online Gathering,Regional Council
END:VEVENT
BEGIN:VEVENT
DTSTART;VALUE=DATE:20231120
DTEND;VALUE=DATE:20231121
DTSTAMP:20260420T202503
CREATED:20231018T161325Z
LAST-MODIFIED:20231018T161325Z
UID:11017-1700438400-1700524799@arwrcucc.ca
SUMMARY:Newsletter Deadline
DESCRIPTION:
URL:https://arwrcucc.ca/event/newsletter-deadline-5/
CATEGORIES:Deadline
END:VEVENT
BEGIN:VEVENT
DTSTART;TZID=America/New_York:20231118T130000
DTEND;TZID=America/New_York:20231118T130000
DTSTAMP:20260420T202503
CREATED:20231026T171227Z
LAST-MODIFIED:20231026T171227Z
UID:11111-1700312400-1700312400@arwrcucc.ca
SUMMARY:HF UCW Event - Human Trafficking
DESCRIPTION:Human Trafficking in our cities and rural communities\nHF UCW Human Trafficking\nUCW HF Human Trafficking Event Nov 18th\, 2023
URL:https://arwrcucc.ca/event/hf-ucw-event-human-trafficking/
LOCATION:Online via Zoom
CATEGORIES:Community,Event,Learning Opportunity,Meeting,Online Gathering,Social Justice,Speakers,UCW
END:VEVENT
BEGIN:VEVENT
DTSTART;TZID=America/Toronto:20231116T093000
DTEND;TZID=America/Toronto:20231116T113000
DTSTAMP:20260420T202503
CREATED:20230105T162804Z
LAST-MODIFIED:20230907T155153Z
UID:9547-1700127000-1700134200@arwrcucc.ca
SUMMARY:Regional Council Staff Meeting
DESCRIPTION:
URL:https://arwrcucc.ca/event/regional-council-staff-meeting-44/
LOCATION:Online via Zoom
CATEGORIES:Event,Meeting
END:VEVENT
BEGIN:VEVENT
DTSTART;TZID=America/New_York:20231115T140000
DTEND;TZID=America/New_York:20231115T140000
DTSTAMP:20260420T202503
CREATED:20230822T130551Z
LAST-MODIFIED:20231109T185046Z
UID:10727-1700056800-1700056800@arwrcucc.ca
SUMMARY:Tri-Regional Church Property Information Session
DESCRIPTION:Nov 15 Church Property Information Session 2 pm  Zoom (tri-regional) \nARW HF and WOW present an Information Gathering \nManaging Church Property and the role of Regional Council\nJoin Lynne Allin Wed November 15th 2-3:00 pm to explore these topics \nHow to lease space? \nWhat is a Major Asset or Renovation? \nWhen is Regional Council consent required? \nWhere to get information about redevelopment? \nQ & A \nJoin Zoom Meeting\nhttps://united-church.zoom.us/j/87246561004 \nMeeting ID: 872 4656 1004\nOne tap mobile\n+15873281099\,\,87246561004# Canada\n+16473744685\,\,87246561004# Canada \nDial by your location \n* Please use local numbers when feasible to save costs for the church. * \n+1 587 328 1099 Canada\n+1 647 374 4685 Canada\n+1 647 558 0588 Canada\n+1 778 907 2071 Canada\n+1 438 809 7799 Canada\n855 703 8985 Canada Toll-free
URL:https://arwrcucc.ca/event/tri-regional-church-property-information-session/
LOCATION:Online via Zoom
CATEGORIES:Meeting,Online Gathering,Regional Council
ATTACH;FMTTYPE=image/png:https://arwrcucc.ca/wp-content/uploads/2023/08/Screenshot-200.png
END:VEVENT
BEGIN:VEVENT
DTSTART;TZID=America/New_York:20231115T100000
DTEND;TZID=America/New_York:20231115T100000
DTSTAMP:20260420T202503
CREATED:20231018T161150Z
LAST-MODIFIED:20231023T124917Z
UID:11015-1700042400-1700042400@arwrcucc.ca
SUMMARY:WOW Regional Council Executive Meeting
DESCRIPTION:
URL:https://arwrcucc.ca/event/wow-regional-council-executive-meeting/
CATEGORIES:Meeting
END:VEVENT
BEGIN:VEVENT
DTSTART;TZID=America/New_York:20231114T100000
DTEND;TZID=America/New_York:20231114T100000
DTSTAMP:20260420T202503
CREATED:20231018T161101Z
LAST-MODIFIED:20231018T161101Z
UID:11013-1699956000-1699956000@arwrcucc.ca
SUMMARY:HF Congregational Support Commission
DESCRIPTION:
URL:https://arwrcucc.ca/event/hf-congregational-support-commission-4/
CATEGORIES:Meeting
END:VEVENT
BEGIN:VEVENT
DTSTART;TZID=America/Toronto:20231114T100000
DTEND;TZID=America/Toronto:20231114T100000
DTSTAMP:20260420T202503
CREATED:20221212T165847Z
LAST-MODIFIED:20231018T160941Z
UID:9353-1699956000-1699956000@arwrcucc.ca
SUMMARY:ARW Discipleship & Justice Meeting
DESCRIPTION:
URL:https://arwrcucc.ca/event/arw-discipleship-justice-meeting-7/
LOCATION:Online via Zoom
CATEGORIES:Meeting
END:VEVENT
BEGIN:VEVENT
DTSTART;TZID=America/Toronto:20231114T090000
DTEND;TZID=America/Toronto:20231114T090000
DTSTAMP:20260420T202503
CREATED:20231018T160832Z
LAST-MODIFIED:20231018T160832Z
UID:11011-1699952400-1699952400@arwrcucc.ca
SUMMARY:ARW Human Resources Commission Meeting
DESCRIPTION:
URL:https://arwrcucc.ca/event/arw-human-resources-commission-meeting-4/
CATEGORIES:Meeting,Online Gathering,Regional Council
END:VEVENT
BEGIN:VEVENT
DTSTART;VALUE=DATE:20231111
DTEND;VALUE=DATE:20231112
DTSTAMP:20260420T202503
CREATED:20221212T183733Z
LAST-MODIFIED:20221212T183733Z
UID:9382-1699660800-1699747199@arwrcucc.ca
SUMMARY:Remembrance Day
DESCRIPTION:
URL:https://arwrcucc.ca/event/remembrance-day-2/
CATEGORIES:Social Justice
END:VEVENT
BEGIN:VEVENT
DTSTART;TZID=America/New_York:20231109T190000
DTEND;TZID=America/New_York:20231109T190000
DTSTAMP:20260420T202503
CREATED:20231018T160734Z
LAST-MODIFIED:20231018T160734Z
UID:11009-1699556400-1699556400@arwrcucc.ca
SUMMARY:WOW Congregational Support Commission
DESCRIPTION:
URL:https://arwrcucc.ca/event/wow-congregational-support-commission-4/
CATEGORIES:Meeting
END:VEVENT
BEGIN:VEVENT
DTSTART;TZID=America/New_York:20231108T140000
DTEND;TZID=America/New_York:20231108T140000
DTSTAMP:20260420T202503
CREATED:20231101T130946Z
LAST-MODIFIED:20231101T131258Z
UID:11120-1699452000-1699452000@arwrcucc.ca
SUMMARY:Tri-Regional Pastoral Charge Supervisor Gathering
DESCRIPTION:Join Zoom Meetinghttps://united-church.zoom.us/j/83527639224 \nMeeting ID: 835 2763 9224 855 703 8985 Canada Toll-free
URL:https://arwrcucc.ca/event/tri-regional-pastoral-charge-supervisor-gathering-2/
LOCATION:Online via Zoom
CATEGORIES:Community,Event,Learning Opportunity,Meeting,Online Gathering,Regional Council,Staff,Training
END:VEVENT
BEGIN:VEVENT
DTSTART;TZID=America/New_York:20231108T100000
DTEND;TZID=America/New_York:20231108T100000
DTSTAMP:20260420T202503
CREATED:20231018T160618Z
LAST-MODIFIED:20231018T160618Z
UID:11007-1699437600-1699437600@arwrcucc.ca
SUMMARY:ARW Regional Council Executive Meeting
DESCRIPTION:
URL:https://arwrcucc.ca/event/arw-regional-council-executive-meeting-2/
CATEGORIES:Meeting
END:VEVENT
BEGIN:VEVENT
DTSTART;TZID=America/Toronto:20231107T140000
DTEND;TZID=America/Toronto:20231107T160000
DTSTAMP:20260420T202503
CREATED:20230823T183720Z
LAST-MODIFIED:20230823T183720Z
UID:10742-1699365600-1699372800@arwrcucc.ca
SUMMARY:Liaison Training
DESCRIPTION:Liaison Training – Tuesday November 7th from 2-4 PM
URL:https://arwrcucc.ca/event/liaison-training/
LOCATION:Online via Zoom
CATEGORIES:Community,Event,Learning Opportunity,Regional Council,Training
ORGANIZER;CN="Micol Cottrell":MAILTO:MCottrell@united-church.ca
END:VEVENT
BEGIN:VEVENT
DTSTART;VALUE=DATE:20231106
DTEND;VALUE=DATE:20231107
DTSTAMP:20260420T202503
CREATED:20231018T160518Z
LAST-MODIFIED:20231018T160518Z
UID:11005-1699228800-1699315199@arwrcucc.ca
SUMMARY:Newsletter Deadline
DESCRIPTION:
URL:https://arwrcucc.ca/event/newsletter-deadline-4/
CATEGORIES:Deadline
END:VEVENT
END:VCALENDAR