BEGIN:VCALENDAR
VERSION:2.0
PRODID:-//Antler River Watershed Regional Council - ECPv6.15.20//NONSGML v1.0//EN
CALSCALE:GREGORIAN
METHOD:PUBLISH
X-WR-CALNAME:Antler River Watershed Regional Council
X-ORIGINAL-URL:https://arwrcucc.ca
X-WR-CALDESC:Events for Antler River Watershed Regional Council
REFRESH-INTERVAL;VALUE=DURATION:PT1H
X-Robots-Tag:noindex
X-PUBLISHED-TTL:PT1H
BEGIN:VTIMEZONE
TZID:America/New_York
BEGIN:DAYLIGHT
TZOFFSETFROM:-0500
TZOFFSETTO:-0400
TZNAME:EDT
DTSTART:20220313T070000
END:DAYLIGHT
BEGIN:STANDARD
TZOFFSETFROM:-0400
TZOFFSETTO:-0500
TZNAME:EST
DTSTART:20221106T060000
END:STANDARD
BEGIN:DAYLIGHT
TZOFFSETFROM:-0500
TZOFFSETTO:-0400
TZNAME:EDT
DTSTART:20230312T070000
END:DAYLIGHT
BEGIN:STANDARD
TZOFFSETFROM:-0400
TZOFFSETTO:-0500
TZNAME:EST
DTSTART:20231105T060000
END:STANDARD
BEGIN:DAYLIGHT
TZOFFSETFROM:-0500
TZOFFSETTO:-0400
TZNAME:EDT
DTSTART:20240310T070000
END:DAYLIGHT
BEGIN:STANDARD
TZOFFSETFROM:-0400
TZOFFSETTO:-0500
TZNAME:EST
DTSTART:20241103T060000
END:STANDARD
END:VTIMEZONE
BEGIN:VTIMEZONE
TZID:America/Toronto
BEGIN:DAYLIGHT
TZOFFSETFROM:-0500
TZOFFSETTO:-0400
TZNAME:EDT
DTSTART:20220313T070000
END:DAYLIGHT
BEGIN:STANDARD
TZOFFSETFROM:-0400
TZOFFSETTO:-0500
TZNAME:EST
DTSTART:20221106T060000
END:STANDARD
BEGIN:DAYLIGHT
TZOFFSETFROM:-0500
TZOFFSETTO:-0400
TZNAME:EDT
DTSTART:20230312T070000
END:DAYLIGHT
BEGIN:STANDARD
TZOFFSETFROM:-0400
TZOFFSETTO:-0500
TZNAME:EST
DTSTART:20231105T060000
END:STANDARD
BEGIN:DAYLIGHT
TZOFFSETFROM:-0500
TZOFFSETTO:-0400
TZNAME:EDT
DTSTART:20240310T070000
END:DAYLIGHT
BEGIN:STANDARD
TZOFFSETFROM:-0400
TZOFFSETTO:-0500
TZNAME:EST
DTSTART:20241103T060000
END:STANDARD
END:VTIMEZONE
BEGIN:VEVENT
DTSTART;TZID=America/New_York:20231025T160000
DTEND;TZID=America/New_York:20231025T160000
DTSTAMP:20260420T143015
CREATED:20230831T192948Z
LAST-MODIFIED:20230831T192948Z
UID:10831-1698249600-1698249600@arwrcucc.ca
SUMMARY:HF Regional Council Executive Meeting
DESCRIPTION:
URL:https://arwrcucc.ca/event/hf-regional-council-executive-meeting/
CATEGORIES:Meeting
END:VEVENT
BEGIN:VEVENT
DTSTART;TZID=America/Toronto:20231025T130000
DTEND;TZID=America/Toronto:20231025T130000
DTSTAMP:20260420T143015
CREATED:20230831T192818Z
LAST-MODIFIED:20230831T192818Z
UID:10829-1698238800-1698238800@arwrcucc.ca
SUMMARY:HF Human Resources Commission Meeting
DESCRIPTION:
URL:https://arwrcucc.ca/event/hf-human-resources-commission-meeting-3/
CATEGORIES:Meeting,Regional Council
END:VEVENT
BEGIN:VEVENT
DTSTART;TZID=America/New_York:20231024T190000
DTEND;TZID=America/New_York:20231024T190000
DTSTAMP:20260420T143015
CREATED:20230831T192653Z
LAST-MODIFIED:20230831T192653Z
UID:10827-1698174000-1698174000@arwrcucc.ca
SUMMARY:WOW Discipleship and Justice Meeting
DESCRIPTION:
URL:https://arwrcucc.ca/event/wow-discipleship-and-justice-meeting-2/
CATEGORIES:Meeting
END:VEVENT
BEGIN:VEVENT
DTSTART;VALUE=DATE:20231024
DTEND;VALUE=DATE:20231027
DTSTAMP:20260420T143015
CREATED:20230906T165723Z
LAST-MODIFIED:20230906T165723Z
UID:10842-1698105600-1698364799@arwrcucc.ca
SUMMARY:Online Clergy Gathering
DESCRIPTION:As you make your plans for the months ahead\, I invite you to join me for at time of conversation\, questions and information sharing. \nCome for this time of fellowship and support. \nWatch your emails for the Zoom link. \nARW online clergy gathering – Oct. 24\, 2023 – 2-3 pm\nHF online clergy gathering – Oct. 25\, 2023 – 2-3 pm\nWOW online clergy gathering – Oct. 26\, 2023 – 2-3 pm
URL:https://arwrcucc.ca/event/online-clergy-gathering-6/
LOCATION:Online via Zoom
CATEGORIES:Clergy Gathering,Community,Event,Learning Opportunity,Ministry Personnel,Online Gathering
ORGANIZER;CN="Kevin Steeper":MAILTO:mailto:KSteeper@united-church.ca
END:VEVENT
BEGIN:VEVENT
DTSTART;VALUE=DATE:20231023
DTEND;VALUE=DATE:20231024
DTSTAMP:20260420T143015
CREATED:20230831T192557Z
LAST-MODIFIED:20230831T192557Z
UID:10825-1698019200-1698105599@arwrcucc.ca
SUMMARY:Newsletter Deadline
DESCRIPTION:
URL:https://arwrcucc.ca/event/newsletter-deadline-3/
CATEGORIES:Deadline
END:VEVENT
BEGIN:VEVENT
DTSTART;TZID=America/New_York:20231020T100000
DTEND;TZID=America/New_York:20231020T120000
DTSTAMP:20260420T143015
CREATED:20230830T142155Z
LAST-MODIFIED:20230830T142155Z
UID:10785-1697796000-1697803200@arwrcucc.ca
SUMMARY:ARW Remit Education
DESCRIPTION:ARW Fri. Oct. 20\, 2023\, 10:00AM-12:00PM. In person: Siloam UC\, London. Online: Zoom
URL:https://arwrcucc.ca/event/arw-remit-education/
CATEGORIES:Meeting
END:VEVENT
BEGIN:VEVENT
DTSTART;TZID=America/Toronto:20231019T093000
DTEND;TZID=America/Toronto:20231019T113000
DTSTAMP:20260420T143015
CREATED:20230105T162706Z
LAST-MODIFIED:20230907T155102Z
UID:9543-1697707800-1697715000@arwrcucc.ca
SUMMARY:Regional Council Staff Meeting
DESCRIPTION:
URL:https://arwrcucc.ca/event/regional-council-staff-meeting-42/
LOCATION:Online via Zoom
CATEGORIES:Event,Meeting
END:VEVENT
BEGIN:VEVENT
DTSTART;TZID=America/New_York:20231018T100000
DTEND;TZID=America/New_York:20231018T100000
DTSTAMP:20260420T143015
CREATED:20230831T192513Z
LAST-MODIFIED:20231023T124828Z
UID:10823-1697623200-1697623200@arwrcucc.ca
SUMMARY:WOW Regional Council Executive Meeting
DESCRIPTION:
URL:https://arwrcucc.ca/event/wow-regional-council-executive-meeting-2/
CATEGORIES:Meeting
END:VEVENT
BEGIN:VEVENT
DTSTART;TZID=America/Toronto:20231017T100000
DTEND;TZID=America/Toronto:20231017T100000
DTSTAMP:20260420T143015
CREATED:20230831T192402Z
LAST-MODIFIED:20230831T192402Z
UID:10821-1697536800-1697536800@arwrcucc.ca
SUMMARY:WOW Human Resources Commission Meeting
DESCRIPTION:
URL:https://arwrcucc.ca/event/wow-human-resources-commission-meeting-3/
CATEGORIES:Meeting,Online Gathering,Regional Council
END:VEVENT
BEGIN:VEVENT
DTSTART;VALUE=DATE:20231013
DTEND;VALUE=DATE:20231015
DTSTAMP:20260420T143015
CREATED:20230828T155540Z
LAST-MODIFIED:20230828T155541Z
UID:10761-1697155200-1697327999@arwrcucc.ca
SUMMARY:Horseshoe Falls Fall Regional Council Meeting
DESCRIPTION:
URL:https://arwrcucc.ca/event/horseshoe-falls-fall-regional-council-meeting/
LOCATION:Online via Zoom
CATEGORIES:2SLGBTQIA,Affirming,Anti-Racism,Camps & Retreats,Clergy Gathering,Climate Change,Community,Event,General Council,Indigenous Justice,Kids and Youth,Learning Opportunity,Meeting,Ministry Personnel,Mission Support Grants,Music,Online Gathering,Regional Council,Social Justice,Speakers,Staff,Stewardship,UCW
ATTACH;FMTTYPE=image/png:https://arwrcucc.ca/wp-content/uploads/2023/08/hffall2023.png
END:VEVENT
BEGIN:VEVENT
DTSTART;TZID=America/New_York:20231012T190000
DTEND;TZID=America/New_York:20231012T190000
DTSTAMP:20260420T143015
CREATED:20230831T192135Z
LAST-MODIFIED:20230831T192202Z
UID:10817-1697137200-1697137200@arwrcucc.ca
SUMMARY:WOW Congregational Support Commission
DESCRIPTION:
URL:https://arwrcucc.ca/event/wow-congregational-support-commission-3/
CATEGORIES:Meeting
END:VEVENT
BEGIN:VEVENT
DTSTART;TZID=America/Toronto:20231011T090000
DTEND;TZID=America/Toronto:20231011T090000
DTSTAMP:20260420T143015
CREATED:20230630T183108Z
LAST-MODIFIED:20230630T183153Z
UID:10409-1697014800-1697014800@arwrcucc.ca
SUMMARY:ARW Executive and Commissions Orientation
DESCRIPTION:
URL:https://arwrcucc.ca/event/arw-executive-and-commissions-orientation/
CATEGORIES:Meeting,Regional Council
END:VEVENT
BEGIN:VEVENT
DTSTART;TZID=America/New_York:20231010T190000
DTEND;TZID=America/New_York:20231010T210000
DTSTAMP:20260420T143015
CREATED:20230914T140526Z
LAST-MODIFIED:20230914T140648Z
UID:10885-1696964400-1696971600@arwrcucc.ca
SUMMARY:Search Team Training
DESCRIPTION:Search Team Training\nDATE: Tuesday\, October 10\, 7:00 – 9:00 pm\n\n\n\n\n\n\n\n\n\n\n\n\n\n\n\n\n\nWhere: Online by Zoom. \nWho: Your team will get the most out of this material if you attend as a team. Feel welcome to join a training on the second Tuesday of each month if you need a refresher. \nWhy: To learn the basics of Search Team tasks\, resources. \n\nLinks & Contact: Register for Zoom link. Each member of your Search Team attending this workshop is required to register.
URL:https://arwrcucc.ca/event/search-team-training-2/
LOCATION:Online
CATEGORIES:Meeting
ORGANIZER;CN="Micol Cottrell":MAILTO:MCottrell@united-church.ca
END:VEVENT
BEGIN:VEVENT
DTSTART;TZID=America/New_York:20231010T190000
DTEND;TZID=America/New_York:20231010T190000
DTSTAMP:20260420T143015
CREATED:20240116T202236Z
LAST-MODIFIED:20240116T202236Z
UID:12666-1696964400-1696964400@arwrcucc.ca
SUMMARY:Tri-Regional Governance Workshop
DESCRIPTION:
URL:https://arwrcucc.ca/event/tri-regional-governance-workshop/
LOCATION:Online via Zoom
CATEGORIES:Learning Opportunity,Meeting
END:VEVENT
BEGIN:VEVENT
DTSTART;TZID=America/New_York:20231010T190000
DTEND;TZID=America/New_York:20231010T190000
DTSTAMP:20260420T143015
CREATED:20230831T192313Z
LAST-MODIFIED:20230831T192313Z
UID:10819-1696964400-1696964400@arwrcucc.ca
SUMMARY:HF Congregational Support Commission
DESCRIPTION:
URL:https://arwrcucc.ca/event/hf-congregational-support-commission-3/
CATEGORIES:Meeting
END:VEVENT
BEGIN:VEVENT
DTSTART;TZID=America/Toronto:20231010T100000
DTEND;TZID=America/Toronto:20231010T100000
DTSTAMP:20260420T143015
CREATED:20221212T165826Z
LAST-MODIFIED:20221212T165826Z
UID:9351-1696932000-1696932000@arwrcucc.ca
SUMMARY:ARW Discipleship & Justice Meeting
DESCRIPTION:
URL:https://arwrcucc.ca/event/arw-discipleship-justice-meeting-6/
LOCATION:Online via Zoom
CATEGORIES:Meeting
END:VEVENT
BEGIN:VEVENT
DTSTART;TZID=America/Toronto:20231010T090000
DTEND;TZID=America/Toronto:20231010T090000
DTSTAMP:20260420T143015
CREATED:20230831T192040Z
LAST-MODIFIED:20230831T192040Z
UID:10815-1696928400-1696928400@arwrcucc.ca
SUMMARY:ARW Human Resources Commission Meeting
DESCRIPTION:
URL:https://arwrcucc.ca/event/arw-human-resources-commission-meeting-3/
CATEGORIES:Meeting,Online Gathering,Regional Council
END:VEVENT
BEGIN:VEVENT
DTSTART;VALUE=DATE:20231009
DTEND;VALUE=DATE:20231010
DTSTAMP:20260420T143015
CREATED:20221212T183519Z
LAST-MODIFIED:20221212T183519Z
UID:9380-1696809600-1696895999@arwrcucc.ca
SUMMARY:Thanksgiving
DESCRIPTION:
URL:https://arwrcucc.ca/event/thanksgiving-2/
CATEGORIES:Holiday
END:VEVENT
BEGIN:VEVENT
DTSTART;TZID=America/New_York:20231005T190000
DTEND;TZID=America/New_York:20231005T190000
DTSTAMP:20260420T143015
CREATED:20230830T142412Z
LAST-MODIFIED:20230830T142412Z
UID:10788-1696532400-1696532400@arwrcucc.ca
SUMMARY:HF Remit Education
DESCRIPTION:HF Thurs. Oct. 5\, 2023\, 7:00 PM\, In person: Westminster UC in Mississauga. Online: Zoom.
URL:https://arwrcucc.ca/event/hf-remit-education/
CATEGORIES:Meeting
END:VEVENT
BEGIN:VEVENT
DTSTART;TZID=America/Toronto:20231005T093000
DTEND;TZID=America/Toronto:20231005T113000
DTSTAMP:20260420T143015
CREATED:20230105T162636Z
LAST-MODIFIED:20230907T155026Z
UID:9541-1696498200-1696505400@arwrcucc.ca
SUMMARY:Regional Council Staff Meeting
DESCRIPTION:
URL:https://arwrcucc.ca/event/regional-council-staff-meeting-41/
LOCATION:Online via Zoom
CATEGORIES:Event,Meeting
END:VEVENT
BEGIN:VEVENT
DTSTART;TZID=America/New_York:20231004T140000
DTEND;TZID=America/New_York:20231004T140000
DTSTAMP:20260420T143015
CREATED:20230822T130133Z
LAST-MODIFIED:20230822T130133Z
UID:10725-1696428000-1696428000@arwrcucc.ca
SUMMARY:Tri-Regional Pastoral Charge Supervisor Gathering
DESCRIPTION:Oct 4 2pm Pastoral Charge Supervisor Gathering Zoom
URL:https://arwrcucc.ca/event/tri-regional-pastoral-charge-supervisor-gathering/
LOCATION:Online via Zoom
CATEGORIES:Meeting
END:VEVENT
BEGIN:VEVENT
DTSTART;TZID=America/New_York:20231004T090000
DTEND;TZID=America/New_York:20231004T090000
DTSTAMP:20260420T143015
CREATED:20230831T191816Z
LAST-MODIFIED:20230831T191912Z
UID:10813-1696410000-1696410000@arwrcucc.ca
SUMMARY:Staff Support Committee
DESCRIPTION:
URL:https://arwrcucc.ca/event/staff-support-committee-3/
CATEGORIES:Meeting
END:VEVENT
BEGIN:VEVENT
DTSTART;VALUE=DATE:20230930
DTEND;VALUE=DATE:20231001
DTSTAMP:20260420T143015
CREATED:20221212T183430Z
LAST-MODIFIED:20221212T183430Z
UID:9378-1696032000-1696118399@arwrcucc.ca
SUMMARY:National Day for Truth and Reconciliation
DESCRIPTION:
URL:https://arwrcucc.ca/event/national-day-for-truth-and-reconciliation-2/
CATEGORIES:Indigenous Justice
END:VEVENT
BEGIN:VEVENT
DTSTART;VALUE=DATE:20230928
DTEND;VALUE=DATE:20231002
DTSTAMP:20260420T143015
CREATED:20230828T161648Z
LAST-MODIFIED:20230828T161648Z
UID:10766-1695859200-1696204799@arwrcucc.ca
SUMMARY:Western Ontario Waterways Fall Regional Council Meeting
DESCRIPTION:
URL:https://arwrcucc.ca/event/western-ontario-waterways-fall-regional-council-meeting/
CATEGORIES:2SLGBTQIA,Affirming,Anti-Racism,Clergy Gathering,Community,Event,General Council,Indigenous Justice,Kids and Youth,Learning Opportunity,Ministry Personnel,Mission Support Grants,Music,Online Gathering,Regional Council,Social Justice,Speakers,Staff,Stewardship,UCW
ATTACH;FMTTYPE=image/png:https://arwrcucc.ca/wp-content/uploads/2023/08/wowfall2023.png
END:VEVENT
BEGIN:VEVENT
DTSTART;TZID=America/Toronto:20230927T153000
DTEND;TZID=America/Toronto:20230927T170000
DTSTAMP:20260420T143015
CREATED:20230630T181747Z
LAST-MODIFIED:20230630T182936Z
UID:10405-1695828600-1695834000@arwrcucc.ca
SUMMARY:Understanding and Communicating with GenZ
DESCRIPTION:
URL:https://arwrcucc.ca/event/understanding-and-communicating-with-genz/
LOCATION:Online via Zoom
CATEGORIES:2SLGBTQIA,Affirming,Camps & Retreats,Community,Event,Kids and Youth,Learning Opportunity,Meeting,Online Gathering,Social Justice,Speakers
END:VEVENT
BEGIN:VEVENT
DTSTART;TZID=America/Toronto:20230927T130000
DTEND;TZID=America/Toronto:20230927T130000
DTSTAMP:20260420T143015
CREATED:20230810T191614Z
LAST-MODIFIED:20230810T191614Z
UID:10686-1695819600-1695819600@arwrcucc.ca
SUMMARY:HF Human Resources Commission Meeting
DESCRIPTION:
URL:https://arwrcucc.ca/event/hf-human-resources-commission-meeting-2/
CATEGORIES:Meeting,Regional Council
END:VEVENT
BEGIN:VEVENT
DTSTART;TZID=America/New_York:20230926T190000
DTEND;TZID=America/New_York:20230926T203000
DTSTAMP:20260420T143015
CREATED:20230725T144855Z
LAST-MODIFIED:20230725T165226Z
UID:10494-1695754800-1695760200@arwrcucc.ca
SUMMARY:Fishbowl – Cross Generational Discussion
DESCRIPTION:Youth and Non – Youth Fishbowl Gathering \nRegional Councils of ARW\, HF and WOW in partnership with The Hub and Trinity UC Kitchener-\nTuesday Sept 26\, 2023\, evening \nBackground: Post-COVID\, Youth leaders struggle to put together groups. A message often heard from youth in the church is that what’s being offered doesn’t work for them. Being an intercultural church includes finding ways to bridge communication between different age groups/generations. \nGoal– To offer a forum that brings together youth and non-youth in the church– a forum that allows the two groups to hear one another and be heard by one another\, and to consider what might be the Spirit’s invitation to the church for youth ministry at this time. \nFISHBOWL PROCESS: \nEight Youth (teens to twenty-somethings) and eight Non-Youth (40s-90+) from WOW\, HF and ARW Regional Councils will gather via Zoom. \n\nDiscussion questions will invite each to share and listen to experiences of their own youth faith formation\, and hopes and challenges for youth ministry then and now.\nOn each question\, using the Zoom spotlight feature to focus on one group of eight:\n\nYouth will invite one another to share\, while the Non-Youth listen.\nPlaces will be switched\, and the Non-Youth will invite one another to share while the Youth listen.\nFor some questions\, the order might be reversed\, with Non-Youth sharing first\n\n\nAfter several rounds of sharing in separate groups\, Youth and Non-Youth will have an opportunity to reflect together as one group.\n\nEach group will be invited to reflect on what they have heard and consider possible next steps. \nParticipants will be given questions for reflection and feedback\, to be submitted in writing following the session. \nThis is a cross-cultural listening event\, and a pilot project. This session will not focus on problem solving or planning. The focus of this event is to listen and learn about one another as a first step of re-visioning youth ministry in ARW\, HF and WOW in this post-pandemic time. \nAn HONORARIUM of $105 is available for participants who are not otherwise paid for their time in this discussion. \nTo apply\, complete the Application Form : \nhttps://forms.office.com/r/3qf3JJtxt6 \nApplication deadline Sept 12\, 2023 \n\nFor more information contact: \nThérèse Samuel tsamuel@united-church.ca \nKathy Douglas kdouglas@united-church.ca \nAdam Cresswell – hubleadership@gmail.com \nBethany Herlihey- bethanyherlihey@gmail.com \n\n\n\n\n\n\n\n\n\n\n\n\n 
URL:https://arwrcucc.ca/event/fishbowl-cross-generational-discussion/
LOCATION:Online via Zoom
CATEGORIES:2SLGBTQIA,Affirming,Anti-Racism,Community,Event,Kids and Youth,Learning Opportunity,Meeting,Online Gathering,Social Justice
ATTACH;FMTTYPE=image/png:https://arwrcucc.ca/wp-content/uploads/2023/07/Youth-and-Non-Youth-Fishbowl-1.png
ORGANIZER;CN="The Hub":MAILTO:hubleadership@gmail.com
END:VEVENT
BEGIN:VEVENT
DTSTART;TZID=America/New_York:20230926T190000
DTEND;TZID=America/New_York:20230926T190000
DTSTAMP:20260420T143015
CREATED:20230810T191532Z
LAST-MODIFIED:20230810T191532Z
UID:10684-1695754800-1695754800@arwrcucc.ca
SUMMARY:WOW Discipleship and Justice Meeting
DESCRIPTION:
URL:https://arwrcucc.ca/event/wow-discipleship-and-justice-meeting/
CATEGORIES:Meeting
END:VEVENT
BEGIN:VEVENT
DTSTART;TZID=America/New_York:20230926T090000
DTEND;TZID=America/New_York:20230926T090000
DTSTAMP:20260420T143015
CREATED:20230810T191337Z
LAST-MODIFIED:20230810T191337Z
UID:10681-1695718800-1695718800@arwrcucc.ca
SUMMARY:HF Regional Council Orientation
DESCRIPTION:
URL:https://arwrcucc.ca/event/hf-regional-council-orientation/
CATEGORIES:Meeting
END:VEVENT
BEGIN:VEVENT
DTSTART;TZID=America/New_York:20230924T123000
DTEND;TZID=America/New_York:20230924T123000
DTSTAMP:20260420T143015
CREATED:20230810T191207Z
LAST-MODIFIED:20230830T164938Z
UID:10679-1695558600-1695558600@arwrcucc.ca
SUMMARY:WOW Remit Education
DESCRIPTION:WOW Sun. Sept. 24\, 2023\, 12:30pm In person: Southampton. Online: Zoom or Hub (If your congregation wants to try out the Hub/SubHub system for this event\, there is one set of equipment available. Inquire by Sept 8\, 2023 by emailing TSamuel@united-church.ca)
URL:https://arwrcucc.ca/event/wow-remit-education-owen-sound/
CATEGORIES:Meeting
END:VEVENT
END:VCALENDAR