BEGIN:VCALENDAR
VERSION:2.0
PRODID:-//Antler River Watershed Regional Council - ECPv6.15.20//NONSGML v1.0//EN
CALSCALE:GREGORIAN
METHOD:PUBLISH
X-WR-CALNAME:Antler River Watershed Regional Council
X-ORIGINAL-URL:https://arwrcucc.ca
X-WR-CALDESC:Events for Antler River Watershed Regional Council
REFRESH-INTERVAL;VALUE=DURATION:PT1H
X-Robots-Tag:noindex
X-PUBLISHED-TTL:PT1H
BEGIN:VTIMEZONE
TZID:America/Toronto
BEGIN:DAYLIGHT
TZOFFSETFROM:-0500
TZOFFSETTO:-0400
TZNAME:EDT
DTSTART:20220313T070000
END:DAYLIGHT
BEGIN:STANDARD
TZOFFSETFROM:-0400
TZOFFSETTO:-0500
TZNAME:EST
DTSTART:20221106T060000
END:STANDARD
BEGIN:DAYLIGHT
TZOFFSETFROM:-0500
TZOFFSETTO:-0400
TZNAME:EDT
DTSTART:20230312T070000
END:DAYLIGHT
BEGIN:STANDARD
TZOFFSETFROM:-0400
TZOFFSETTO:-0500
TZNAME:EST
DTSTART:20231105T060000
END:STANDARD
BEGIN:DAYLIGHT
TZOFFSETFROM:-0500
TZOFFSETTO:-0400
TZNAME:EDT
DTSTART:20240310T070000
END:DAYLIGHT
BEGIN:STANDARD
TZOFFSETFROM:-0400
TZOFFSETTO:-0500
TZNAME:EST
DTSTART:20241103T060000
END:STANDARD
END:VTIMEZONE
BEGIN:VTIMEZONE
TZID:America/New_York
BEGIN:DAYLIGHT
TZOFFSETFROM:-0500
TZOFFSETTO:-0400
TZNAME:EDT
DTSTART:20220313T070000
END:DAYLIGHT
BEGIN:STANDARD
TZOFFSETFROM:-0400
TZOFFSETTO:-0500
TZNAME:EST
DTSTART:20221106T060000
END:STANDARD
BEGIN:DAYLIGHT
TZOFFSETFROM:-0500
TZOFFSETTO:-0400
TZNAME:EDT
DTSTART:20230312T070000
END:DAYLIGHT
BEGIN:STANDARD
TZOFFSETFROM:-0400
TZOFFSETTO:-0500
TZNAME:EST
DTSTART:20231105T060000
END:STANDARD
BEGIN:DAYLIGHT
TZOFFSETFROM:-0500
TZOFFSETTO:-0400
TZNAME:EDT
DTSTART:20240310T070000
END:DAYLIGHT
BEGIN:STANDARD
TZOFFSETFROM:-0400
TZOFFSETTO:-0500
TZNAME:EST
DTSTART:20241103T060000
END:STANDARD
END:VTIMEZONE
BEGIN:VEVENT
DTSTART;VALUE=DATE:20230930
DTEND;VALUE=DATE:20231001
DTSTAMP:20260420T191043
CREATED:20221212T183430Z
LAST-MODIFIED:20221212T183430Z
UID:9378-1696032000-1696118399@arwrcucc.ca
SUMMARY:National Day for Truth and Reconciliation
DESCRIPTION:
URL:https://arwrcucc.ca/event/national-day-for-truth-and-reconciliation-2/
CATEGORIES:Indigenous Justice
END:VEVENT
BEGIN:VEVENT
DTSTART;VALUE=DATE:20230928
DTEND;VALUE=DATE:20231002
DTSTAMP:20260420T191043
CREATED:20230828T161648Z
LAST-MODIFIED:20230828T161648Z
UID:10766-1695859200-1696204799@arwrcucc.ca
SUMMARY:Western Ontario Waterways Fall Regional Council Meeting
DESCRIPTION:
URL:https://arwrcucc.ca/event/western-ontario-waterways-fall-regional-council-meeting/
CATEGORIES:2SLGBTQIA,Affirming,Anti-Racism,Clergy Gathering,Community,Event,General Council,Indigenous Justice,Kids and Youth,Learning Opportunity,Ministry Personnel,Mission Support Grants,Music,Online Gathering,Regional Council,Social Justice,Speakers,Staff,Stewardship,UCW
ATTACH;FMTTYPE=image/png:https://arwrcucc.ca/wp-content/uploads/2023/08/wowfall2023.png
END:VEVENT
BEGIN:VEVENT
DTSTART;TZID=America/Toronto:20230927T153000
DTEND;TZID=America/Toronto:20230927T170000
DTSTAMP:20260420T191043
CREATED:20230630T181747Z
LAST-MODIFIED:20230630T182936Z
UID:10405-1695828600-1695834000@arwrcucc.ca
SUMMARY:Understanding and Communicating with GenZ
DESCRIPTION:
URL:https://arwrcucc.ca/event/understanding-and-communicating-with-genz/
LOCATION:Online via Zoom
CATEGORIES:2SLGBTQIA,Affirming,Camps & Retreats,Community,Event,Kids and Youth,Learning Opportunity,Meeting,Online Gathering,Social Justice,Speakers
END:VEVENT
BEGIN:VEVENT
DTSTART;TZID=America/Toronto:20230927T130000
DTEND;TZID=America/Toronto:20230927T130000
DTSTAMP:20260420T191043
CREATED:20230810T191614Z
LAST-MODIFIED:20230810T191614Z
UID:10686-1695819600-1695819600@arwrcucc.ca
SUMMARY:HF Human Resources Commission Meeting
DESCRIPTION:
URL:https://arwrcucc.ca/event/hf-human-resources-commission-meeting-2/
CATEGORIES:Meeting,Regional Council
END:VEVENT
BEGIN:VEVENT
DTSTART;TZID=America/New_York:20230926T190000
DTEND;TZID=America/New_York:20230926T203000
DTSTAMP:20260420T191043
CREATED:20230725T144855Z
LAST-MODIFIED:20230725T165226Z
UID:10494-1695754800-1695760200@arwrcucc.ca
SUMMARY:Fishbowl – Cross Generational Discussion
DESCRIPTION:Youth and Non – Youth Fishbowl Gathering \nRegional Councils of ARW\, HF and WOW in partnership with The Hub and Trinity UC Kitchener-\nTuesday Sept 26\, 2023\, evening \nBackground: Post-COVID\, Youth leaders struggle to put together groups. A message often heard from youth in the church is that what’s being offered doesn’t work for them. Being an intercultural church includes finding ways to bridge communication between different age groups/generations. \nGoal– To offer a forum that brings together youth and non-youth in the church– a forum that allows the two groups to hear one another and be heard by one another\, and to consider what might be the Spirit’s invitation to the church for youth ministry at this time. \nFISHBOWL PROCESS: \nEight Youth (teens to twenty-somethings) and eight Non-Youth (40s-90+) from WOW\, HF and ARW Regional Councils will gather via Zoom. \n\nDiscussion questions will invite each to share and listen to experiences of their own youth faith formation\, and hopes and challenges for youth ministry then and now.\nOn each question\, using the Zoom spotlight feature to focus on one group of eight:\n\nYouth will invite one another to share\, while the Non-Youth listen.\nPlaces will be switched\, and the Non-Youth will invite one another to share while the Youth listen.\nFor some questions\, the order might be reversed\, with Non-Youth sharing first\n\n\nAfter several rounds of sharing in separate groups\, Youth and Non-Youth will have an opportunity to reflect together as one group.\n\nEach group will be invited to reflect on what they have heard and consider possible next steps. \nParticipants will be given questions for reflection and feedback\, to be submitted in writing following the session. \nThis is a cross-cultural listening event\, and a pilot project. This session will not focus on problem solving or planning. The focus of this event is to listen and learn about one another as a first step of re-visioning youth ministry in ARW\, HF and WOW in this post-pandemic time. \nAn HONORARIUM of $105 is available for participants who are not otherwise paid for their time in this discussion. \nTo apply\, complete the Application Form : \nhttps://forms.office.com/r/3qf3JJtxt6 \nApplication deadline Sept 12\, 2023 \n\nFor more information contact: \nThérèse Samuel tsamuel@united-church.ca \nKathy Douglas kdouglas@united-church.ca \nAdam Cresswell – hubleadership@gmail.com \nBethany Herlihey- bethanyherlihey@gmail.com \n\n\n\n\n\n\n\n\n\n\n\n\n 
URL:https://arwrcucc.ca/event/fishbowl-cross-generational-discussion/
LOCATION:Online via Zoom
CATEGORIES:2SLGBTQIA,Affirming,Anti-Racism,Community,Event,Kids and Youth,Learning Opportunity,Meeting,Online Gathering,Social Justice
ATTACH;FMTTYPE=image/png:https://arwrcucc.ca/wp-content/uploads/2023/07/Youth-and-Non-Youth-Fishbowl-1.png
ORGANIZER;CN="The Hub":MAILTO:hubleadership@gmail.com
END:VEVENT
BEGIN:VEVENT
DTSTART;TZID=America/New_York:20230926T190000
DTEND;TZID=America/New_York:20230926T190000
DTSTAMP:20260420T191043
CREATED:20230810T191532Z
LAST-MODIFIED:20230810T191532Z
UID:10684-1695754800-1695754800@arwrcucc.ca
SUMMARY:WOW Discipleship and Justice Meeting
DESCRIPTION:
URL:https://arwrcucc.ca/event/wow-discipleship-and-justice-meeting/
CATEGORIES:Meeting
END:VEVENT
BEGIN:VEVENT
DTSTART;TZID=America/New_York:20230926T090000
DTEND;TZID=America/New_York:20230926T090000
DTSTAMP:20260420T191043
CREATED:20230810T191337Z
LAST-MODIFIED:20230810T191337Z
UID:10681-1695718800-1695718800@arwrcucc.ca
SUMMARY:HF Regional Council Orientation
DESCRIPTION:
URL:https://arwrcucc.ca/event/hf-regional-council-orientation/
CATEGORIES:Meeting
END:VEVENT
BEGIN:VEVENT
DTSTART;TZID=America/New_York:20230924T123000
DTEND;TZID=America/New_York:20230924T123000
DTSTAMP:20260420T191043
CREATED:20230810T191207Z
LAST-MODIFIED:20230830T164938Z
UID:10679-1695558600-1695558600@arwrcucc.ca
SUMMARY:WOW Remit Education
DESCRIPTION:WOW Sun. Sept. 24\, 2023\, 12:30pm In person: Southampton. Online: Zoom or Hub (If your congregation wants to try out the Hub/SubHub system for this event\, there is one set of equipment available. Inquire by Sept 8\, 2023 by emailing TSamuel@united-church.ca)
URL:https://arwrcucc.ca/event/wow-remit-education-owen-sound/
CATEGORIES:Meeting
END:VEVENT
BEGIN:VEVENT
DTSTART;TZID=America/Toronto:20230921T093000
DTEND;TZID=America/Toronto:20230921T113000
DTSTAMP:20260420T191043
CREATED:20230105T162559Z
LAST-MODIFIED:20230907T154954Z
UID:9539-1695288600-1695295800@arwrcucc.ca
SUMMARY:Regional Council Staff Meeting
DESCRIPTION:
URL:https://arwrcucc.ca/event/regional-council-staff-meeting-40/
LOCATION:Online via Zoom
CATEGORIES:Event,Meeting
END:VEVENT
BEGIN:VEVENT
DTSTART;TZID=America/New_York:20230920T140000
DTEND;TZID=America/New_York:20230920T140000
DTSTAMP:20260420T191043
CREATED:20230810T191055Z
LAST-MODIFIED:20230911T203131Z
UID:10677-1695218400-1695218400@arwrcucc.ca
SUMMARY:Tri-Regional Collaboration Gathering
DESCRIPTION:Join Zoom Meeting: \nhttps://united-church.zoom.us/j/89103473757 \nMeeting ID: 891 0347 3757 \nJoin by phone: 1- 855-703-8985 Canada Toll-free
URL:https://arwrcucc.ca/event/tri-regional-collaboration-gathering/
CATEGORIES:Meeting
ATTACH;FMTTYPE=image/png:https://arwrcucc.ca/wp-content/uploads/2023/09/collaborative-ministry.png
END:VEVENT
BEGIN:VEVENT
DTSTART;TZID=America/New_York:20230919T140000
DTEND;TZID=America/New_York:20230919T140000
DTSTAMP:20260420T191043
CREATED:20230810T191000Z
LAST-MODIFIED:20230810T191000Z
UID:10675-1695132000-1695132000@arwrcucc.ca
SUMMARY:HF Discipleship and Justice Meeting
DESCRIPTION:
URL:https://arwrcucc.ca/event/hf-discipleship-and-justice-meeting/
CATEGORIES:Meeting
END:VEVENT
BEGIN:VEVENT
DTSTART;TZID=America/Toronto:20230919T100000
DTEND;TZID=America/Toronto:20230919T100000
DTSTAMP:20260420T191043
CREATED:20230810T190818Z
LAST-MODIFIED:20230810T190818Z
UID:10673-1695117600-1695117600@arwrcucc.ca
SUMMARY:WOW Human Resources Commission Meeting
DESCRIPTION:
URL:https://arwrcucc.ca/event/wow-human-resources-commission-meeting/
CATEGORIES:Meeting,Online Gathering,Regional Council
END:VEVENT
BEGIN:VEVENT
DTSTART;TZID=America/New_York:20230919T090000
DTEND;TZID=America/New_York:20230919T090000
DTSTAMP:20260420T191043
CREATED:20230810T190725Z
LAST-MODIFIED:20230810T191404Z
UID:10671-1695114000-1695114000@arwrcucc.ca
SUMMARY:WOW Regional Council Orientation (Trinity)
DESCRIPTION:
URL:https://arwrcucc.ca/event/wow-orientation-trinity/
CATEGORIES:Meeting
END:VEVENT
BEGIN:VEVENT
DTSTART;TZID=America/New_York:20230914T190000
DTEND;TZID=America/New_York:20230914T190000
DTSTAMP:20260420T191043
CREATED:20230810T190521Z
LAST-MODIFIED:20230810T190521Z
UID:10669-1694718000-1694718000@arwrcucc.ca
SUMMARY:WOW Congregational Support Commission
DESCRIPTION:
URL:https://arwrcucc.ca/event/wow-congregational-support-commission/
CATEGORIES:Meeting
END:VEVENT
BEGIN:VEVENT
DTSTART;TZID=America/New_York:20230913T140000
DTEND;TZID=America/New_York:20230913T140000
DTSTAMP:20260420T191043
CREATED:20230810T190410Z
LAST-MODIFIED:20230810T190430Z
UID:10666-1694613600-1694613600@arwrcucc.ca
SUMMARY:Tri-Regional Governance Workshop
DESCRIPTION:
URL:https://arwrcucc.ca/event/governance-workshop/
LOCATION:Online via Zoom
CATEGORIES:Learning Opportunity,Meeting
END:VEVENT
BEGIN:VEVENT
DTSTART;TZID=America/New_York:20230913T100000
DTEND;TZID=America/New_York:20230913T100000
DTSTAMP:20260420T191043
CREATED:20230810T190253Z
LAST-MODIFIED:20230810T190253Z
UID:10664-1694599200-1694599200@arwrcucc.ca
SUMMARY:ARW Regional Council Executive Meeting
DESCRIPTION:
URL:https://arwrcucc.ca/event/arw-regional-council-executive-meeting/
CATEGORIES:Meeting
END:VEVENT
BEGIN:VEVENT
DTSTART;TZID=America/New_York:20230912T100000
DTEND;TZID=America/New_York:20230912T100000
DTSTAMP:20260420T191043
CREATED:20230810T185948Z
LAST-MODIFIED:20230810T185948Z
UID:10662-1694512800-1694512800@arwrcucc.ca
SUMMARY:HF Congregational Support Commission
DESCRIPTION:
URL:https://arwrcucc.ca/event/hf-congregational-support-commission-2/
CATEGORIES:Meeting
END:VEVENT
BEGIN:VEVENT
DTSTART;TZID=America/Toronto:20230912T100000
DTEND;TZID=America/Toronto:20230912T100000
DTSTAMP:20260420T191043
CREATED:20221212T165808Z
LAST-MODIFIED:20221212T165808Z
UID:9349-1694512800-1694512800@arwrcucc.ca
SUMMARY:ARW Discipleship & Justice Meeting
DESCRIPTION:
URL:https://arwrcucc.ca/event/arw-discipleship-justice-meeting-5/
LOCATION:Online via Zoom
CATEGORIES:Meeting
END:VEVENT
BEGIN:VEVENT
DTSTART;TZID=America/Toronto:20230912T090000
DTEND;TZID=America/Toronto:20230912T090000
DTSTAMP:20260420T191043
CREATED:20230810T185705Z
LAST-MODIFIED:20230810T185705Z
UID:10658-1694509200-1694509200@arwrcucc.ca
SUMMARY:ARW Human Resources Commission Meeting
DESCRIPTION:
URL:https://arwrcucc.ca/event/arw-human-resources-commission-meeting-2/
CATEGORIES:Meeting,Online Gathering,Regional Council
END:VEVENT
BEGIN:VEVENT
DTSTART;TZID=America/Toronto:20230907T093000
DTEND;TZID=America/Toronto:20230907T113000
DTSTAMP:20260420T191043
CREATED:20230105T162534Z
LAST-MODIFIED:20230821T123739Z
UID:9537-1694079000-1694086200@arwrcucc.ca
SUMMARY:Regional Council Staff Meeting
DESCRIPTION:
URL:https://arwrcucc.ca/event/regional-council-staff-meeting-39/
LOCATION:Online via Zoom
CATEGORIES:Event,Meeting
END:VEVENT
BEGIN:VEVENT
DTSTART;TZID=America/New_York:20230906T190000
DTEND;TZID=America/New_York:20230906T200000
DTSTAMP:20260420T191043
CREATED:20230823T130200Z
LAST-MODIFIED:20230823T130200Z
UID:10729-1694026800-1694030400@arwrcucc.ca
SUMMARY:WOW Regional Representative Gathering
DESCRIPTION:WOW Regional Reps Gathering \nWe will get acquainted\, get updates on some of the latest developments and activities in the Region\, and have a time for Q&A related to your work as a regional council member through your position as Regional Rep.  Please join together on Wednesday September 6\, 2023 from 7-8 pm on Zoom.
URL:https://arwrcucc.ca/event/wow-regional-representative-gathering/
LOCATION:Online via Zoom
CATEGORIES:Meeting
ORGANIZER;CN="John Neff":MAILTO:JNeff@united-church.ca
END:VEVENT
BEGIN:VEVENT
DTSTART;TZID=America/New_York:20230906T090000
DTEND;TZID=America/New_York:20230906T090000
DTSTAMP:20260420T191043
CREATED:20230810T185601Z
LAST-MODIFIED:20230810T185601Z
UID:10656-1693990800-1693990800@arwrcucc.ca
SUMMARY:Staff Support Committee
DESCRIPTION:
URL:https://arwrcucc.ca/event/staff-support-committee-2/
CATEGORIES:Meeting
END:VEVENT
BEGIN:VEVENT
DTSTART;VALUE=DATE:20230905
DTEND;VALUE=DATE:20230906
DTSTAMP:20260420T191043
CREATED:20230810T185504Z
LAST-MODIFIED:20230810T185504Z
UID:10654-1693872000-1693958399@arwrcucc.ca
SUMMARY:Newsletter Deadline
DESCRIPTION:
URL:https://arwrcucc.ca/event/newsletter-deadline-2/
CATEGORIES:Deadline
END:VEVENT
BEGIN:VEVENT
DTSTART;VALUE=DATE:20230904
DTEND;VALUE=DATE:20230905
DTSTAMP:20260420T191043
CREATED:20221212T183314Z
LAST-MODIFIED:20221212T183332Z
UID:9375-1693785600-1693871999@arwrcucc.ca
SUMMARY:Labour Day
DESCRIPTION:Regional Council Office Closed
URL:https://arwrcucc.ca/event/labour-day-2/
CATEGORIES:Holiday
END:VEVENT
BEGIN:VEVENT
DTSTART;TZID=America/New_York:20230830T190000
DTEND;TZID=America/New_York:20230830T190000
DTSTAMP:20260420T191043
CREATED:20230803T172706Z
LAST-MODIFIED:20230823T131251Z
UID:10575-1693422000-1693422000@arwrcucc.ca
SUMMARY:HF Regional Representative Gathering
DESCRIPTION:
URL:https://arwrcucc.ca/event/hf-lay-regional-rep-gathering/
LOCATION:Online via Zoom
CATEGORIES:Meeting
END:VEVENT
BEGIN:VEVENT
DTSTART;TZID=America/Toronto:20230825T093000
DTEND;TZID=America/Toronto:20230825T120000
DTSTAMP:20260420T191043
CREATED:20230622T181724Z
LAST-MODIFIED:20230622T181724Z
UID:10286-1692955800-1692964800@arwrcucc.ca
SUMMARY:Mini Christian Pilgrimage Experience on the G2G Rail Trail
DESCRIPTION:Mini Christian Pilgrimage Experience on the G2G Rail Trail \nFriday\, August 25\, 2023\,  \n9:30am-noon (Walking/Rolling 1½-2 hours) \nG2G Rail Trail – Goderich To Guelph \nRegistration is required: \nhttps://regionalcouncil789.formstack.com/forms/g2g_christian_pilgrimage \nDeadline for Registration is Tuesday\, August 1\, 2023 \nYou will be contacted through email\, \nif inclement weather requires\, we cancel this event \nHosts:  \nCarolyn Davidson (Harcourt Memorial United Church)\, \nRev. Sue Campbell (Trinity United Church\, Elmira) \n& Kathy Douglas (Faith Formation Minister\, ARW\, WOW\, HF Regional Councils) \nContact:   Kathy Douglas  kdouglas@united-church.ca
URL:https://arwrcucc.ca/event/mini-christian-pilgrimage-experience-on-the-g2g-rail-trail/
CATEGORIES:Camps & Retreats,Community,Event,Kids and Youth,Learning Opportunity,Seasonal
ATTACH;FMTTYPE=image/png:https://arwrcucc.ca/wp-content/uploads/2023/06/Christian-Pilgrimage-G2G.png
END:VEVENT
BEGIN:VEVENT
DTSTART;TZID=America/New_York:20230823T190000
DTEND;TZID=America/New_York:20230823T190000
DTSTAMP:20260420T191043
CREATED:20230823T131330Z
LAST-MODIFIED:20230823T131357Z
UID:10733-1692817200-1692817200@arwrcucc.ca
SUMMARY:ARW Regional Representative Gathering
DESCRIPTION:
URL:https://arwrcucc.ca/event/arw-regional-representative-gathering/
LOCATION:Online via Zoom
CATEGORIES:Meeting
ORGANIZER;CN="Lynne Allin":MAILTO:LAllin@united-church.ca
END:VEVENT
BEGIN:VEVENT
DTSTART;TZID=America/Toronto:20230823T130000
DTEND;TZID=America/Toronto:20230823T130000
DTSTAMP:20260420T191043
CREATED:20230803T172535Z
LAST-MODIFIED:20230803T172535Z
UID:10573-1692795600-1692795600@arwrcucc.ca
SUMMARY:HF Human Resources Commission Meeting
DESCRIPTION:
URL:https://arwrcucc.ca/event/hf-human-resources-commission-meeting/
CATEGORIES:Meeting,Regional Council
END:VEVENT
BEGIN:VEVENT
DTSTART;TZID=America/Toronto:20230815T100000
DTEND;TZID=America/Toronto:20230815T100000
DTSTAMP:20260420T191043
CREATED:20230803T172245Z
LAST-MODIFIED:20230803T173126Z
UID:10571-1692093600-1692093600@arwrcucc.ca
SUMMARY:WOW Human Resources Commission Meeting
DESCRIPTION:
URL:https://arwrcucc.ca/event/wow-human-resources-commission-meeting-2/
CATEGORIES:Meeting,Online Gathering,Regional Council
END:VEVENT
BEGIN:VEVENT
DTSTART;TZID=America/New_York:20230810T190000
DTEND;TZID=America/New_York:20230810T190000
DTSTAMP:20260420T191043
CREATED:20230803T172118Z
LAST-MODIFIED:20230803T172316Z
UID:10569-1691694000-1691694000@arwrcucc.ca
SUMMARY:WOW Congregational Support Commission
DESCRIPTION:
URL:https://arwrcucc.ca/event/wow-congregational-support-commission-2/
CATEGORIES:Meeting
END:VEVENT
END:VCALENDAR