BEGIN:VCALENDAR
VERSION:2.0
PRODID:-//Antler River Watershed Regional Council - ECPv6.15.20//NONSGML v1.0//EN
CALSCALE:GREGORIAN
METHOD:PUBLISH
X-WR-CALNAME:Antler River Watershed Regional Council
X-ORIGINAL-URL:https://arwrcucc.ca
X-WR-CALDESC:Events for Antler River Watershed Regional Council
REFRESH-INTERVAL;VALUE=DURATION:PT1H
X-Robots-Tag:noindex
X-PUBLISHED-TTL:PT1H
BEGIN:VTIMEZONE
TZID:America/Toronto
BEGIN:DAYLIGHT
TZOFFSETFROM:-0500
TZOFFSETTO:-0400
TZNAME:EDT
DTSTART:20220313T070000
END:DAYLIGHT
BEGIN:STANDARD
TZOFFSETFROM:-0400
TZOFFSETTO:-0500
TZNAME:EST
DTSTART:20221106T060000
END:STANDARD
BEGIN:DAYLIGHT
TZOFFSETFROM:-0500
TZOFFSETTO:-0400
TZNAME:EDT
DTSTART:20230312T070000
END:DAYLIGHT
BEGIN:STANDARD
TZOFFSETFROM:-0400
TZOFFSETTO:-0500
TZNAME:EST
DTSTART:20231105T060000
END:STANDARD
BEGIN:DAYLIGHT
TZOFFSETFROM:-0500
TZOFFSETTO:-0400
TZNAME:EDT
DTSTART:20240310T070000
END:DAYLIGHT
BEGIN:STANDARD
TZOFFSETFROM:-0400
TZOFFSETTO:-0500
TZNAME:EST
DTSTART:20241103T060000
END:STANDARD
END:VTIMEZONE
BEGIN:VEVENT
DTSTART;VALUE=DATE:20230701
DTEND;VALUE=DATE:20230702
DTSTAMP:20260420T220223
CREATED:20221212T183043Z
LAST-MODIFIED:20221212T183043Z
UID:9369-1688169600-1688255999@arwrcucc.ca
SUMMARY:Canada Day
DESCRIPTION:
URL:https://arwrcucc.ca/event/canada-day-2/
CATEGORIES:Holiday
END:VEVENT
BEGIN:VEVENT
DTSTART;TZID=America/Toronto:20230626T093000
DTEND;TZID=America/Toronto:20230626T113000
DTSTAMP:20260420T220223
CREATED:20230105T162258Z
LAST-MODIFIED:20230105T163649Z
UID:9525-1687771800-1687779000@arwrcucc.ca
SUMMARY:Regional Council Staff Meeting
DESCRIPTION:
URL:https://arwrcucc.ca/event/regional-council-staff-meeting-33/
LOCATION:Online via Zoom
CATEGORIES:Event,Meeting
END:VEVENT
BEGIN:VEVENT
DTSTART;VALUE=DATE:20230621
DTEND;VALUE=DATE:20230622
DTSTAMP:20260420T220223
CREATED:20221212T182928Z
LAST-MODIFIED:20221212T182928Z
UID:9367-1687305600-1687391999@arwrcucc.ca
SUMMARY:National Indigenous Peoples Day
DESCRIPTION:
URL:https://arwrcucc.ca/event/national-indigenous-peoples-day/
CATEGORIES:Holiday
END:VEVENT
BEGIN:VEVENT
DTSTART;TZID=America/Toronto:20230620T190000
DTEND;TZID=America/Toronto:20230620T210000
DTSTAMP:20260420T220223
CREATED:20230615T212134Z
LAST-MODIFIED:20230615T212254Z
UID:10227-1687287600-1687294800@arwrcucc.ca
SUMMARY:Liaison Training 101
DESCRIPTION:Liaison Training 101 \nTuesday\, June 20\, 2023 from 7:00 to 9:00 pm \nwith Micol Cottrell\, Minister\, Pastoral Relations\n\n\n\n\n\n\n\n\n\n\n\n\n\n\n\n\nWe are each given particular gifts of the Spirit.\nA community of faith\, like any community\, experiences change.\nWhen a minister comes into a community of faith\na covenant is made; a promise to walk together as God’s people\,\nand grow closer to God. God’s covenant with us never changes\,\nbut our covenants with one another do change. \n– adapted from A Song of Faith\, 2006 and the Book of Worship\, United Church of Christ © 1986\n \nLiaison Training 101 is a great refresher for liaisons who have done this work before and a great way for those interested in serving as a liaison to become equipped for this work. This training is your chance to review the duties of a liaison in supporting communities of faith with pastoral relations matters\, including: \n\nsearching for a new minister\,\ncreating a position description\,\nchanges to the terms of a pastoral relationship\,\ncelebrating with the community of faith and more.\n\nWhen you register\, you will receive the Zoom link and materials in preparation for the training to make the most of our time together. If you have questions about the content\, please email Micol Cottrell\, Minister\, Pastoral Relations\, at MCottrell@united-church.ca\, or better yet\, write down your questions and bring them with you!\n\n\n\n\n\n\n\n  \nRegister Here
URL:https://arwrcucc.ca/event/liaison-training-101/
LOCATION:Online via Zoom
CATEGORIES:Community,Event,Learning Opportunity,Regional Council,Training
END:VEVENT
BEGIN:VEVENT
DTSTART;TZID=America/Toronto:20230613T130000
DTEND;TZID=America/Toronto:20230613T143000
DTSTAMP:20260420T220223
CREATED:20230320T173343Z
LAST-MODIFIED:20230321T181006Z
UID:9861-1686661200-1686666600@arwrcucc.ca
SUMMARY:Refugee Advisory Network
DESCRIPTION:
URL:https://arwrcucc.ca/event/refugee-advisory-network/
LOCATION:Online via Zoom
CATEGORIES:Community,Meeting,Online Gathering,Regional Council,Social Justice,Speakers
END:VEVENT
BEGIN:VEVENT
DTSTART;TZID=America/Toronto:20230613T100000
DTEND;TZID=America/Toronto:20230613T100000
DTSTAMP:20260420T220223
CREATED:20221212T165740Z
LAST-MODIFIED:20221212T165740Z
UID:9347-1686650400-1686650400@arwrcucc.ca
SUMMARY:ARW Discipleship & Justice Meeting
DESCRIPTION:
URL:https://arwrcucc.ca/event/arw-discipleship-justice-meeting-4/
LOCATION:Online via Zoom
CATEGORIES:Meeting
END:VEVENT
BEGIN:VEVENT
DTSTART;TZID=America/Toronto:20230612T093000
DTEND;TZID=America/Toronto:20230612T113000
DTSTAMP:20260420T220223
CREATED:20230105T162219Z
LAST-MODIFIED:20230105T163605Z
UID:9523-1686562200-1686569400@arwrcucc.ca
SUMMARY:Regional Council Staff Meeting
DESCRIPTION:
URL:https://arwrcucc.ca/event/regional-council-staff-meeting-32/
LOCATION:Online via Zoom
CATEGORIES:Event,Meeting
END:VEVENT
BEGIN:VEVENT
DTSTART;TZID=America/Toronto:20230609T190000
DTEND;TZID=America/Toronto:20230611T110000
DTSTAMP:20260420T220223
CREATED:20230216T215939Z
LAST-MODIFIED:20230315T194842Z
UID:9773-1686337200-1686481200@arwrcucc.ca
SUMMARY:Heroes United: Find Your Super Powers
DESCRIPTION:Heroes United: Find Your Super Powers\nJune 9 (7pm) – June 11 (11am)\, 2023 @ Camp Bimini \nFor Kids Across the Regions: \nCamp Bimini – 3180 Perth Road\, St. Paul’s\, Ontario N0K 1V0 (outside Stratford) \n• Highschool/Young Adult Leadership Opportunities\n• Bring your kids and stay for some fun and connection with other ministry folk\n• Voluntary Three –Tier Pricing System.\nParticipants can choose the tier that is most suitable for their family: $70 – $85 – $100 \nRegistration: \nhttps://regionalcouncil789.formstack.com/forms/kids_across_the_regions \nContact:\nKathy Douglas kdouglas@united-church.ca \nPh: 519 441 0656
URL:https://arwrcucc.ca/event/heroes-united-find-your-super-powers/
LOCATION:Camp Bimini\, 3180 Perth Road\, St. Paul’s\, Ontario\, N0K 1V0\, Canada
CATEGORIES:2SLGBTQIA,Affirming,Anti-Racism,Camps & Retreats,Community,Event,Events,Indigenous Justice,Kids and Youth,Learning Opportunity
ATTACH;FMTTYPE=image/png:https://arwrcucc.ca/wp-content/uploads/2023/02/bd913be5-58cc-1fda-74f8-d3d676588ba7.png
END:VEVENT
BEGIN:VEVENT
DTSTART;TZID=America/Toronto:20230530T160000
DTEND;TZID=America/Toronto:20230530T170000
DTSTAMP:20260420T220223
CREATED:20230503T170229Z
LAST-MODIFIED:20230503T170229Z
UID:10090-1685462400-1685466000@arwrcucc.ca
SUMMARY:Support Workshop for Mission Support Grants
DESCRIPTION:MISSION & SUPPORT GRANTS\nJoin us for an important support workshop on applying for Mission Support Grants. 💲💲💲\n\n \n\n\nWhen & Where: Tuesday May 30th from 4-5pm via Zoom and will be recorded.\n\n\n \n\n\nEmail: Kathy Douglas at KDouglas@United-Church.ca for the Zoom link.
URL:https://arwrcucc.ca/event/support-workshop-for-mission-support-grants/
LOCATION:Online via Zoom
CATEGORIES:2SLGBTQIA,Affirming,Anti-Racism,Camps & Retreats,Climate Change,Community,Deadline,Event,Indigenous Justice,Kids and Youth,Learning Opportunity,Mission Support Grants,Online Gathering,Regional Council,Social Justice
ATTACH;FMTTYPE=image/jpeg:https://arwrcucc.ca/wp-content/uploads/2023/05/Support-Workshop-Mission-Support-Grants.jpg
END:VEVENT
BEGIN:VEVENT
DTSTART;TZID=America/Toronto:20230529T093000
DTEND;TZID=America/Toronto:20230529T113000
DTSTAMP:20260420T220223
CREATED:20230105T162157Z
LAST-MODIFIED:20230105T163529Z
UID:9521-1685352600-1685359800@arwrcucc.ca
SUMMARY:Regional Council Staff Meeting
DESCRIPTION:
URL:https://arwrcucc.ca/event/regional-council-staff-meeting-31/
LOCATION:Online via Zoom
CATEGORIES:Event,Meeting
END:VEVENT
BEGIN:VEVENT
DTSTART;TZID=America/Toronto:20230525T130000
DTEND;TZID=America/Toronto:20230525T132500
DTSTAMP:20260420T220223
CREATED:20230425T195708Z
LAST-MODIFIED:20230425T195708Z
UID:10064-1685019600-1685021100@arwrcucc.ca
SUMMARY:Children and Youth Ministry - Lorrie Lowes
DESCRIPTION:This event (on line) is for anyone offering leadership in Children and Youth Ministry. If you and your congregation are struggling to find a church school curriculum\, you might find some ideas here.\n\n\n\nLorrie Lowes\, has helped to create a curriculum that ‘fits’ her context and will share her experience with others.\n\nAll are welcome to come and share the curriculum that is working for their context in a round table format.\n\nThese gatherings provide resources\, connection and support.\n\nCome to learn. Come to listen. Come to share. WE are NOT Alone!\n\n\n\nContact Kdouglas@united-church.ca for zoom link
URL:https://arwrcucc.ca/event/children-and-youth-ministry-lorrie-lowes/
LOCATION:Online via Zoom
CATEGORIES:2SLGBTQIA,Affirming,Anti-Racism,Camps & Retreats,Community,Event,Kids and Youth,Learning Opportunity,Meeting,Ministry Personnel,Music,Online Gathering,Regional Council,Social Justice,Speakers
ATTACH;FMTTYPE=image/jpeg:https://arwrcucc.ca/wp-content/uploads/2023/04/lorrieloweschildrenyouth.jpg
ORGANIZER;CN="Kathy Douglas":MAILTO:kdouglas@united-church.ca
END:VEVENT
BEGIN:VEVENT
DTSTART;VALUE=DATE:20230522
DTEND;VALUE=DATE:20230523
DTSTAMP:20260420T220223
CREATED:20221212T175437Z
LAST-MODIFIED:20221212T175437Z
UID:9365-1684713600-1684799999@arwrcucc.ca
SUMMARY:Victoria Day
DESCRIPTION:Regional Council Office Closed
URL:https://arwrcucc.ca/event/victoria-day-2/
CATEGORIES:Holiday
END:VEVENT
BEGIN:VEVENT
DTSTART;TZID=America/Toronto:20230515T093000
DTEND;TZID=America/Toronto:20230515T113000
DTSTAMP:20260420T220223
CREATED:20230105T162130Z
LAST-MODIFIED:20230105T163455Z
UID:9519-1684143000-1684150200@arwrcucc.ca
SUMMARY:Regional Council Staff Meeting
DESCRIPTION:
URL:https://arwrcucc.ca/event/regional-council-staff-meeting-30/
LOCATION:Online via Zoom
CATEGORIES:Event,Meeting
END:VEVENT
BEGIN:VEVENT
DTSTART;VALUE=DATE:20230512
DTEND;VALUE=DATE:20230514
DTSTAMP:20260420T220223
CREATED:20221212T202913Z
LAST-MODIFIED:20230314T180603Z
UID:9398-1683849600-1684022399@arwrcucc.ca
SUMMARY:Antler River Watershed Spring Regional Council Meeting
DESCRIPTION:ARWRC Spring 2023 Meeting\n\nMay 12–13\, 2023 (hybrid: in-person & online) \nIn-person at Best Western Stoneridge Inn\, London \nCelebration of New Ministries Service\, May 13\, 2023\, Lambeth United Church\, London \nFor more information click here: \nhttps://arwrcucc.ca/events/regional-council-meeting/
URL:https://arwrcucc.ca/event/antler-river-watershed-spring-regional-council-meeting/
CATEGORIES:Affirming,Anti-Racism,Camps & Retreats,Clergy Gathering,Climate Change,Community,Event,Events,General Council,Indigenous Justice,Kids and Youth,Learning Opportunity,Meeting,Ministry Personnel,Music,Online Gathering,Regional Council,Registration,Social Justice,Speakers,Staff,Stewardship,UCW
ATTACH;FMTTYPE=image/png:https://arwrcucc.ca/wp-content/uploads/2023/03/1.png
END:VEVENT
BEGIN:VEVENT
DTSTART;TZID=America/Toronto:20230509T100000
DTEND;TZID=America/Toronto:20230509T100000
DTSTAMP:20260420T220223
CREATED:20221212T165703Z
LAST-MODIFIED:20221212T165703Z
UID:9345-1683626400-1683626400@arwrcucc.ca
SUMMARY:ARW Discipleship & Justice Meeting
DESCRIPTION:
URL:https://arwrcucc.ca/event/arw-discipleship-justice-meeting-3/
LOCATION:Online via Zoom
CATEGORIES:Meeting
END:VEVENT
BEGIN:VEVENT
DTSTART;TZID=America/Toronto:20230501T093000
DTEND;TZID=America/Toronto:20230501T113000
DTSTAMP:20260420T220223
CREATED:20230105T162100Z
LAST-MODIFIED:20230105T163358Z
UID:9517-1682933400-1682940600@arwrcucc.ca
SUMMARY:Regional Council Staff Meeting
DESCRIPTION:
URL:https://arwrcucc.ca/event/regional-council-staff-meeting-29/
LOCATION:Online via Zoom
CATEGORIES:Event,Meeting
END:VEVENT
BEGIN:VEVENT
DTSTART;VALUE=DATE:20230428
DTEND;VALUE=DATE:20230501
DTSTAMP:20260420T220223
CREATED:20230313T204900Z
LAST-MODIFIED:20230313T205238Z
UID:9828-1682640000-1682899199@arwrcucc.ca
SUMMARY:YAT Forum 2023 presents: Surface Pressure
DESCRIPTION:YAT Forum: Surface Pressure\nFriday\, April 28 – Sunday\, April 30\nLambton Centre\, Lambton Shores \nClick here to Register! \nDo you love to be inspired\, challenged to think\, meet new people & hang out with good friends??? Do you enjoy being in an open & welcoming community where you are free to be completely yourself? Faith\, fellowship and connection is what YAT Forum is all about. \n✤ Kenji Marui ✤ Doug Peck ✤ Marilyn Arthur ✤ \nDeadline for registration is April 14!
URL:https://arwrcucc.ca/event/yat-forum-2023-presents-surface-pressure/
LOCATION:Lambton Centre\, 6602 Lakeshore Road Forest Lambton Shores\, Warwick\, Ontario\, N0N 1J7\, Canada
CATEGORIES:2SLGBTQIA,Affirming,Anti-Racism,Camps & Retreats,Climate Change,Community,Event,Kids and Youth,Learning Opportunity,Regional Council,Seasonal,Social Justice,Speakers
ATTACH;FMTTYPE=image/png:https://arwrcucc.ca/wp-content/uploads/2023/03/e1941d27-4986-72fc-fdfa-b30b6112bba5.png
ORGANIZER;CN="Kathy Douglas":MAILTO:kdouglas@united-church.ca
END:VEVENT
BEGIN:VEVENT
DTSTART;TZID=America/Toronto:20230418T140000
DTEND;TZID=America/Toronto:20230418T150000
DTSTAMP:20260420T220223
CREATED:20230309T170539Z
LAST-MODIFIED:20230309T170625Z
UID:9809-1681826400-1681830000@arwrcucc.ca
SUMMARY:Online Clergy Gathering
DESCRIPTION:You are invited to gather with colleagues in ministry for a time of conversation and information sharing. \nCome for this time of fellowship and support. \nWatch your emails for the Zoom link.
URL:https://arwrcucc.ca/event/online-clergy-gathering-5/
LOCATION:Online via Zoom
CATEGORIES:Clergy Gathering,Community,Event,Learning Opportunity,Ministry Personnel,Online Gathering
ATTACH;FMTTYPE=image/png:https://arwrcucc.ca/wp-content/uploads/2023/01/clergy-gathering-online-meetings-1.png
ORGANIZER;CN="Kevin Steeper":MAILTO:mailto:KSteeper@united-church.ca
END:VEVENT
BEGIN:VEVENT
DTSTART;TZID=America/Toronto:20230417T093000
DTEND;TZID=America/Toronto:20230417T113000
DTSTAMP:20260420T220223
CREATED:20230105T162033Z
LAST-MODIFIED:20230105T162033Z
UID:9515-1681723800-1681731000@arwrcucc.ca
SUMMARY:Regional Council Staff Meeting
DESCRIPTION:
URL:https://arwrcucc.ca/event/regional-council-staff-meeting-28/
LOCATION:Online via Zoom
CATEGORIES:Event,Meeting
END:VEVENT
BEGIN:VEVENT
DTSTART;VALUE=DATE:20230410
DTEND;VALUE=DATE:20230411
DTSTAMP:20260420T220223
CREATED:20221212T175328Z
LAST-MODIFIED:20221212T175332Z
UID:9363-1681084800-1681171199@arwrcucc.ca
SUMMARY:Easter Monday
DESCRIPTION:Regional Office Closed
URL:https://arwrcucc.ca/event/easter-monday-2/
CATEGORIES:Holiday
END:VEVENT
BEGIN:VEVENT
DTSTART;VALUE=DATE:20230409
DTEND;VALUE=DATE:20230410
DTSTAMP:20260420T220223
CREATED:20221212T184035Z
LAST-MODIFIED:20221212T184050Z
UID:9386-1680998400-1681084799@arwrcucc.ca
SUMMARY:Easter
DESCRIPTION:
URL:https://arwrcucc.ca/event/easter-2/
CATEGORIES:Holiday
END:VEVENT
BEGIN:VEVENT
DTSTART;VALUE=DATE:20230407
DTEND;VALUE=DATE:20230408
DTSTAMP:20260420T220223
CREATED:20221212T175207Z
LAST-MODIFIED:20221212T175207Z
UID:9360-1680825600-1680911999@arwrcucc.ca
SUMMARY:Good Friday
DESCRIPTION:Regional Office Closed
URL:https://arwrcucc.ca/event/good-friday-2/
CATEGORIES:Holiday
END:VEVENT
BEGIN:VEVENT
DTSTART;TZID=America/Toronto:20230403T093000
DTEND;TZID=America/Toronto:20230403T113000
DTSTAMP:20260420T220223
CREATED:20230105T162000Z
LAST-MODIFIED:20230105T162000Z
UID:9513-1680514200-1680521400@arwrcucc.ca
SUMMARY:Regional Council Staff Meeting
DESCRIPTION:
URL:https://arwrcucc.ca/event/regional-council-staff-meeting-27/
LOCATION:Online via Zoom
CATEGORIES:Event,Meeting
END:VEVENT
BEGIN:VEVENT
DTSTART;TZID=America/Toronto:20230328T190000
DTEND;TZID=America/Toronto:20230328T203000
DTSTAMP:20260420T220223
CREATED:20230120T171316Z
LAST-MODIFIED:20230120T171316Z
UID:9622-1680030000-1680035400@arwrcucc.ca
SUMMARY:Lent 2023 – Faith & Justice Series
DESCRIPTION:LENT 2023 FAITH AND JUSTICE SERIES\nNourish your spirit with Justice-Seeking Tuesdays in Lent. \nFeb 28th 7:00-8:30 PM Jesus’s Encounters with the Powerful and Powerless- \nMarch 28th 7:00-8:30 PM – Cycle of Gospel Living: \nREGISTER NOW \n Tues Feb 28th Jesus’s Encounters with the Powerful and Powerless- \n\n\n\nreflect on biblical stories of Jesus’s encounter with the powerful and powerless people of his time.\nexplore what the Gospel calls you to do about the power difference in your own context\n\n\n\nTues March 28th – Cycle of Gospel Living: \n\n\n\nLearn where you are in the Cycle of Gospel Living and what you are called to do to create a justice community.\nConnect the themes of cross and resurrection to your life and justice-seeking.\n\n\n\n You can attend just one\, but we encourage you to participate in both sessions. \n To register go to: Lent 2023: Faith and Justice Series (CHURCHx.ca) \nSessions developed by the Kaleidoscope Institute (www.kscopeinstitute.org)  \nFacilitated by Thérèse Samuel and members of the Discipleship and Justice Commissions. \nHosted by Antler River Watershed\, Horseshoe Falls and Western Ontario Waterways Regional Councils
URL:https://arwrcucc.ca/event/lent-2023-faith-justice-series-2/
LOCATION:Online via Zoom
CATEGORIES:CHURCHx,Community,Event,Learning Opportunity,Lent Series,Online Gathering,Registration,Social Justice
ATTACH;FMTTYPE=image/png:https://arwrcucc.ca/wp-content/uploads/2023/01/ULIX6000FaithandJustice_Course.png
END:VEVENT
BEGIN:VEVENT
DTSTART;TZID=America/Toronto:20230321T140000
DTEND;TZID=America/Toronto:20230321T150000
DTSTAMP:20260420T220223
CREATED:20230309T170509Z
LAST-MODIFIED:20230309T170509Z
UID:9807-1679407200-1679410800@arwrcucc.ca
SUMMARY:Online Clergy Gathering
DESCRIPTION:You are invited to gather with colleagues in ministry for a time of conversation and information sharing. \nCome for this time of fellowship and support. \nWatch your emails for the Zoom link.
URL:https://arwrcucc.ca/event/online-clergy-gathering-4/
LOCATION:Online via Zoom
CATEGORIES:Clergy Gathering,Community,Event,Learning Opportunity,Ministry Personnel,Online Gathering
ATTACH;FMTTYPE=image/png:https://arwrcucc.ca/wp-content/uploads/2023/01/clergy-gathering-online-meetings-1.png
ORGANIZER;CN="Kevin Steeper":MAILTO:mailto:KSteeper@united-church.ca
END:VEVENT
BEGIN:VEVENT
DTSTART;TZID=America/Toronto:20230320T123000
DTEND;TZID=America/Toronto:20230320T143000
DTSTAMP:20260420T220223
CREATED:20230216T211627Z
LAST-MODIFIED:20230216T211627Z
UID:9770-1679315400-1679322600@arwrcucc.ca
SUMMARY:Children & Youth Ministry Supports
DESCRIPTION:Children and Youth Ministry Supports\nDate: Monday\, March 20\, 12:30-2:30 pm\nFloradale Mennonite Church\, 2 Florapine Road.\, Floradale\, Ontario (on lower level) \nSnacks provided! \nThis is an IN-PERSON opportunity to connect and learn from each other. Here\, we share what is working and where the challenges are arising. These gatherings hope to offer support to those in this important ministry with children and youth. \nHosted by Kelly Moores\, Children’s Coordinator at Trinity United Church in Elmira. \n\nAn opportunity to connect and learn from each other.\nHere\, we share what is working and where the challenges are arising.\nThese gatherings hope to offer support to those in this important ministry with children and youth.\n\n——————————————————————————————————————- \nContact Kathy Douglas (she/her)  KDouglas@united-church.ca \nFaith Formation Minister\, ARW\, HF\, WOW Regional Councils \nPurpose of these gatherings \n\nConnect with others doing Children and Youth Ministry\nShare resources\, ideas and struggles\nA shared moment of Faith Practice
URL:https://arwrcucc.ca/event/children-youth-ministry-supports/
LOCATION:Floradale Mennonite Church\, 2 Florapine Road\, Floradale\, Ontario\, Canada
CATEGORIES:Affirming,Camps & Retreats,Community,Event,Events,Kids and Youth,Learning Opportunity,Meeting,Speakers
END:VEVENT
BEGIN:VEVENT
DTSTART;TZID=America/Toronto:20230320T093000
DTEND;TZID=America/Toronto:20230320T113000
DTSTAMP:20260420T220223
CREATED:20230105T161902Z
LAST-MODIFIED:20230105T161902Z
UID:9511-1679304600-1679311800@arwrcucc.ca
SUMMARY:Regional Council Staff Meeting
DESCRIPTION:
URL:https://arwrcucc.ca/event/regional-council-staff-meeting-26/
LOCATION:Online via Zoom
CATEGORIES:Event,Meeting
END:VEVENT
BEGIN:VEVENT
DTSTART;TZID=America/Toronto:20230314T190000
DTEND;TZID=America/Toronto:20230314T203000
DTSTAMP:20260420T220223
CREATED:20230213T165357Z
LAST-MODIFIED:20230213T173529Z
UID:9726-1678820400-1678825800@arwrcucc.ca
SUMMARY:PIE Day Workshop - Ozhawa Anung Kweon
DESCRIPTION:UPCOMING PIE DAY WORKSHOP:\n\n\nFeat. Special Guest Speaker:\n\n\nOzhawa Anung Kweon\n\nTuesday\, March 14th – 7-8:30pm EDT ONLINE EVENT 🏳️‍🌈🏳️‍⚧️\n\n\nREGISTER HERE 👇\n\nhttps://shiningwatersregionalcouncil.ca/justice/pie-day-registration/
URL:https://arwrcucc.ca/event/pie-day-workshop-ozhawa-anung-kweon/
LOCATION:Online via Zoom
CATEGORIES:2SLGBTQIA,Affirming,Anti-Racism,Event,Indigenous Justice,Learning Opportunity,Online Gathering,PIE Day,Speakers
ATTACH;FMTTYPE=image/png:https://arwrcucc.ca/wp-content/uploads/2023/02/pieday2023event.png
END:VEVENT
BEGIN:VEVENT
DTSTART;TZID=America/Toronto:20230309T100000
DTEND;TZID=America/Toronto:20230309T100000
DTSTAMP:20260420T220223
CREATED:20221212T165630Z
LAST-MODIFIED:20221212T165630Z
UID:9343-1678356000-1678356000@arwrcucc.ca
SUMMARY:ARW Discipleship & Justice Meeting
DESCRIPTION:
URL:https://arwrcucc.ca/event/arw-discipleship-justice-meeting-2/
LOCATION:Online via Zoom
CATEGORIES:Meeting
END:VEVENT
BEGIN:VEVENT
DTSTART;TZID=America/Toronto:20230308T190000
DTEND;TZID=America/Toronto:20230308T201500
DTSTAMP:20260420T220223
CREATED:20230215T193301Z
LAST-MODIFIED:20230215T195111Z
UID:9751-1678302000-1678306500@arwrcucc.ca
SUMMARY:Easter Round Table - Children and Youth Ministry
DESCRIPTION:CHILDREN AND YOUTH MINISTRY ROUNDTABLE:\n“We Are Not Alone” in Children and Youth Ministry.\n\nLet us SHARE\n\n\nOne Topic offered at two different times\n\nEaster Round Table \n\nSharing: Easter Round Table – Projects and Programs\n\n\n \n\n\nMonday\, March 6 at 1:15-2:30pm EDT \n\n\nAnd/Or \n\n\nWednesday\, March 8 at 7-8:15pm EDT\n\n\n \n\n\nSharing ideas and challenges\n\n\nCome prepared to share your ideas and/or listen to others \n\n\nContact Kathy Douglas for ZOOM link\n\n\nkdouglas@united-church.ca
URL:https://arwrcucc.ca/event/easter-round-table-children-and-youth-ministry-2/
LOCATION:Online via Zoom
CATEGORIES:Community,Event,Events,Kids and Youth,Learning Opportunity,Meeting,Online Gathering
ATTACH;FMTTYPE=image/png:https://arwrcucc.ca/wp-content/uploads/2023/02/We-Are-Not-Alone-in-Children-and-Youth-Ministry.-Let-us-SHARE-One-Topic-offered-at-two-different-times-Easter-Round-Table-Sharing-ideas-and-challenges-Come-prepared-to-share-your-ideas-andor-listen-to-oth.png
ORGANIZER;CN="Kathy Douglas":MAILTO:kdouglas@united-church.ca
END:VEVENT
END:VCALENDAR