BEGIN:VCALENDAR
VERSION:2.0
PRODID:-//Antler River Watershed Regional Council - ECPv6.15.20//NONSGML v1.0//EN
CALSCALE:GREGORIAN
METHOD:PUBLISH
X-WR-CALNAME:Antler River Watershed Regional Council
X-ORIGINAL-URL:https://arwrcucc.ca
X-WR-CALDESC:Events for Antler River Watershed Regional Council
REFRESH-INTERVAL;VALUE=DURATION:PT1H
X-Robots-Tag:noindex
X-PUBLISHED-TTL:PT1H
BEGIN:VTIMEZONE
TZID:America/Toronto
BEGIN:DAYLIGHT
TZOFFSETFROM:-0500
TZOFFSETTO:-0400
TZNAME:EDT
DTSTART:20220313T070000
END:DAYLIGHT
BEGIN:STANDARD
TZOFFSETFROM:-0400
TZOFFSETTO:-0500
TZNAME:EST
DTSTART:20221106T060000
END:STANDARD
BEGIN:DAYLIGHT
TZOFFSETFROM:-0500
TZOFFSETTO:-0400
TZNAME:EDT
DTSTART:20230312T070000
END:DAYLIGHT
BEGIN:STANDARD
TZOFFSETFROM:-0400
TZOFFSETTO:-0500
TZNAME:EST
DTSTART:20231105T060000
END:STANDARD
BEGIN:DAYLIGHT
TZOFFSETFROM:-0500
TZOFFSETTO:-0400
TZNAME:EDT
DTSTART:20240310T070000
END:DAYLIGHT
BEGIN:STANDARD
TZOFFSETFROM:-0400
TZOFFSETTO:-0500
TZNAME:EST
DTSTART:20241103T060000
END:STANDARD
END:VTIMEZONE
BEGIN:VEVENT
DTSTART;VALUE=DATE:20230409
DTEND;VALUE=DATE:20230410
DTSTAMP:20260421T011100
CREATED:20221212T184035Z
LAST-MODIFIED:20221212T184050Z
UID:9386-1680998400-1681084799@arwrcucc.ca
SUMMARY:Easter
DESCRIPTION:
URL:https://arwrcucc.ca/event/easter-2/
CATEGORIES:Holiday
END:VEVENT
BEGIN:VEVENT
DTSTART;VALUE=DATE:20230407
DTEND;VALUE=DATE:20230408
DTSTAMP:20260421T011100
CREATED:20221212T175207Z
LAST-MODIFIED:20221212T175207Z
UID:9360-1680825600-1680911999@arwrcucc.ca
SUMMARY:Good Friday
DESCRIPTION:Regional Office Closed
URL:https://arwrcucc.ca/event/good-friday-2/
CATEGORIES:Holiday
END:VEVENT
BEGIN:VEVENT
DTSTART;TZID=America/Toronto:20230403T093000
DTEND;TZID=America/Toronto:20230403T113000
DTSTAMP:20260421T011100
CREATED:20230105T162000Z
LAST-MODIFIED:20230105T162000Z
UID:9513-1680514200-1680521400@arwrcucc.ca
SUMMARY:Regional Council Staff Meeting
DESCRIPTION:
URL:https://arwrcucc.ca/event/regional-council-staff-meeting-27/
LOCATION:Online via Zoom
CATEGORIES:Event,Meeting
END:VEVENT
BEGIN:VEVENT
DTSTART;TZID=America/Toronto:20230328T190000
DTEND;TZID=America/Toronto:20230328T203000
DTSTAMP:20260421T011100
CREATED:20230120T171316Z
LAST-MODIFIED:20230120T171316Z
UID:9622-1680030000-1680035400@arwrcucc.ca
SUMMARY:Lent 2023 – Faith & Justice Series
DESCRIPTION:LENT 2023 FAITH AND JUSTICE SERIES\nNourish your spirit with Justice-Seeking Tuesdays in Lent. \nFeb 28th 7:00-8:30 PM Jesus’s Encounters with the Powerful and Powerless- \nMarch 28th 7:00-8:30 PM – Cycle of Gospel Living: \nREGISTER NOW \n Tues Feb 28th Jesus’s Encounters with the Powerful and Powerless- \n\n\n\nreflect on biblical stories of Jesus’s encounter with the powerful and powerless people of his time.\nexplore what the Gospel calls you to do about the power difference in your own context\n\n\n\nTues March 28th – Cycle of Gospel Living: \n\n\n\nLearn where you are in the Cycle of Gospel Living and what you are called to do to create a justice community.\nConnect the themes of cross and resurrection to your life and justice-seeking.\n\n\n\n You can attend just one\, but we encourage you to participate in both sessions. \n To register go to: Lent 2023: Faith and Justice Series (CHURCHx.ca) \nSessions developed by the Kaleidoscope Institute (www.kscopeinstitute.org)  \nFacilitated by Thérèse Samuel and members of the Discipleship and Justice Commissions. \nHosted by Antler River Watershed\, Horseshoe Falls and Western Ontario Waterways Regional Councils
URL:https://arwrcucc.ca/event/lent-2023-faith-justice-series-2/
LOCATION:Online via Zoom
CATEGORIES:CHURCHx,Community,Event,Learning Opportunity,Lent Series,Online Gathering,Registration,Social Justice
ATTACH;FMTTYPE=image/png:https://arwrcucc.ca/wp-content/uploads/2023/01/ULIX6000FaithandJustice_Course.png
END:VEVENT
BEGIN:VEVENT
DTSTART;TZID=America/Toronto:20230321T140000
DTEND;TZID=America/Toronto:20230321T150000
DTSTAMP:20260421T011100
CREATED:20230309T170509Z
LAST-MODIFIED:20230309T170509Z
UID:9807-1679407200-1679410800@arwrcucc.ca
SUMMARY:Online Clergy Gathering
DESCRIPTION:You are invited to gather with colleagues in ministry for a time of conversation and information sharing. \nCome for this time of fellowship and support. \nWatch your emails for the Zoom link.
URL:https://arwrcucc.ca/event/online-clergy-gathering-4/
LOCATION:Online via Zoom
CATEGORIES:Clergy Gathering,Community,Event,Learning Opportunity,Ministry Personnel,Online Gathering
ATTACH;FMTTYPE=image/png:https://arwrcucc.ca/wp-content/uploads/2023/01/clergy-gathering-online-meetings-1.png
ORGANIZER;CN="Kevin Steeper":MAILTO:mailto:KSteeper@united-church.ca
END:VEVENT
BEGIN:VEVENT
DTSTART;TZID=America/Toronto:20230320T123000
DTEND;TZID=America/Toronto:20230320T143000
DTSTAMP:20260421T011100
CREATED:20230216T211627Z
LAST-MODIFIED:20230216T211627Z
UID:9770-1679315400-1679322600@arwrcucc.ca
SUMMARY:Children & Youth Ministry Supports
DESCRIPTION:Children and Youth Ministry Supports\nDate: Monday\, March 20\, 12:30-2:30 pm\nFloradale Mennonite Church\, 2 Florapine Road.\, Floradale\, Ontario (on lower level) \nSnacks provided! \nThis is an IN-PERSON opportunity to connect and learn from each other. Here\, we share what is working and where the challenges are arising. These gatherings hope to offer support to those in this important ministry with children and youth. \nHosted by Kelly Moores\, Children’s Coordinator at Trinity United Church in Elmira. \n\nAn opportunity to connect and learn from each other.\nHere\, we share what is working and where the challenges are arising.\nThese gatherings hope to offer support to those in this important ministry with children and youth.\n\n——————————————————————————————————————- \nContact Kathy Douglas (she/her)  KDouglas@united-church.ca \nFaith Formation Minister\, ARW\, HF\, WOW Regional Councils \nPurpose of these gatherings \n\nConnect with others doing Children and Youth Ministry\nShare resources\, ideas and struggles\nA shared moment of Faith Practice
URL:https://arwrcucc.ca/event/children-youth-ministry-supports/
LOCATION:Floradale Mennonite Church\, 2 Florapine Road\, Floradale\, Ontario\, Canada
CATEGORIES:Affirming,Camps & Retreats,Community,Event,Events,Kids and Youth,Learning Opportunity,Meeting,Speakers
END:VEVENT
BEGIN:VEVENT
DTSTART;TZID=America/Toronto:20230320T093000
DTEND;TZID=America/Toronto:20230320T113000
DTSTAMP:20260421T011100
CREATED:20230105T161902Z
LAST-MODIFIED:20230105T161902Z
UID:9511-1679304600-1679311800@arwrcucc.ca
SUMMARY:Regional Council Staff Meeting
DESCRIPTION:
URL:https://arwrcucc.ca/event/regional-council-staff-meeting-26/
LOCATION:Online via Zoom
CATEGORIES:Event,Meeting
END:VEVENT
BEGIN:VEVENT
DTSTART;TZID=America/Toronto:20230314T190000
DTEND;TZID=America/Toronto:20230314T203000
DTSTAMP:20260421T011100
CREATED:20230213T165357Z
LAST-MODIFIED:20230213T173529Z
UID:9726-1678820400-1678825800@arwrcucc.ca
SUMMARY:PIE Day Workshop - Ozhawa Anung Kweon
DESCRIPTION:UPCOMING PIE DAY WORKSHOP:\n\n\nFeat. Special Guest Speaker:\n\n\nOzhawa Anung Kweon\n\nTuesday\, March 14th – 7-8:30pm EDT ONLINE EVENT 🏳️‍🌈🏳️‍⚧️\n\n\nREGISTER HERE 👇\n\nhttps://shiningwatersregionalcouncil.ca/justice/pie-day-registration/
URL:https://arwrcucc.ca/event/pie-day-workshop-ozhawa-anung-kweon/
LOCATION:Online via Zoom
CATEGORIES:2SLGBTQIA,Affirming,Anti-Racism,Event,Indigenous Justice,Learning Opportunity,Online Gathering,PIE Day,Speakers
ATTACH;FMTTYPE=image/png:https://arwrcucc.ca/wp-content/uploads/2023/02/pieday2023event.png
END:VEVENT
BEGIN:VEVENT
DTSTART;TZID=America/Toronto:20230309T100000
DTEND;TZID=America/Toronto:20230309T100000
DTSTAMP:20260421T011100
CREATED:20221212T165630Z
LAST-MODIFIED:20221212T165630Z
UID:9343-1678356000-1678356000@arwrcucc.ca
SUMMARY:ARW Discipleship & Justice Meeting
DESCRIPTION:
URL:https://arwrcucc.ca/event/arw-discipleship-justice-meeting-2/
LOCATION:Online via Zoom
CATEGORIES:Meeting
END:VEVENT
BEGIN:VEVENT
DTSTART;TZID=America/Toronto:20230308T190000
DTEND;TZID=America/Toronto:20230308T201500
DTSTAMP:20260421T011100
CREATED:20230215T193301Z
LAST-MODIFIED:20230215T195111Z
UID:9751-1678302000-1678306500@arwrcucc.ca
SUMMARY:Easter Round Table - Children and Youth Ministry
DESCRIPTION:CHILDREN AND YOUTH MINISTRY ROUNDTABLE:\n“We Are Not Alone” in Children and Youth Ministry.\n\nLet us SHARE\n\n\nOne Topic offered at two different times\n\nEaster Round Table \n\nSharing: Easter Round Table – Projects and Programs\n\n\n \n\n\nMonday\, March 6 at 1:15-2:30pm EDT \n\n\nAnd/Or \n\n\nWednesday\, March 8 at 7-8:15pm EDT\n\n\n \n\n\nSharing ideas and challenges\n\n\nCome prepared to share your ideas and/or listen to others \n\n\nContact Kathy Douglas for ZOOM link\n\n\nkdouglas@united-church.ca
URL:https://arwrcucc.ca/event/easter-round-table-children-and-youth-ministry-2/
LOCATION:Online via Zoom
CATEGORIES:Community,Event,Events,Kids and Youth,Learning Opportunity,Meeting,Online Gathering
ATTACH;FMTTYPE=image/png:https://arwrcucc.ca/wp-content/uploads/2023/02/We-Are-Not-Alone-in-Children-and-Youth-Ministry.-Let-us-SHARE-One-Topic-offered-at-two-different-times-Easter-Round-Table-Sharing-ideas-and-challenges-Come-prepared-to-share-your-ideas-andor-listen-to-oth.png
ORGANIZER;CN="Kathy Douglas":MAILTO:kdouglas@united-church.ca
END:VEVENT
BEGIN:VEVENT
DTSTART;TZID=America/Toronto:20230307T100000
DTEND;TZID=America/Toronto:20230307T100000
DTSTAMP:20260421T011100
CREATED:20221107T174052Z
LAST-MODIFIED:20221222T203249Z
UID:9165-1678183200-1678183200@arwrcucc.ca
SUMMARY:ANTIRACISM and the UNITED CHURCH Intensive Workshop in 2023 (online)
DESCRIPTION:Register Now for ANTIRACISM and the UNITED CHURCHIntensive Workshop in 2023 (online) \nPart 1: Antiracism Workshop with Selam Debs. Feb 7\, 2023\, 10:00-11:30 AM ESTPart 2: Antiracism and the UCC with Rev. Alcris Limongi March 7\, 2023\, 10:00 AM EST \nThis workshop is brought to you by Antler River Watershed\, Horseshoe Falls and Western Ontario Waterways Regional Councils\, and the three regions have covered all costs. \nIf you have any questions about this workshop or your readiness to participate in it\, contact Thérèse Samuel at tsamuel@united-church.ca. \nFor more information about Antiracism and The United Church\, and to register go to: https://catalog.churchx.ca/product?catalog=UILX1150
URL:https://arwrcucc.ca/event/antiracism-and-the-united-church-intensive-workshop-in-2023-online-2/
LOCATION:Online via Zoom
CATEGORIES:Anti-Racism,Community,Event,Learning Opportunity,Online Gathering,Social Justice,Speakers
ATTACH;FMTTYPE=image/png:https://arwrcucc.ca/wp-content/uploads/2022/11/1.png
END:VEVENT
BEGIN:VEVENT
DTSTART;TZID=America/Toronto:20230306T184500
DTEND;TZID=America/Toronto:20230306T200000
DTSTAMP:20260421T011100
CREATED:20230216T204024Z
LAST-MODIFIED:20230216T204116Z
UID:9762-1678128300-1678132800@arwrcucc.ca
SUMMARY:Music Ministry with Ron Klusmeier
DESCRIPTION:Music Ministry Gathering\nMonday\, March 6\, 2023\n6:45 pm – 8:00 pm \nAn Evening with Ron Klusmeier \nJoin Zoom Meeting\nhttps://united-church.zoom.us/j/81785146010 \n• Come and share and learn\n• Come and connect with music ministry leaders\n• Come and share your celebrations and struggles \n  \nContacts: Jeffrey Dale (jdale@united-church.ca)\n& Kathy Douglas (kdouglas@united-church.ca)\nRegional Faith Formation Staff\nShining Waters\, Antler River Watershed\, Horseshoe Falls\nand Western Ontario Waterways RC
URL:https://arwrcucc.ca/event/music-ministry-with-ron-klusmeier/
LOCATION:Online via Zoom
CATEGORIES:Community,Event,Events,Learning Opportunity,Music,Online Gathering,Speakers
ATTACH;FMTTYPE=image/png:https://arwrcucc.ca/wp-content/uploads/2023/02/musicminstrygraphic.png
END:VEVENT
BEGIN:VEVENT
DTSTART;TZID=America/Toronto:20230306T131500
DTEND;TZID=America/Toronto:20230306T143000
DTSTAMP:20260421T011100
CREATED:20230215T193219Z
LAST-MODIFIED:20230215T193219Z
UID:9748-1678108500-1678113000@arwrcucc.ca
SUMMARY:Easter Round Table - Children and Youth Ministry
DESCRIPTION:CHILDREN AND YOUTH MINISTRY ROUNDTABLE:\n“We Are Not Alone” in Children and Youth Ministry.\n\nLet us SHARE\n\n\nOne Topic offered at two different times\n\nEaster Round Table \n\nSharing: Easter Round Table – Projects and Programs\n\n\n \n\n\nMonday\, March 6 at 1:15-2:30pm EDT \n\n\nAnd/Or \n\n\nWednesday\, March 8 at 7-8:15pm EDT\n\n\n \n\n\nSharing ideas and challenges\n\n\nCome prepared to share your ideas and/or listen to others \n\n\nContact Kathy Douglas for ZOOM link\n\n\nkdouglas@united-church.ca
URL:https://arwrcucc.ca/event/easter-round-table-children-and-youth-ministry/
LOCATION:Online via Zoom
CATEGORIES:Community,Event,Events,Kids and Youth,Learning Opportunity,Meeting,Online Gathering
ATTACH;FMTTYPE=image/png:https://arwrcucc.ca/wp-content/uploads/2023/02/We-Are-Not-Alone-in-Children-and-Youth-Ministry.-Let-us-SHARE-One-Topic-offered-at-two-different-times-Easter-Round-Table-Sharing-ideas-and-challenges-Come-prepared-to-share-your-ideas-andor-listen-to-oth.png
END:VEVENT
BEGIN:VEVENT
DTSTART;TZID=America/Toronto:20230306T093000
DTEND;TZID=America/Toronto:20230306T113000
DTSTAMP:20260421T011100
CREATED:20230105T161825Z
LAST-MODIFIED:20230105T161825Z
UID:9509-1678095000-1678102200@arwrcucc.ca
SUMMARY:Regional Council Staff Meeting
DESCRIPTION:
URL:https://arwrcucc.ca/event/regional-council-staff-meeting-25/
LOCATION:Online via Zoom
CATEGORIES:Event,Meeting
END:VEVENT
BEGIN:VEVENT
DTSTART;TZID=America/Toronto:20230228T190000
DTEND;TZID=America/Toronto:20230228T203000
DTSTAMP:20260421T011100
CREATED:20230120T171248Z
LAST-MODIFIED:20230120T171248Z
UID:9620-1677610800-1677616200@arwrcucc.ca
SUMMARY:Lent 2023 – Faith & Justice Series
DESCRIPTION:LENT 2023 FAITH AND JUSTICE SERIES\nNourish your spirit with Justice-Seeking Tuesdays in Lent. \nFeb 28th 7:00-8:30 PM Jesus’s Encounters with the Powerful and Powerless- \nMarch 28th 7:00-8:30 PM – Cycle of Gospel Living: \nREGISTER NOW \n Tues Feb 28th Jesus’s Encounters with the Powerful and Powerless- \n\n\n\nreflect on biblical stories of Jesus’s encounter with the powerful and powerless people of his time.\nexplore what the Gospel calls you to do about the power difference in your own context\n\n\n\nTues March 28th – Cycle of Gospel Living: \n\n\n\nLearn where you are in the Cycle of Gospel Living and what you are called to do to create a justice community.\nConnect the themes of cross and resurrection to your life and justice-seeking.\n\n\n\n You can attend just one\, but we encourage you to participate in both sessions. \n To register go to: Lent 2023: Faith and Justice Series (CHURCHx.ca) \nSessions developed by the Kaleidoscope Institute (www.kscopeinstitute.org)  \nFacilitated by Thérèse Samuel and members of the Discipleship and Justice Commissions. \nHosted by Antler River Watershed\, Horseshoe Falls and Western Ontario Waterways Regional Councils
URL:https://arwrcucc.ca/event/lent-2023-faith-justice-series/
LOCATION:Online via Zoom
CATEGORIES:CHURCHx,Community,Event,Learning Opportunity,Lent Series,Online Gathering,Registration,Social Justice
ATTACH;FMTTYPE=image/png:https://arwrcucc.ca/wp-content/uploads/2023/01/ULIX6000FaithandJustice_Course.png
END:VEVENT
BEGIN:VEVENT
DTSTART;TZID=America/Toronto:20230221T190000
DTEND;TZID=America/Toronto:20230221T210000
DTSTAMP:20260421T011100
CREATED:20230216T203055Z
LAST-MODIFIED:20230216T203055Z
UID:9759-1677006000-1677013200@arwrcucc.ca
SUMMARY:Search Team Training
DESCRIPTION:Search Team Trainings \nDATE: February 21\, 7:00 – 9:00 pm \nIs you community of faith about to look for a minister? If it’s been a while since your church did this\, then you need a place to start! Even if you have done this recently this training will keep you up-to-date with the changes in requirements. Search Team Training takes place on the second Tuesday (usually*) of the month from 7:00 pm to 9:00 p.m. online by Zoom. Your team will get the most out of this training if you attend on the the same date. \nThe next three dates for Search Team trainings are:\nFebruary 21\, 7:00 – 9:00 pm*\nMarch 14\, 7:00 – 9:00 pm\nApril 11\, 7:00 – 9:00 pm\nRegister here. If you have questions about the content\, please email Micol Cottrell\, Minister\, Pastoral Relations\, at MCottrell@united-church.ca\, or better yet\, write down your questions and bring them with you!
URL:https://arwrcucc.ca/event/search-team-training/
LOCATION:Online via Zoom
CATEGORIES:Community,Event,Events,Learning Opportunity,Meeting,Online Gathering,Training
ORGANIZER;CN="Micol Cottrell":MAILTO:MCottrell@united-church.ca
END:VEVENT
BEGIN:VEVENT
DTSTART;TZID=America/Toronto:20230221T130000
DTEND;TZID=America/Toronto:20230221T150000
DTSTAMP:20260421T011100
CREATED:20230216T205444Z
LAST-MODIFIED:20230216T205444Z
UID:9766-1676984400-1676991600@arwrcucc.ca
SUMMARY:Getting Started in Stewardship
DESCRIPTION:Getting Started in Stewardship\nDate: Tuesday\, February 21\, 1:00 pm ET\nPart of the Called to be the Church: The Journey program \nJoin United Church people from across the country to learn some stewardship first principles. Start with an online 2-hour course on Zoom that answers questions like: \nWhat is stewardship all about anyway?\nIsn’t stewardship just a churchy word for fundraising?\nWhy do people give\, and why would they give to our church?\nWhat can we do to encourage greater generosity?\nThe practical assignments that follow will help you reflect on giving and generosity as part of your faith\, gather and interpret some of the giving data from your community of faith\, and build a stewardship team in order to start making stewardship a priority in your community of faith. \nCompletion of this course is a great first step before participating in the Stewardship Best Practices course\, which will be offered this March. \nThis is the registration link. \nhttps://forms.office.com/pages/responsepage.aspx?id=qLUYz3gmEUCTEhXw9xV1dAO0ht3KpoFDrfiQuQ8iIvNUN1FCUVFVVVhENkRTS0dNU1ZVRVNDVlBFRy4u \nQuestions?  \nPlease contact Brenna Baker\, your Community of Faith Stewardship Support\, at bbaker@united-church.ca.
URL:https://arwrcucc.ca/event/getting-started-in-stewardship/
LOCATION:Online via Zoom
CATEGORIES:Community,Event,Events,Learning Opportunity,Online Gathering,Stewardship,Training
ORGANIZER;CN="Brenna Baker":MAILTO:BBaker@United-Church.ca
END:VEVENT
BEGIN:VEVENT
DTSTART;TZID=America/Toronto:20230221T120000
DTEND;TZID=America/Toronto:20230221T140000
DTSTAMP:20260421T011100
CREATED:20230124T201032Z
LAST-MODIFIED:20230202T201807Z
UID:9633-1676980800-1676988000@arwrcucc.ca
SUMMARY:ARW Clergy Luncheon
DESCRIPTION:The last three years in this pandemic have reminded us of the importance of being in relationship with one another and finding strength and hope in being in Christian community. In an effort to continue to build our relationships with one another you are invited to gather with colleagues in ministry from across the ARW Regional Council for a time of fellowship and conversation. Come as we gather around the table to share and break bread together.\n\nThe Rev. Kevin Steeper\nMinister\, Pastoral Support\n\n\nMore details:\nMenu: assorted wraps\, vegetable tray and dessert\nRegistration deadline: Feb. 17\, 2023\nContact: Kevin Steeper KSteeper@united-church.ca \n\n\n\n\nRegistration Now Open!\n\nClick here!
URL:https://arwrcucc.ca/event/arw-clergy-luncheon/
LOCATION:St. Andrew`s United Church\, 85 William Street S\,\, Chatham\, Ontario\, N7M 4S5\, Canada
CATEGORIES:Clergy Gathering,Community,Event,Ministry Personnel
ATTACH;FMTTYPE=image/png:https://arwrcucc.ca/wp-content/uploads/2023/01/ARWClergyLunch.png
END:VEVENT
BEGIN:VEVENT
DTSTART;VALUE=DATE:20230220
DTEND;VALUE=DATE:20230221
DTSTAMP:20260421T011100
CREATED:20221212T175106Z
LAST-MODIFIED:20221212T175243Z
UID:9358-1676851200-1676937599@arwrcucc.ca
SUMMARY:Family Day
DESCRIPTION:Regional Office Closed
URL:https://arwrcucc.ca/event/family-day/
CATEGORIES:Holiday
END:VEVENT
BEGIN:VEVENT
DTSTART;TZID=America/Toronto:20230211T130000
DTEND;TZID=America/Toronto:20230211T130000
DTSTAMP:20260421T011100
CREATED:20230207T191307Z
LAST-MODIFIED:20230207T191609Z
UID:9692-1676120400-1676120400@arwrcucc.ca
SUMMARY:UCW - Launch of Healing Fund Support
DESCRIPTION:Topic: UCW-WOW Launch of Healing Fund Support\nTime: Feb 11\, 2023 01:00 PM Eastern Time (US and Canada)\n\nJoin Zoom Meeting\nhttps://united-church.zoom.us/j/89314142952\n\n  \nBy Phone:\n\n                Dial +1-855-703-8985 Canada Toll-free\n\n            Enter Meeting ID: 893 1414 2952
URL:https://arwrcucc.ca/event/ucw-launch-of-healing-fund-support/
LOCATION:Online via Zoom
CATEGORIES:Community,Events,Indigenous Justice,Online Gathering,Regional Council,Social Justice,Speakers,Staff,UCW
ATTACH;FMTTYPE=image/png:https://arwrcucc.ca/wp-content/uploads/2023/02/UCW-WOW-Healing-Fund.png
END:VEVENT
BEGIN:VEVENT
DTSTART;TZID=America/Toronto:20230207T100000
DTEND;TZID=America/Toronto:20230207T113000
DTSTAMP:20260421T011100
CREATED:20221107T174019Z
LAST-MODIFIED:20221222T204205Z
UID:9162-1675764000-1675769400@arwrcucc.ca
SUMMARY:ANTIRACISM and the UNITED CHURCH Intensive Workshop in 2023 (online)
DESCRIPTION:Register Now for ANTIRACISM and the UNITED CHURCHIntensive Workshop in 2023 (online) \nPart 1: Antiracism Workshop with Selam Debs. Feb 7\, 2023\, 10:00-11:30 AM ESTPart 2: Antiracism and the UCC with Rev. Alcris Limongi March 7\, 2023\, 10:00 AM EST \nThis workshop is brought to you by Antler River Watershed\, Horseshoe Falls and Western Ontario Waterways Regional Councils\, and the three regions have covered all costs. \nIf you have any questions about this workshop or your readiness to participate in it\, contact Thérèse Samuel at tsamuel@united-church.ca. \nFor more information about Antiracism and The United Church\, and to register go to: https://catalog.churchx.ca/product?catalog=UILX1150
URL:https://arwrcucc.ca/event/antiracism-and-the-united-church-intensive-workshop-in-2023-online/
LOCATION:Online via Zoom
CATEGORIES:Anti-Racism,Community,Event,Learning Opportunity,Online Gathering,Social Justice,Speakers
ATTACH;FMTTYPE=image/png:https://arwrcucc.ca/wp-content/uploads/2022/11/1.png
END:VEVENT
BEGIN:VEVENT
DTSTART;TZID=America/Toronto:20230206T093000
DTEND;TZID=America/Toronto:20230206T113000
DTSTAMP:20260421T011100
CREATED:20230105T161734Z
LAST-MODIFIED:20230105T161734Z
UID:9505-1675675800-1675683000@arwrcucc.ca
SUMMARY:Regional Council Staff Meeting
DESCRIPTION:
URL:https://arwrcucc.ca/event/regional-council-staff-meeting-23/
LOCATION:Online via Zoom
CATEGORIES:Event,Meeting
END:VEVENT
BEGIN:VEVENT
DTSTART;VALUE=DATE:20230203
DTEND;VALUE=DATE:20230206
DTSTAMP:20260421T011100
CREATED:20230120T174017Z
LAST-MODIFIED:20230131T205728Z
UID:9626-1675382400-1675641599@arwrcucc.ca
SUMMARY:Worshiplude - CANCELLED
DESCRIPTION:SPECIAL NOTE: Due to lack of transportation this event has been cancelled. \n\nInterested / Questions? Contact me asap. We hope to get a bus load. \nContact Kathy Douglas kdouglas@united-church.ca \nFor people in Grades 7 and up (must be accompanied by an adult leader) \nAll costs except for daily spending and meals will be covered. \n  \nRegister Now!
URL:https://arwrcucc.ca/event/worshiplude/
LOCATION:Rideau Park United Church\, 2203 Alta Vista Drive\, Ottawa\, Ontario\, K1H 7L9\, Canada
CATEGORIES:Affirming,Anti-Racism,Camps & Retreats,Community,Event,Kids and Youth,Learning Opportunity,Seasonal
ATTACH;FMTTYPE=image/jpeg:https://arwrcucc.ca/wp-content/uploads/2023/01/worshipludekda.jpg
ORGANIZER;CN="Kathy Douglas":MAILTO:kdouglas@united-church.ca
END:VEVENT
BEGIN:VEVENT
DTSTART;TZID=America/Toronto:20230124T140000
DTEND;TZID=America/Toronto:20230124T150000
DTSTAMP:20260421T011100
CREATED:20230116T164601Z
LAST-MODIFIED:20230116T164601Z
UID:9589-1674568800-1674572400@arwrcucc.ca
SUMMARY:Online Clergy Gathering
DESCRIPTION:You are invited to gather with colleagues in ministry for a time of conversation and information sharing. \nCome for this time of fellowship and support. \nWatch your emails for the Zoom link.
URL:https://arwrcucc.ca/event/online-clergy-gathering-3/
LOCATION:Online via Zoom
CATEGORIES:Clergy Gathering,Community,Event,Learning Opportunity,Ministry Personnel,Online Gathering
ATTACH;FMTTYPE=image/png:https://arwrcucc.ca/wp-content/uploads/2023/01/clergy-gathering-online-meetings-1.png
END:VEVENT
BEGIN:VEVENT
DTSTART;TZID=America/Toronto:20230123T093000
DTEND;TZID=America/Toronto:20230123T113000
DTSTAMP:20260421T011100
CREATED:20230105T161656Z
LAST-MODIFIED:20230105T161656Z
UID:9503-1674466200-1674473400@arwrcucc.ca
SUMMARY:Regional Council Staff Meeting
DESCRIPTION:
URL:https://arwrcucc.ca/event/regional-council-staff-meeting-22/
LOCATION:Online via Zoom
CATEGORIES:Event,Meeting
END:VEVENT
BEGIN:VEVENT
DTSTART;TZID=America/Toronto:20230111T190000
DTEND;TZID=America/Toronto:20230111T203000
DTSTAMP:20260421T011100
CREATED:20221208T190521Z
LAST-MODIFIED:20221209T213703Z
UID:9310-1673463600-1673469000@arwrcucc.ca
SUMMARY:Deficit Dilemma Workshop
DESCRIPTION:Struggling to Balance the Budget?\nWednesday\, January 11 from 7:00 to 8:30 pm\n\n\n\n\n\n\n\n\n\n\n\n\n\n\n\n\nAre You Anxious about Finances?\nBut Curious about Options to Increase Revenue and Reduce Expenses?\n\n\n\n\n\n\n\n\n\n\n\n\n\n\n\n\n\n\n\n\n\n\n\n\n\n\nThen join us by Zoom for the \nDeficit Dilemma Workshop\nTopics will include:\n\nPlanning ahead\,\nOptions to help balance your church operating budget\,\nAvailable resources\,\nQuestions and answers\n\nTo receive the Zoom link\, please send an email to Lynne Allin.\n\n\n\n\n\n\n\n\n\n\n\n\n\n\n\n\n\n\n\n\nThis workshop is hosted by John Neff\, Minister\, Congregational Support\, Lynne Allin\, Minister\, Congregational Support and Brenna Baker\, Community of Faith Stewardship Support.
URL:https://arwrcucc.ca/event/deficit-dilemma-workshop/
LOCATION:Online via Zoom
CATEGORIES:Community,Events,Learning Opportunity,Online Gathering,Regional Council
END:VEVENT
BEGIN:VEVENT
DTSTART;TZID=America/Toronto:20230110T100000
DTEND;TZID=America/Toronto:20230110T100000
DTSTAMP:20260421T011100
CREATED:20221212T165549Z
LAST-MODIFIED:20221212T165549Z
UID:9341-1673344800-1673344800@arwrcucc.ca
SUMMARY:ARW Discipleship & Justice Meeting
DESCRIPTION:
URL:https://arwrcucc.ca/event/arw-discipleship-justice-meeting/
LOCATION:Online via Zoom
CATEGORIES:Meeting
END:VEVENT
BEGIN:VEVENT
DTSTART;TZID=America/Toronto:20230109T093000
DTEND;TZID=America/Toronto:20230109T113000
DTSTAMP:20260421T011100
CREATED:20230105T161636Z
LAST-MODIFIED:20230105T161636Z
UID:9501-1673256600-1673263800@arwrcucc.ca
SUMMARY:Regional Council Staff Meeting
DESCRIPTION:
URL:https://arwrcucc.ca/event/regional-council-staff-meeting-6/
LOCATION:Online via Zoom
CATEGORIES:Event,Meeting
END:VEVENT
BEGIN:VEVENT
DTSTART;VALUE=DATE:20230102
DTEND;VALUE=DATE:20230103
DTSTAMP:20260421T011100
CREATED:20221212T195901Z
LAST-MODIFIED:20221212T195901Z
UID:9396-1672617600-1672703999@arwrcucc.ca
SUMMARY:Office Closure re: New Year's Day
DESCRIPTION:The Regional Council Office will be closed in lieu of New Year’s Day\, Sunday January 1st
URL:https://arwrcucc.ca/event/office-closure-re-new-years-day/
CATEGORIES:Holiday
END:VEVENT
BEGIN:VEVENT
DTSTART;VALUE=DATE:20230101
DTEND;VALUE=DATE:20230102
DTSTAMP:20260421T011100
CREATED:20221212T195751Z
LAST-MODIFIED:20221212T195751Z
UID:9394-1672531200-1672617599@arwrcucc.ca
SUMMARY:New Year's Day
DESCRIPTION:
URL:https://arwrcucc.ca/event/new-years-day/
CATEGORIES:Holiday
END:VEVENT
END:VCALENDAR