BEGIN:VCALENDAR
VERSION:2.0
PRODID:-//Antler River Watershed Regional Council - ECPv6.15.20//NONSGML v1.0//EN
CALSCALE:GREGORIAN
METHOD:PUBLISH
X-WR-CALNAME:Antler River Watershed Regional Council
X-ORIGINAL-URL:https://arwrcucc.ca
X-WR-CALDESC:Events for Antler River Watershed Regional Council
REFRESH-INTERVAL;VALUE=DURATION:PT1H
X-Robots-Tag:noindex
X-PUBLISHED-TTL:PT1H
BEGIN:VTIMEZONE
TZID:America/New_York
BEGIN:DAYLIGHT
TZOFFSETFROM:-0500
TZOFFSETTO:-0400
TZNAME:EDT
DTSTART:20230312T070000
END:DAYLIGHT
BEGIN:STANDARD
TZOFFSETFROM:-0400
TZOFFSETTO:-0500
TZNAME:EST
DTSTART:20231105T060000
END:STANDARD
BEGIN:DAYLIGHT
TZOFFSETFROM:-0500
TZOFFSETTO:-0400
TZNAME:EDT
DTSTART:20240310T070000
END:DAYLIGHT
BEGIN:STANDARD
TZOFFSETFROM:-0400
TZOFFSETTO:-0500
TZNAME:EST
DTSTART:20241103T060000
END:STANDARD
BEGIN:DAYLIGHT
TZOFFSETFROM:-0500
TZOFFSETTO:-0400
TZNAME:EDT
DTSTART:20250309T070000
END:DAYLIGHT
BEGIN:STANDARD
TZOFFSETFROM:-0400
TZOFFSETTO:-0500
TZNAME:EST
DTSTART:20251102T060000
END:STANDARD
END:VTIMEZONE
BEGIN:VTIMEZONE
TZID:America/Toronto
BEGIN:DAYLIGHT
TZOFFSETFROM:-0500
TZOFFSETTO:-0400
TZNAME:EDT
DTSTART:20230312T070000
END:DAYLIGHT
BEGIN:STANDARD
TZOFFSETFROM:-0400
TZOFFSETTO:-0500
TZNAME:EST
DTSTART:20231105T060000
END:STANDARD
BEGIN:DAYLIGHT
TZOFFSETFROM:-0500
TZOFFSETTO:-0400
TZNAME:EDT
DTSTART:20240310T070000
END:DAYLIGHT
BEGIN:STANDARD
TZOFFSETFROM:-0400
TZOFFSETTO:-0500
TZNAME:EST
DTSTART:20241103T060000
END:STANDARD
BEGIN:DAYLIGHT
TZOFFSETFROM:-0500
TZOFFSETTO:-0400
TZNAME:EDT
DTSTART:20250309T070000
END:DAYLIGHT
BEGIN:STANDARD
TZOFFSETFROM:-0400
TZOFFSETTO:-0500
TZNAME:EST
DTSTART:20251102T060000
END:STANDARD
END:VTIMEZONE
BEGIN:VEVENT
DTSTART;TZID=America/New_York:20240608T100000
DTEND;TZID=America/New_York:20240608T143000
DTSTAMP:20260419T172327
CREATED:20240131T163913Z
LAST-MODIFIED:20240318T142514Z
UID:13065-1717840800-1717857000@arwrcucc.ca
SUMMARY:The Day of Fellowship - Horseshoe Falls
DESCRIPTION:Register Now\n  \nSave the Date: \nThe Day of Fellowship will launch us into the year long Centenary Celebration of the United Church with Greetings from General Secretary\, The Rev. Michael Blair. \nRenewal and Transformation … A Season of Hope \nThe day will begin with Gathering at 10:00am \nMorning service 10:30am – 12:00 noon \nLunch Break 12:00 noon – 1:00pm \nAfternoon Session from 1-2:30pm (cultural expressions from around the region).
URL:https://arwrcucc.ca/event/the-day-of-fellowship-horseshoe-falls/
CATEGORIES:Community,Event,Festival,Learning Opportunity,Music,Regional Council,Speakers
ATTACH;FMTTYPE=image/png:https://arwrcucc.ca/wp-content/uploads/2024/01/DAYOFFELLOWSHIPHF-2.png
END:VEVENT
BEGIN:VEVENT
DTSTART;VALUE=DATE:20240607
DTEND;VALUE=DATE:20240609
DTSTAMP:20260419T172327
CREATED:20240408T194015Z
LAST-MODIFIED:20240408T195857Z
UID:13822-1717718400-1717891199@arwrcucc.ca
SUMMARY:Kids Across the Regions 2024
DESCRIPTION:Camp Bimini\, St. Paul’s\, Ontario (Google map) \nKids Across the Regions is a fun\, faith-filled weekend for children (in grades 4-8) from across the three regional councils of Antler River Watershed\, Western Ontario Waterways and Horseshoe Falls of The United Church of Canada! \nPlease note: your GPS and/or Google Maps will not lead you to the camp! Download a Camp Map and Directions\, Participant Letter\, Permission Form and Packing List.\nThese are also attached in the Confirmation Email once you submit your registration. \nKnowing that families have different financial realities\, we offer a Voluntary Three-Tier Pricing System. Participants can choose the tier that is most suitable for their family: $50\, $60\, $70 (closest to actual cost). There is no cost for Leaders. \nPayment is by E-Transfer to hfrc@united-church.ca. \nAPPLICATION DEADLINE: MAY 24th Your application\, signatures & payment are required to complete your registration. If you don’t receive a Confirmation Email after submitting the registration form please call Kathy Douglas at 519-441-0656 to confirm we have received your registration. \nRegister Now:\nEvent Leader Registration\n  \nChild Participant Registration
URL:https://arwrcucc.ca/event/kids-across-the-region-2024/
LOCATION:Camp Bimini\, 3180 Perth Road\, St. Paul’s\, Ontario\, N0K 1V0\, Canada
CATEGORIES:2SLGBTQIA,Affirming,Anti-Racism,Camps & Retreats,Community,Event,Kids and Youth,Learning Opportunity,Regional Council,Seasonal
ATTACH;FMTTYPE=image/png:https://arwrcucc.ca/wp-content/uploads/2024/04/KAR2024Header.png
END:VEVENT
BEGIN:VEVENT
DTSTART;VALUE=DATE:20240607
DTEND;VALUE=DATE:20240609
DTSTAMP:20260419T172327
CREATED:20240314T163540Z
LAST-MODIFIED:20240314T163540Z
UID:13599-1717718400-1717891199@arwrcucc.ca
SUMMARY:Kids Across the Region - The Amazing Grace
DESCRIPTION:
URL:https://arwrcucc.ca/event/kids-across-the-region-the-amazing-grace/
LOCATION:Camp Bimini\, 3180 Perth Road\, St. Paul’s\, Ontario\, N0K 1V0\, Canada
CATEGORIES:2SLGBTQIA,Affirming,Camps & Retreats,Climate Change,Community,Event,Kids and Youth
ATTACH;FMTTYPE=image/jpeg:https://arwrcucc.ca/wp-content/uploads/2024/03/kidsacrosstheregions2024.jpg
END:VEVENT
BEGIN:VEVENT
DTSTART;TZID=America/New_York:20240605T090000
DTEND;TZID=America/New_York:20240605T110000
DTSTAMP:20260419T172327
CREATED:20240603T180214Z
LAST-MODIFIED:20240603T180214Z
UID:14502-1717578000-1717585200@arwrcucc.ca
SUMMARY:ARW Congregational Support Commission
DESCRIPTION:
URL:https://arwrcucc.ca/event/arw-congregational-support-commission-4/
CATEGORIES:Meeting
END:VEVENT
BEGIN:VEVENT
DTSTART;TZID=America/Toronto:20240604T100000
DTEND;TZID=America/Toronto:20240604T100000
DTSTAMP:20260419T172327
CREATED:20240603T180022Z
LAST-MODIFIED:20240603T180022Z
UID:14500-1717495200-1717495200@arwrcucc.ca
SUMMARY:ARW Discipleship & Justice Meeting
DESCRIPTION:
URL:https://arwrcucc.ca/event/arw-discipleship-justice-meeting-13/
LOCATION:Online via Zoom
CATEGORIES:Meeting
END:VEVENT
BEGIN:VEVENT
DTSTART;TZID=America/Toronto:20240530T093000
DTEND;TZID=America/Toronto:20240530T113000
DTSTAMP:20260419T172327
CREATED:20240502T182014Z
LAST-MODIFIED:20240502T182014Z
UID:14117-1717061400-1717068600@arwrcucc.ca
SUMMARY:Regional Council Staff Meeting
DESCRIPTION:
URL:https://arwrcucc.ca/event/regional-council-staff-meeting-52/
LOCATION:Online via Zoom
CATEGORIES:Event,Meeting
END:VEVENT
BEGIN:VEVENT
DTSTART;TZID=America/New_York:20240524T100000
DTEND;TZID=America/New_York:20240524T120000
DTSTAMP:20260419T172327
CREATED:20240318T161127Z
LAST-MODIFIED:20240318T161223Z
UID:13642-1716544800-1716552000@arwrcucc.ca
SUMMARY:You can do hard things
DESCRIPTION:You can do hard things: \nHow to Preach on Stewardship and Talk about Money\n\nA workshop for ministry personnel and those who lead worship in their communities of faith.10am-12pm on Friday\, May 24 at Port Elgin United Church Stewardship\, like prayer\, worship\, or loving service\, is a critical aspect of our lives of faith. The Bible is chock full of passages about how money and wealth harm people and communities\, and how generosity liberates us from those corrupting influences. As preachers\, we have an amazing opportunity to tell people that they belong to God\, not their bank accounts\, and because of that\, they can make a difference by sharing their gifts. Yet so many of us avoid talking about money. The truth is\, whether or not we discuss it\, the people in our congregations are thinking about money all the time. How do I decide how much should I give? What should I spend it on? How do I raise generous kids and grand-kids? Whether they have a little or a lot\, money takes up a lot of spiritual and emotional space. So how can we deepen faith and generosity as spiritual leaders?\n\nIn this workshop\, participants will:\n\n\nProcess all the fears and worries around preaching on money (no\, you’re not just preaching for your salary!)\nLearn techniques for stewardship preaching that will encourage and inspire\nLook at some of Jesus’ messages on money and talk about the good news that could be used in a sermon.\nBe introduced to resources that can give you more confidence when talking about money and ministry\n\n For more information\, please contact your Stewardship Support Staff\, Brenna Baker\, at bbaker@united-church.ca\n\nPort Elgin United Church840 Bruce St\, Port Elgin\, ON N0H 2C2\nGoogle Map\n\nRegistration Link:\n\nhttps://regionalcouncil789.formstack.com/forms/you_can_do_hard_things
URL:https://arwrcucc.ca/event/you-can-do-hard-things/
CATEGORIES:Community,Event,Learning Opportunity,Meeting,Ministry Personnel,Speakers,Stewardship
ATTACH;FMTTYPE=image/jpeg:https://arwrcucc.ca/wp-content/uploads/2024/03/jeremy-lapak-CVvFVQ_-oUg-unsplash-scaled.jpg
END:VEVENT
BEGIN:VEVENT
DTSTART;VALUE=DATE:20240524
DTEND;VALUE=DATE:20240527
DTSTAMP:20260419T172327
CREATED:20240118T172708Z
LAST-MODIFIED:20240305T014448Z
UID:12774-1716508800-1716767999@arwrcucc.ca
SUMMARY:Save the Dates:  Spring 2024 Tri Regional Council Meeting
DESCRIPTION:Spring 2024 Tri-Regional Council Meeting \nREGISTER for the Tri-Regional Council Meeting\nTime will be designated for each individual Regional Council to meet separately. Each Regional Council will be electing their GC45 Commissioners\, President Elect and slate of Executive/Commission members.\nFriday May 24: 2 PM start & Friday evening The Right Rev. Dr. Carmen Lansdowne will speak\nSaturday\, May 25: All day. Includes Celebration of Ministries Service in the afternoon\nSunday\, May 26: 9 AM to Noon: Includes Honouring of Retirees\, Jubilands\, In Memoriam\, Community of Faith Life Cycle Changes
URL:https://arwrcucc.ca/event/save-the-dates-spring-2024-tri-regional-council-meeting/
CATEGORIES:2SLGBTQIA,Affirming,Anti-Racism,Camps & Retreats,Clergy Gathering,Climate Change,Community,Event,Indigenous Justice,Kids and Youth,Learning Opportunity,Meeting,Ministry Personnel,Mission Support Grants,Music,Online Gathering,Regional Council,Registration,Social Justice,Speakers,Staff,Stewardship,UCW
ATTACH;FMTTYPE=image/png:https://arwrcucc.ca/wp-content/uploads/2024/01/Tri-RCMeeting2024-2.png
END:VEVENT
BEGIN:VEVENT
DTSTART;TZID=America/New_York:20240522T160000
DTEND;TZID=America/New_York:20240522T160000
DTSTAMP:20260419T172327
CREATED:20240502T183254Z
LAST-MODIFIED:20240502T183254Z
UID:14137-1716393600-1716393600@arwrcucc.ca
SUMMARY:HF Regional Council Executive Meeting
DESCRIPTION:
URL:https://arwrcucc.ca/event/hf-regional-council-executive-meeting-7/
CATEGORIES:Meeting
END:VEVENT
BEGIN:VEVENT
DTSTART;TZID=America/Toronto:20240522T130000
DTEND;TZID=America/Toronto:20240522T130000
DTSTAMP:20260419T172327
CREATED:20240502T183209Z
LAST-MODIFIED:20240502T183209Z
UID:14135-1716382800-1716382800@arwrcucc.ca
SUMMARY:HF Human Resources Commission Meeting
DESCRIPTION:
URL:https://arwrcucc.ca/event/hf-human-resources-commission-meeting-9/
CATEGORIES:Meeting,Regional Council
END:VEVENT
BEGIN:VEVENT
DTSTART;TZID=America/New_York:20240521T190000
DTEND;TZID=America/New_York:20240521T190000
DTSTAMP:20260419T172327
CREATED:20240502T183127Z
LAST-MODIFIED:20240502T183127Z
UID:14133-1716318000-1716318000@arwrcucc.ca
SUMMARY:WOW Discipleship and Justice Meeting
DESCRIPTION:
URL:https://arwrcucc.ca/event/wow-discipleship-and-justice-meeting-6/
CATEGORIES:Meeting
END:VEVENT
BEGIN:VEVENT
DTSTART;TZID=America/Toronto:20240521T100000
DTEND;TZID=America/Toronto:20240521T120000
DTSTAMP:20260419T172327
CREATED:20240502T183041Z
LAST-MODIFIED:20240502T183041Z
UID:14131-1716285600-1716292800@arwrcucc.ca
SUMMARY:WOW Human Resources Commission Meeting
DESCRIPTION:
URL:https://arwrcucc.ca/event/wow-human-resources-commission-meeting-10/
CATEGORIES:Meeting,Online Gathering,Regional Council
END:VEVENT
BEGIN:VEVENT
DTSTART;TZID=America/New_York:20240516T140000
DTEND;TZID=America/New_York:20240516T150000
DTSTAMP:20260419T172327
CREATED:20240426T174614Z
LAST-MODIFIED:20240426T174614Z
UID:14051-1715868000-1715871600@arwrcucc.ca
SUMMARY:WOW Online Clergy Gathering
DESCRIPTION:
URL:https://arwrcucc.ca/event/wow-online-clergy-gathering-6/
LOCATION:Online via Zoom
CATEGORIES:Clergy Gathering,Event,Learning Opportunity,Meeting,Ministry Personnel,Online Gathering
ORGANIZER;CN="Kevin Steeper":MAILTO:mailto:KSteeper@united-church.ca
END:VEVENT
BEGIN:VEVENT
DTSTART;TZID=America/Toronto:20240516T093000
DTEND;TZID=America/Toronto:20240516T113000
DTSTAMP:20260419T172327
CREATED:20240502T181955Z
LAST-MODIFIED:20240502T181955Z
UID:14115-1715851800-1715859000@arwrcucc.ca
SUMMARY:Regional Council Staff Meeting
DESCRIPTION:
URL:https://arwrcucc.ca/event/regional-council-staff-meeting-51/
LOCATION:Online via Zoom
CATEGORIES:Event,Meeting
END:VEVENT
BEGIN:VEVENT
DTSTART;TZID=America/New_York:20240515T150000
DTEND;TZID=America/New_York:20240515T160000
DTSTAMP:20260419T172327
CREATED:20240426T174428Z
LAST-MODIFIED:20240426T174428Z
UID:14049-1715785200-1715788800@arwrcucc.ca
SUMMARY:HF Online Clergy Gathering
DESCRIPTION:
URL:https://arwrcucc.ca/event/hf-online-clergy-gathering-5/
LOCATION:Online via Zoom
CATEGORIES:Clergy Gathering,Event,Learning Opportunity,Meeting,Ministry Personnel,Online Gathering
ORGANIZER;CN="Kevin Steeper":MAILTO:mailto:KSteeper@united-church.ca
END:VEVENT
BEGIN:VEVENT
DTSTART;TZID=America/New_York:20240515T093000
DTEND;TZID=America/New_York:20240515T093000
DTSTAMP:20260419T172327
CREATED:20240502T182941Z
LAST-MODIFIED:20240502T182941Z
UID:14129-1715765400-1715765400@arwrcucc.ca
SUMMARY:WOW Regional Council Executive Meeting
DESCRIPTION:
URL:https://arwrcucc.ca/event/wow-regional-council-executive-meeting-8/
CATEGORIES:Meeting
END:VEVENT
BEGIN:VEVENT
DTSTART;TZID=America/New_York:20240514T140000
DTEND;TZID=America/New_York:20240514T150000
DTSTAMP:20260419T172327
CREATED:20240426T174134Z
LAST-MODIFIED:20240426T174134Z
UID:14046-1715695200-1715698800@arwrcucc.ca
SUMMARY:ARW Online Clergy Gathering
DESCRIPTION:
URL:https://arwrcucc.ca/event/arw-online-clergy-gathering-6/
LOCATION:Online via Zoom
CATEGORIES:Clergy Gathering,Event,Learning Opportunity,Meeting,Ministry Personnel,Online Gathering
ATTACH;FMTTYPE=image/png:https://arwrcucc.ca/wp-content/uploads/2024/04/May-2024.png
ORGANIZER;CN="Kevin Steeper":MAILTO:mailto:KSteeper@united-church.ca
END:VEVENT
BEGIN:VEVENT
DTSTART;TZID=America/New_York:20240514T100000
DTEND;TZID=America/New_York:20240514T100000
DTSTAMP:20260419T172327
CREATED:20240502T182810Z
LAST-MODIFIED:20240502T182810Z
UID:14127-1715680800-1715680800@arwrcucc.ca
SUMMARY:HF Congregational Support Commission
DESCRIPTION:
URL:https://arwrcucc.ca/event/hf-congregational-support-commission-10/
CATEGORIES:Meeting
END:VEVENT
BEGIN:VEVENT
DTSTART;TZID=America/Toronto:20240514T090000
DTEND;TZID=America/Toronto:20240514T090000
DTSTAMP:20260419T172327
CREATED:20240502T182702Z
LAST-MODIFIED:20240502T182714Z
UID:14125-1715677200-1715677200@arwrcucc.ca
SUMMARY:ARW Human Resources Commission Meeting
DESCRIPTION:
URL:https://arwrcucc.ca/event/arw-human-resources-commission-meeting-10/
CATEGORIES:Meeting,Online Gathering,Regional Council
END:VEVENT
BEGIN:VEVENT
DTSTART;TZID=America/New_York:20240509T130000
DTEND;TZID=America/New_York:20240509T130000
DTSTAMP:20260419T172327
CREATED:20240502T182608Z
LAST-MODIFIED:20240502T182608Z
UID:14123-1715259600-1715259600@arwrcucc.ca
SUMMARY:WOW Congregational Support Commission
DESCRIPTION:
URL:https://arwrcucc.ca/event/wow-congregational-support-commission-10/
CATEGORIES:Meeting
END:VEVENT
BEGIN:VEVENT
DTSTART;TZID=America/New_York:20240508T140000
DTEND;TZID=America/New_York:20240508T160000
DTSTAMP:20260419T172327
CREATED:20240205T191611Z
LAST-MODIFIED:20240205T192717Z
UID:13123-1715176800-1715184000@arwrcucc.ca
SUMMARY:'The Basics': Ministry & Personnel Committee Workshops
DESCRIPTION:‘The Basics’: Ministry & Personnel Committee Workshops\nOnline by Zoom\, Spring 2024 dates:\nFebruary 15th 2-4pm\, March 19th 7-9pm\, May 8th 2-4pm and June 25th 7-9pm\nwith Micol Cottrell\, Minister\, Pastoral Relations \n \nOrdered ministers and designated lay ministers while in paid accountable ministry positions are office holders within The United Church of Canada. \nWhile there may be elements similar to employment\, \nthe essential nature of the relationship is a covenant.  \n~ Statement on Ministry in The United Church of Canada (2012) \nNew members are often elected to the vital Ministry & Personnel Committee near the start of the year\, although M&P Committee membership can change for many other reasons throughout the year. \nThe Basics will help a new member learn the essentials of this crucial role. More experienced members of M&P Committees are invited to take this workshop as a refresher with their team\, and keep up with changing United Church practices and policies. This workshop is open to members from Western Ontario Waterways\, Antler River Watershed and Horseshoe Falls Regional Councils! \nPlease Note: each member of your M&P Committee attending this workshop is required to register. \nIn your Confirmation Email\, you will receive the Zoom link and material in preparation for the meeting to make the most of our time together. If you have questions about the content\, please email Micol Cottrell\, Minister\, Pastoral Relations\, at MCottrell@united-church.ca\, or better yet\, write down the questions to bring with you.
URL:https://arwrcucc.ca/event/the-basics-ministry-personnel-committee-workshops-3/
LOCATION:Online via Zoom
CATEGORIES:Event,Meeting,Ministry Personnel,Training
ORGANIZER;CN="Micol Cottrell":MAILTO:MCottrell@united-church.ca
END:VEVENT
BEGIN:VEVENT
DTSTART;TZID=America/New_York:20240508T100000
DTEND;TZID=America/New_York:20240508T100000
DTSTAMP:20260419T172327
CREATED:20240502T182416Z
LAST-MODIFIED:20240502T182416Z
UID:14121-1715162400-1715162400@arwrcucc.ca
SUMMARY:ARW Regional Council Executive Meeting
DESCRIPTION:
URL:https://arwrcucc.ca/event/arw-regional-council-executive-meeting-8/
CATEGORIES:Meeting
END:VEVENT
BEGIN:VEVENT
DTSTART;TZID=America/Toronto:20240507T100000
DTEND;TZID=America/Toronto:20240507T100000
DTSTAMP:20260419T172327
CREATED:20240502T182201Z
LAST-MODIFIED:20240502T182201Z
UID:14119-1715076000-1715076000@arwrcucc.ca
SUMMARY:ARW Discipleship & Justice Meeting
DESCRIPTION:
URL:https://arwrcucc.ca/event/arw-discipleship-justice-meeting-12/
LOCATION:Online via Zoom
CATEGORIES:Meeting
END:VEVENT
BEGIN:VEVENT
DTSTART;TZID=America/New_York:20240506T160000
DTEND;TZID=America/New_York:20240506T173000
DTSTAMP:20260419T172327
CREATED:20240228T172620Z
LAST-MODIFIED:20240228T172648Z
UID:13395-1715011200-1715016600@arwrcucc.ca
SUMMARY:Follow-Up - Grief and Bereavement Workshop
DESCRIPTION:Mon. March 25th from 4:00pm-5:30pm – 1st Advance Care Planning (end-of-life conversations) Workshop\nMon. April 8th 2024 from 4:00pm-5:30pm – 1st Grief & Bereavement Workshop\nMon. April 22nd 2024 from 4:00pm-5:30pm – 2nd (follow-up) Advance Care Planning Workshop\nMon. May 6th 2024 from 4:00pm-5:30pm – 2nd (follow-up) Grief & Bereavement Workshop\nIn conversation with Compassionate Ottawa\n\nFor more details contact Kathy Douglas\, Minister Faith Formation KDouglas@United-Church.ca \nRegistration now open: \nhttps://united-church.zoom.us/meeting/register/tZYof-GppjguGdwdT2xn0g3AZD4oovY_xBmY
URL:https://arwrcucc.ca/event/follow-up-grief-and-bereavement-workshop/
LOCATION:Online via Zoom
CATEGORIES:Event,Learning Opportunity,Online Gathering,Social Justice,Speakers
ATTACH;FMTTYPE=image/png:https://arwrcucc.ca/wp-content/uploads/2024/02/April-8-Grief-and-Bereavement-Workshop-United-Churches-of-Canada-1.png
ORGANIZER;CN="Kathy Douglas":MAILTO:kdouglas@united-church.ca
END:VEVENT
BEGIN:VEVENT
DTSTART;TZID=America/Toronto:20240502T093000
DTEND;TZID=America/Toronto:20240502T113000
DTSTAMP:20260419T172327
CREATED:20240502T181923Z
LAST-MODIFIED:20240502T181923Z
UID:14113-1714642200-1714649400@arwrcucc.ca
SUMMARY:Regional Council Staff Meeting
DESCRIPTION:
URL:https://arwrcucc.ca/event/regional-council-staff-meeting-50/
LOCATION:Online via Zoom
CATEGORIES:Event,Meeting
END:VEVENT
BEGIN:VEVENT
DTSTART;TZID=America/New_York:20240501T090000
DTEND;TZID=America/New_York:20240501T110000
DTSTAMP:20260419T172327
CREATED:20240502T185008Z
LAST-MODIFIED:20240502T185008Z
UID:14139-1714554000-1714561200@arwrcucc.ca
SUMMARY:ARW Congregational Support Commission
DESCRIPTION:
URL:https://arwrcucc.ca/event/arw-congregational-support-commission-3/
CATEGORIES:Meeting
END:VEVENT
BEGIN:VEVENT
DTSTART;TZID=America/New_York:20240429T190000
DTEND;TZID=America/New_York:20240429T190000
DTSTAMP:20260419T172327
CREATED:20240422T174106Z
LAST-MODIFIED:20240422T174330Z
UID:13959-1714417200-1714417200@arwrcucc.ca
SUMMARY:GC 45 Commissioners Town Hall
DESCRIPTION:You are invited to a\nGeneral Information Town Hall on what’s involved with becoming a:\nGC 45 Commissioner \nvia Zoom Meeting \n\nMonday April 29th\, 2024 at 7pm \nJoin Regional Council Executive Minister\, Rev. Mark Laird to discuss becoming a GC 45 Commissioner with others and get your questions answered. \n\n\nQuestions?\nNot sure?\nLearn more.\nFind out why you would want to put your name forward.\nDon’t think you qualify to apply? You do not have to be Ministry Personnel or a Lay Representative to be a Commissioner.\n\n\n\n\n\n\n\n\n\n\n\n\n\n\n\n\n\n\n\n\n\nPlease join by Zoom: \nTopic: GC45 Commissioners Town Hall\nTime: Apr 29\, 2024 07:00 PM Eastern Time (US and Canada) \nJoin Zoom Meeting\nhttps://united-church.zoom.us/j/82957433893?pwd=pgOMc2Y4EH567NGkaFXcCquWqeaOMW.1 \nMeeting ID: 829 5743 3893\nPassword: 216767 \nBy Phone Dial by your location \n* Please use local numbers when feasible to save costs for the church. * \n+1 647 374 4685 Canada\n+1 647 558 0588 Canada\n+1 778 907 2071 Canada\n+1 438 809 7799 Canada\n+1 587 328 1099 Canada\n855 703 8985 Canada Toll-free\n\n\n\n\n\n\n\n\n\n\n\n\n\n\n\n\n\n\n45th General Council Resources: \nARW General Council 45 Website\nAn Invitation from the Moderator VIDEO\nGC45 Nomination Form
URL:https://arwrcucc.ca/event/gc-45-commissioners-town-hall/
LOCATION:Online via Zoom
CATEGORIES:Community,Event,General Council,Online Gathering
ATTACH;FMTTYPE=image/png:https://arwrcucc.ca/wp-content/uploads/2024/04/gc45townhalla.png
END:VEVENT
BEGIN:VEVENT
DTSTART;TZID=America/New_York:20240427T093000
DTEND;TZID=America/New_York:20240427T093000
DTSTAMP:20260419T172327
CREATED:20240306T201139Z
LAST-MODIFIED:20240306T201139Z
UID:13536-1714210200-1714210200@arwrcucc.ca
SUMMARY:HF UCW Annual General Meeting
DESCRIPTION:HORSESHOE FALLS UCW ANNUAL GENERAL MEETING\nSATURDAY\, APRIL 27\, 2024\nGRACE UNITED CHURCH\n2111 Walkers Line\, Burlington\n“Out of the Kitchen” and into…. \nWorship: – Led by the Rev. Richard Bott\nGuest Presenter: – the Rev. Brenna Baker\nCommunity of Faith Support Staff for Horseshoe Falls\, Western\nOntario Waterways and Antler River Watershed “TELLING THE STORY IN A NEW WAY” \n\nSend cheques made out to Hamilton Conference UCW for payment to: Amy Hill\n12 Neuchatel Place\, Mississauga\, ON L5N 6A7 DEADLINE: April 17\, 2024\nNAME(s):______________________________________ # of Tickets_______\nCHURCH:_______________________________________________________\n9:30 – registration 10:00 – Welcome\nCost – $20 Please bring your own brown bag lunch and a small contribution for\nThe Loaves and Fishes table to share at breaktime – eg. apple\, cookie
URL:https://arwrcucc.ca/event/hf-ucw-annual-general-meeting/
LOCATION:Grace United Church\, 2111 Walkers Line\, Burlington\, L7M 0Z2\, Canada
CATEGORIES:Community,Event,Learning Opportunity,Meeting,Regional Council,Speakers,UCW
ATTACH;FMTTYPE=image/png:https://arwrcucc.ca/wp-content/uploads/2024/03/HFAGMUCW2024.png
END:VEVENT
BEGIN:VEVENT
DTSTART;TZID=America/New_York:20240427T084500
DTEND;TZID=America/New_York:20240427T140000
DTSTAMP:20260419T172327
CREATED:20240220T204946Z
LAST-MODIFIED:20240220T205110Z
UID:13243-1714207500-1714226400@arwrcucc.ca
SUMMARY:ARW UCW Annual Gathering 2024
DESCRIPTION:United Church Women Annual Gathering\nSaturday\, April 27\, 8:45 am to 2:00 pm\n\n\n\n\n\n\n\n\n\n\n\n\n\n\n\n\n\nWHERE THERE IS FAITH\, THERE’S HOPE\nCome for the singing\, the devotion\, guest speakers and entertainment.Guest Speaker: Rev. Jen PrinceChaplain: Rev. Larry SchneiderDunwich United Church\, 179 Nancy Street\, DuttonLinks & Contacts: Download the Registration Form or the Poster.
URL:https://arwrcucc.ca/event/ucw-annual-gathering-2024/
CATEGORIES:Community,Event,Learning Opportunity,Meeting,Speakers,UCW
END:VEVENT
BEGIN:VEVENT
DTSTART;TZID=America/New_York:20240515T183000
DTEND;TZID=America/New_York:20240515T183000
DTSTAMP:20260419T172327
CREATED:20250512T141022Z
LAST-MODIFIED:20250512T141022Z
UID:30711-1715797800-1715797800@arwrcucc.ca
SUMMARY:HF Discipleship and Justice Meeting
DESCRIPTION:
URL:https://arwrcucc.ca/event/hf-discipleship-and-justice-meeting-4/
CATEGORIES:Meeting
END:VEVENT
END:VCALENDAR