BEGIN:VCALENDAR
VERSION:2.0
PRODID:-//Antler River Watershed Regional Council - ECPv6.15.20//NONSGML v1.0//EN
CALSCALE:GREGORIAN
METHOD:PUBLISH
X-WR-CALNAME:Antler River Watershed Regional Council
X-ORIGINAL-URL:https://arwrcucc.ca
X-WR-CALDESC:Events for Antler River Watershed Regional Council
REFRESH-INTERVAL;VALUE=DURATION:PT1H
X-Robots-Tag:noindex
X-PUBLISHED-TTL:PT1H
BEGIN:VTIMEZONE
TZID:America/Toronto
BEGIN:DAYLIGHT
TZOFFSETFROM:-0500
TZOFFSETTO:-0400
TZNAME:EDT
DTSTART:20210314T070000
END:DAYLIGHT
BEGIN:STANDARD
TZOFFSETFROM:-0400
TZOFFSETTO:-0500
TZNAME:EST
DTSTART:20211107T060000
END:STANDARD
BEGIN:DAYLIGHT
TZOFFSETFROM:-0500
TZOFFSETTO:-0400
TZNAME:EDT
DTSTART:20220313T070000
END:DAYLIGHT
BEGIN:STANDARD
TZOFFSETFROM:-0400
TZOFFSETTO:-0500
TZNAME:EST
DTSTART:20221106T060000
END:STANDARD
BEGIN:DAYLIGHT
TZOFFSETFROM:-0500
TZOFFSETTO:-0400
TZNAME:EDT
DTSTART:20230312T070000
END:DAYLIGHT
BEGIN:STANDARD
TZOFFSETFROM:-0400
TZOFFSETTO:-0500
TZNAME:EST
DTSTART:20231105T060000
END:STANDARD
BEGIN:DAYLIGHT
TZOFFSETFROM:-0500
TZOFFSETTO:-0400
TZNAME:EDT
DTSTART:20240310T070000
END:DAYLIGHT
BEGIN:STANDARD
TZOFFSETFROM:-0400
TZOFFSETTO:-0500
TZNAME:EST
DTSTART:20241103T060000
END:STANDARD
END:VTIMEZONE
BEGIN:VEVENT
DTSTART;VALUE=DATE:20221223
DTEND;VALUE=DATE:20230103
DTSTAMP:20260421T172347
CREATED:20221212T173745Z
LAST-MODIFIED:20221212T173745Z
UID:9356-1671753600-1672703999@arwrcucc.ca
SUMMARY:Christmas Office Closure
DESCRIPTION:
URL:https://arwrcucc.ca/event/christmas-office-closure/
CATEGORIES:Holiday,Regional Council,Staff
END:VEVENT
BEGIN:VEVENT
DTSTART;TZID=America/Toronto:20221220T140000
DTEND;TZID=America/Toronto:20221220T150000
DTSTAMP:20260421T172347
CREATED:20221128T161551Z
LAST-MODIFIED:20221128T161551Z
UID:9227-1671544800-1671548400@arwrcucc.ca
SUMMARY:Online Clergy Gathering
DESCRIPTION:
URL:https://arwrcucc.ca/event/online-clergy-gathering-2/
LOCATION:Online via Zoom
CATEGORIES:Clergy Gathering,Community,Event,Learning Opportunity,Ministry Personnel,Online Gathering
END:VEVENT
BEGIN:VEVENT
DTSTART;TZID=America/Toronto:20221219T093000
DTEND;TZID=America/Toronto:20221219T113000
DTSTAMP:20260421T172347
CREATED:20220321T200701Z
LAST-MODIFIED:20220322T194420Z
UID:8181-1671442200-1671449400@arwrcucc.ca
SUMMARY:Regional Council Staff Meeting
DESCRIPTION:
URL:https://arwrcucc.ca/event/regional-council-staff-meeting-21/
LOCATION:Online via Zoom
CATEGORIES:Event,Meeting
END:VEVENT
BEGIN:VEVENT
DTSTART;TZID=America/Toronto:20221213T100000
DTEND;TZID=America/Toronto:20221213T120000
DTSTAMP:20260421T172347
CREATED:20220324T150618Z
LAST-MODIFIED:20220324T150618Z
UID:8263-1670925600-1670932800@arwrcucc.ca
SUMMARY:ARW Mission & Discipleship Commission Meeting
DESCRIPTION:
URL:https://arwrcucc.ca/event/arw-mission-discipleship-commission-meeting-6/
LOCATION:Online via Zoom
CATEGORIES:Meeting
END:VEVENT
BEGIN:VEVENT
DTSTART;TZID=America/Toronto:20221213T090000
DTEND;TZID=America/Toronto:20221213T090000
DTSTAMP:20260421T172347
CREATED:20220321T165612Z
LAST-MODIFIED:20220321T165612Z
UID:8117-1670922000-1670922000@arwrcucc.ca
SUMMARY:Antler River Watershed Human Resources Commission Meeting
DESCRIPTION:
URL:https://arwrcucc.ca/event/antler-river-watershed-human-resources-commission-meeting-18/
LOCATION:Online via Zoom
CATEGORIES:Meeting,Online Gathering,Regional Council
END:VEVENT
BEGIN:VEVENT
DTSTART;TZID=America/Toronto:20221213T080000
DTEND;TZID=America/Toronto:20221213T080000
DTSTAMP:20260421T172347
CREATED:20221208T182221Z
LAST-MODIFIED:20221208T183341Z
UID:9301-1670918400-1670918400@arwrcucc.ca
SUMMARY:FORGOTTEN TRAGEDIES:  REMEMBERING THE PAST AND MOVING TOWARDS RECONCILIATION
DESCRIPTION:As a wrap-up of its series of regional webinars organised in 2021\, and in the spirit of the World Council of Churches’ (WCC) pilgrimage of justice\, reconciliation and unity\, the WCC Commission of the Churches on International Affairs (CCIA) is offering this webinar entitled \n“FORGOTTEN TRAGEDIES: \nREMEMBERING THE PAST AND MOVING TOWARDS RECONCILIATION” \nThe event will be moderated by Rev. Dr Peter Cruchley\, incoming Director of the WCC’s Commission for World Mission and Evangelism\, and co-facilitated by Rev. Dr Mikie Roberts\, WCC Programme Executive for Spiritual Life and Faith & Order. \n\n\n\n\n\nSpeakers \n\nSandiswa Lerato Kobe\, lecturer at University of South Africa\nDr Catherine Namakula\, chairperson of the UN Working Group of Experts on People of African Descent (video contribution)\nMartha Pedoniquotte\, Community Capacity Development Coordinator of the Indigenous Ministries and Justice Unit\, United Church of Canada\nRev. Prof. Dr Konrad Raiser (Evangelical Church in Germany)\, former WCC general secretary\nProf. Fabian Salvioli\, UN special rapporteur on the Promotion of Truth Justice Reparations and Guarantees of Non-Recurrence\n\n\n\n\n\n Click for Speaker Bios  \nWe hope many of you will join us during this event. Please share with your respective networks: \nhttps://www.oikoumene.org/events/wcc-webinar-forgotten-tragedies-remembering-the-past-and-moving-towards-reconciliation \nRegistration link: https://us02web.zoom.us/webinar/register/WN_DKcI6mtUTqSbAAE05PLErA
URL:https://arwrcucc.ca/event/forgotten-tragedies-remembering-the-past-and-moving-towards-reconciliation/
LOCATION:Online via Zoom
CATEGORIES:Anti-Racism,Community,Event,Indigenous Justice,Learning Opportunity,Online Gathering,Regional Council,Speakers
ATTACH;FMTTYPE=image/jpeg:https://arwrcucc.ca/wp-content/uploads/2022/12/wcceventdec13.jpg
END:VEVENT
BEGIN:VEVENT
DTSTART;TZID=America/Toronto:20221207T100000
DTEND;TZID=America/Toronto:20221207T100000
DTSTAMP:20260421T172347
CREATED:20220321T192012Z
LAST-MODIFIED:20220321T192012Z
UID:8134-1670407200-1670407200@arwrcucc.ca
SUMMARY:Antler River Watershed LLWL Resource Team Meeting
DESCRIPTION:
URL:https://arwrcucc.ca/event/antler-river-watershed-llwl-resource-team-meeting-8/
LOCATION:Online via Zoom
CATEGORIES:Meeting
END:VEVENT
BEGIN:VEVENT
DTSTART;TZID=America/Toronto:20221207T090000
DTEND;TZID=America/Toronto:20221207T090000
DTSTAMP:20260421T172347
CREATED:20220321T163913Z
LAST-MODIFIED:20221020T215108Z
UID:8098-1670403600-1670403600@arwrcucc.ca
SUMMARY:Antler River Watershed Covenant Commission Meeting
DESCRIPTION:
URL:https://arwrcucc.ca/event/antler-river-watershed-covenant-commission-meeting-18/
LOCATION:Online via Zoom
CATEGORIES:Meeting,Online Gathering,Regional Council
ORGANIZER;CN="Antler River Watershed Regional Council":MAILTO:arwrc@united-church.ca
END:VEVENT
BEGIN:VEVENT
DTSTART;TZID=America/Toronto:20221205T160000
DTEND;TZID=America/Toronto:20221205T160000
DTSTAMP:20260421T172347
CREATED:20220310T212434Z
LAST-MODIFIED:20220310T212524Z
UID:8056-1670256000-1670256000@arwrcucc.ca
SUMMARY:Mid December E-Newsletter Issue Deadline for Submissions
DESCRIPTION:
URL:https://arwrcucc.ca/event/mid-november-e-newsletter-issue-deadline-for-submissions/
LOCATION:Due Date
CATEGORIES:Deadline,eNewsletter
ORGANIZER;CN="E-Newsletter Submission Due Date":MAILTO:PKukadia@united-church.ca
END:VEVENT
BEGIN:VEVENT
DTSTART;TZID=America/Toronto:20221205T093000
DTEND;TZID=America/Toronto:20221205T113000
DTSTAMP:20260421T172347
CREATED:20220321T200639Z
LAST-MODIFIED:20220321T200639Z
UID:8179-1670232600-1670239800@arwrcucc.ca
SUMMARY:Regional Council Staff Meeting
DESCRIPTION:
URL:https://arwrcucc.ca/event/regional-council-staff-meeting-20/
LOCATION:Online via Zoom
CATEGORIES:Meeting
END:VEVENT
BEGIN:VEVENT
DTSTART;VALUE=DATE:20221125
DTEND;VALUE=DATE:20221127
DTSTAMP:20260421T172347
CREATED:20220712T191326Z
LAST-MODIFIED:20221122T185214Z
UID:8682-1669334400-1669507199@arwrcucc.ca
SUMMARY:Tri-Region Executive Meetings
DESCRIPTION:Times \nFriday November 25: 6:30 – 8:30 PM \nStaff Covenanting: 6:30 PM (Executives\, Staff\, Staff Support Committee) \nFollowing the Covenanting: Tri-Executives only \n\nSaturday November 26: 9:30 – 1 PM \nTri-Executives only (+ John Neff\, Lynne Allin\, Thérèse Samuel)
URL:https://arwrcucc.ca/event/tri-region-executive-meetings/
LOCATION:Online via Zoom
CATEGORIES:Meeting,Regional Council
END:VEVENT
BEGIN:VEVENT
DTSTART;TZID=America/Toronto:20221122T140000
DTEND;TZID=America/Toronto:20221122T150000
DTSTAMP:20260421T172347
CREATED:20221103T165951Z
LAST-MODIFIED:20221103T165951Z
UID:9132-1669125600-1669129200@arwrcucc.ca
SUMMARY:Online Clergy Gathering
DESCRIPTION:
URL:https://arwrcucc.ca/event/online-clergy-gathering/
LOCATION:Online via Zoom
CATEGORIES:Clergy Gathering,Community,Event,Learning Opportunity,Ministry Personnel,Online Gathering
ATTACH;FMTTYPE=image/png:https://arwrcucc.ca/wp-content/uploads/2022/11/clergy-gathering-online-meetings.png
END:VEVENT
BEGIN:VEVENT
DTSTART;TZID=America/Toronto:20221121T093000
DTEND;TZID=America/Toronto:20221121T113000
DTSTAMP:20260421T172347
CREATED:20220321T200620Z
LAST-MODIFIED:20220321T200620Z
UID:8177-1669023000-1669030200@arwrcucc.ca
SUMMARY:Regional Council Staff Meeting
DESCRIPTION:
URL:https://arwrcucc.ca/event/regional-council-staff-meeting-19/
LOCATION:Online via Zoom
CATEGORIES:Meeting
END:VEVENT
BEGIN:VEVENT
DTSTART;VALUE=DATE:20221116
DTEND;VALUE=DATE:20221118
DTSTAMP:20260421T172347
CREATED:20221103T154237Z
LAST-MODIFIED:20221103T154858Z
UID:9121-1668556800-1668729599@arwrcucc.ca
SUMMARY:We Are Not Alone: in Children & Youth Ministry
DESCRIPTION:
URL:https://arwrcucc.ca/event/we-are-not-alone-in-children-youth-ministry/
LOCATION:Online via Zoom
CATEGORIES:Community,Event,Kids and Youth,Learning Opportunity,Online Gathering,Seasonal
ATTACH;FMTTYPE=image/jpeg:https://arwrcucc.ca/wp-content/uploads/2022/11/Children-and-Youth-Ministry-Webinars-Advent-Christmas-2022-with-NO-LINK_page-0001.jpg
END:VEVENT
BEGIN:VEVENT
DTSTART;TZID=America/Toronto:20221114T131500
DTEND;TZID=America/Toronto:20221114T143000
DTSTAMP:20260421T172347
CREATED:20221013T194156Z
LAST-MODIFIED:20221013T194156Z
UID:9000-1668431700-1668436200@arwrcucc.ca
SUMMARY:Pastoral Care Teams in Communities of Faith
DESCRIPTION:
URL:https://arwrcucc.ca/event/pastoral-care-teams-in-communities-of-faith-2/
LOCATION:Online via Zoom
CATEGORIES:Community,Event,Learning Opportunity,Meeting,Online Gathering
ATTACH;FMTTYPE=image/png:https://arwrcucc.ca/wp-content/uploads/2022/10/pastoralcareteams.png
END:VEVENT
BEGIN:VEVENT
DTSTART;TZID=America/Toronto:20221111T000000
DTEND;TZID=America/Toronto:20221111T235900
DTSTAMP:20260421T172347
CREATED:20220324T181136Z
LAST-MODIFIED:20221110T170047Z
UID:8279-1668124800-1668211140@arwrcucc.ca
SUMMARY:Remembrance Day
DESCRIPTION:THE GENERAL COUNCIL AND REGIONAL COUNCIL OFFICES OF THE UNITED CHURCH OF CANADA WILL BE CLOSED THIS FRIDAY IN OBSERVANCE OF REMEMBRANCE DAY. 
URL:https://arwrcucc.ca/event/remembrance-day/
CATEGORIES:Social Justice
ATTACH;FMTTYPE=image/png:https://arwrcucc.ca/wp-content/uploads/2022/11/remembrance-day-r789.png
END:VEVENT
BEGIN:VEVENT
DTSTART;TZID=America/Toronto:20221109T100000
DTEND;TZID=America/Toronto:20221109T120000
DTSTAMP:20260421T172347
CREATED:20220324T150555Z
LAST-MODIFIED:20220909T193819Z
UID:8261-1667988000-1667995200@arwrcucc.ca
SUMMARY:ARW Mission & Discipleship Commission Meeting
DESCRIPTION:
URL:https://arwrcucc.ca/event/arw-mission-discipleship-commission-meeting-5/
LOCATION:Online via Zoom
CATEGORIES:Meeting
END:VEVENT
BEGIN:VEVENT
DTSTART;TZID=America/Toronto:20221109T100000
DTEND;TZID=America/Toronto:20221109T120000
DTSTAMP:20260421T172347
CREATED:20220322T164902Z
LAST-MODIFIED:20220712T190405Z
UID:8200-1667988000-1667995200@arwrcucc.ca
SUMMARY:Antler River Watershed Executive Meeting
DESCRIPTION:
URL:https://arwrcucc.ca/event/antler-river-watershed-executive-meeting-8/
LOCATION:Online via Zoom
CATEGORIES:Meeting,Regional Council
END:VEVENT
BEGIN:VEVENT
DTSTART;TZID=America/Toronto:20221108T090000
DTEND;TZID=America/Toronto:20221108T090000
DTSTAMP:20260421T172347
CREATED:20220321T165540Z
LAST-MODIFIED:20220321T165550Z
UID:8115-1667898000-1667898000@arwrcucc.ca
SUMMARY:Antler River Watershed Human Resources Commission Meeting
DESCRIPTION:
URL:https://arwrcucc.ca/event/antler-river-watershed-human-resources-commission-meeting-17/
LOCATION:Online via Zoom
CATEGORIES:Meeting,Online Gathering,Regional Council
END:VEVENT
BEGIN:VEVENT
DTSTART;TZID=America/Toronto:20221107T131500
DTEND;TZID=America/Toronto:20221107T143000
DTSTAMP:20260421T172347
CREATED:20221013T194118Z
LAST-MODIFIED:20221013T194118Z
UID:8997-1667826900-1667831400@arwrcucc.ca
SUMMARY:Pastoral Care Teams in Communities of Faith
DESCRIPTION:
URL:https://arwrcucc.ca/event/pastoral-care-teams-in-communities-of-faith/
LOCATION:Online via Zoom
CATEGORIES:Community,Event,Learning Opportunity,Meeting,Online Gathering
ATTACH;FMTTYPE=image/png:https://arwrcucc.ca/wp-content/uploads/2022/10/pastoralcareteams.png
END:VEVENT
BEGIN:VEVENT
DTSTART;TZID=America/Toronto:20221107T093000
DTEND;TZID=America/Toronto:20221107T113000
DTSTAMP:20260421T172347
CREATED:20220321T200534Z
LAST-MODIFIED:20220321T200534Z
UID:8173-1667813400-1667820600@arwrcucc.ca
SUMMARY:Regional Council Staff Meeting
DESCRIPTION:
URL:https://arwrcucc.ca/event/regional-council-staff-meeting-18/
LOCATION:Online via Zoom
CATEGORIES:Meeting
END:VEVENT
BEGIN:VEVENT
DTSTART;TZID=America/Toronto:20221105T090000
DTEND;TZID=America/Toronto:20221105T160000
DTSTAMP:20260421T172347
CREATED:20221028T193928Z
LAST-MODIFIED:20221028T195716Z
UID:9107-1667638800-1667664000@arwrcucc.ca
SUMMARY:Homelessness 101 - Action through Education
DESCRIPTION:Homelessness 101\n\nACTION THROUGH EDUCATION \nAll welcome to join and learn at this educational workshop and discussion. \n\n\n\nWhen: Saturday November 5th\, 2022 – 9am-4pm \n\n\n\nWhere: Richards Memorial United Church\, London\, ON\n\n\n\nRegister: Catherine.Tovell@outlook.com \n*Child care available
URL:https://arwrcucc.ca/event/homelessness-101-action-through-education/
LOCATION:Richards Memorial United Church\, 360 Edgeworth Avenue\, London\, Ontario\, N5W5C4\, Canada
CATEGORIES:Affirming,Anti-Racism,Community,Event,Learning Opportunity,Social Justice,Speakers
ATTACH;FMTTYPE=image/png:https://arwrcucc.ca/wp-content/uploads/2022/10/Homelessness101.png
END:VEVENT
BEGIN:VEVENT
DTSTART;TZID=America/Toronto:20221104T180000
DTEND;TZID=America/Toronto:20221106T160000
DTSTAMP:20260421T172347
CREATED:20221006T205225Z
LAST-MODIFIED:20221101T144420Z
UID:8972-1667584800-1667750400@arwrcucc.ca
SUMMARY:Youth Rally 2022: Surface Pressure
DESCRIPTION:Youth Rally 2022: Surface Pressure!\nA PROGRAM FOR Grade 9 to 19 years of age \nFriday\, November 4th at 6pm to Sunday November 6th at 4pm\, 2022  \nat the Lambton Centre – 6602 Lakeshore Road Forest Lambton Shores\, Warwick\, ON N0N 1J7 \nFees range from $150 – $200 – $300(Payment is by E-transfer\, instructions included)Do you love to be inspired\, challenged to think\, meet new people & hang out with good friends??? Do you enjoy being in an open & welcoming community where you are free to be completely yourself? Faith\, fellowship and connection is what Youth Rally is all about. Come and join us for Youth Rally 2022: Surface Pressure. \nRegister Now!
URL:https://arwrcucc.ca/event/youth-rally-2022-surface-pressure/
LOCATION:Lambton Centre\, 6602 Lakeshore Road Forest Lambton Shores\, Warwick\, Ontario\, N0N 1J7\, Canada
CATEGORIES:Camps & Retreats,Community,Event,Kids and Youth,Learning Opportunity
ATTACH;FMTTYPE=image/png:https://arwrcucc.ca/wp-content/uploads/2022/10/youthrally2022.png
ORGANIZER;CN="Youth Rally":MAILTO:youthrallyucc@gmail.com
END:VEVENT
BEGIN:VEVENT
DTSTART;VALUE=DATE:20221104
DTEND;VALUE=DATE:20221106
DTSTAMP:20260421T172347
CREATED:20220824T163840Z
LAST-MODIFIED:20221013T155237Z
UID:8790-1667520000-1667692799@arwrcucc.ca
SUMMARY:Discipleship for Earth Healing
DESCRIPTION:Discipleship for Earth Healing: A Weekend Learning Event \nFriday\, November 4 – Saturday\, November 5\, 2022 \nOxford United Ministries invites you to join the Rev. Dr. Jessica Hetherington\, ecotheologian\, for a weekend of learning and spiritual engagement about our place in creation\, the need for lament\, and how we can deepen our discipleship response to the ecological crisis and climate change. Come to learn and explore with others; leave committed to a discipleship for Earth healing. \nEvent Details: \nWhen: Friday\, November 4 – Saturday\, November 5\, 2022 \nWhere: Trinity United Church\, 118 Church St.\, Ingersoll\, in person AND online. \nCost: Free of Charge \nRegistration: Registration is required for both in-person and online options. In-person registration is limited. \nTo Register: Contact Lynne Dunlop at lynndunl@execulink.com or 519-539-3805 \nWeekend Outline: \nFriday\, Nov 4 \n7:00 – 8:00 pm – “Discipleship for Earth Healing” keynote talk \n8:00 – 8:30 pm – Vespers \nSaturday\, Nov 5 (*NOTE: Weather permitting\, the workshops will include time in a nearby park\, which is wheelchair accessible) \n9:30 – 10:00 am – Gathering time \n10:00 – 11:30 am – Workshop 1 ~ “Grounding Ourselves in Earth \nCommunity” \n11:30 – 1:00 pm – Lunch (vegetarian meal provided for a nominal cost \nat Trinity) \n1:00 – 2:30 pm – Workshop 2 ~ “The Need for Lament” \n2:30 – 3:00 pm – BREAK \n3:00 – 4:30 pm – Workshop 3 ~ “Discipleship and Commitment” \n4:30 pm – Closing Worship Service \nHosted by Oxford United Ministries\, where the United Churches in Oxford share their life and work and sponsored by Oxford Legacy Fund and Hope Council\, an incorporated ministry in the Antler River Watershed Region of the United Church of Canada \n 
URL:https://arwrcucc.ca/event/discipleship-for-earth-healing/
LOCATION:Trinity United Church\, 118 Church Street\, Ingersoll\, ontario\, N5C 2X6\, Canada
CATEGORIES:Climate Change,Community,Event,Learning Opportunity,Online Gathering,Registration,Social Justice,Speakers
ATTACH;FMTTYPE=image/png:https://arwrcucc.ca/wp-content/uploads/2022/08/Discipleship-for-Earth-Healing-Poster-WHITE.png
END:VEVENT
BEGIN:VEVENT
DTSTART;TZID=America/Toronto:20221102T130000
DTEND;TZID=America/Toronto:20221102T130000
DTSTAMP:20260421T172347
CREATED:20221026T163344Z
LAST-MODIFIED:20221026T163344Z
UID:9082-1667394000-1667394000@arwrcucc.ca
SUMMARY:Faithful Stewards: Investing for United Church Communities of Faith.
DESCRIPTION:UPCOMING STEWARDSHIP WEBINAR: \n\nFaithful Stewards: Investing for United Church Communities of Faith.\n\nWhen: Wednesday\, 2 Nov 2022 at 1:00 PM (EDT) \n\n\n\nRegister here: https://www.canadahelps.org/en/charities/the-united-church-of-canada-foundation-fondation-de-legli/events/united-church-of-canada-foundation-investing/
URL:https://arwrcucc.ca/event/faithful-stewards-investing-for-united-church-communities-of-faith/
LOCATION:Online
CATEGORIES:Learning Opportunity,Online Gathering,Speakers,Stewardship
ATTACH;FMTTYPE=image/png:https://arwrcucc.ca/wp-content/uploads/2022/10/UCCF-Investing-1.png
END:VEVENT
BEGIN:VEVENT
DTSTART;TZID=America/Toronto:20221102T100000
DTEND;TZID=America/Toronto:20221102T100000
DTSTAMP:20260421T172347
CREATED:20220321T191951Z
LAST-MODIFIED:20220321T191951Z
UID:8132-1667383200-1667383200@arwrcucc.ca
SUMMARY:Antler River Watershed LLWL Resource Team Meeting
DESCRIPTION:
URL:https://arwrcucc.ca/event/antler-river-watershed-llwl-resource-team-meeting-7/
LOCATION:Online via Zoom
CATEGORIES:Meeting
END:VEVENT
BEGIN:VEVENT
DTSTART;TZID=America/Toronto:20221102T090000
DTEND;TZID=America/Toronto:20221102T090000
DTSTAMP:20260421T172348
CREATED:20220321T163853Z
LAST-MODIFIED:20221020T215038Z
UID:8096-1667379600-1667379600@arwrcucc.ca
SUMMARY:Antler River Watershed Covenant Commission Meeting
DESCRIPTION:
URL:https://arwrcucc.ca/event/antler-river-watershed-covenant-commission-meeting-17/
LOCATION:Online via Zoom
CATEGORIES:Meeting,Online Gathering,Regional Council
ORGANIZER;CN="Antler River Watershed Regional Council":MAILTO:arwrc@united-church.ca
END:VEVENT
BEGIN:VEVENT
DTSTART;VALUE=DATE:20221028
DTEND;VALUE=DATE:20221030
DTSTAMP:20260421T172348
CREATED:20220630T205810Z
LAST-MODIFIED:20220927T195550Z
UID:8664-1666915200-1667087999@arwrcucc.ca
SUMMARY:ARW Fall Regional Council Meetings 2022
DESCRIPTION:ONLINE MEETINGS:\nFriday October 28th 6:30 pm to 8:30 pm\nSaturday October 29th 9:00 am to 1:00 pm
URL:https://arwrcucc.ca/event/arw-fall-regional-council-meetings-2022/
LOCATION:Online via Zoom
CATEGORIES:Affirming,Anti-Racism,Community,Event,Events,General Council,Indigenous Justice,Kids and Youth,Learning Opportunity,Meeting,Ministry Personnel,Online Gathering,Regional Council,Registration,Speakers
ATTACH;FMTTYPE=image/png:https://arwrcucc.ca/wp-content/uploads/2022/06/arw-fall-meeting-2022.png
END:VEVENT
BEGIN:VEVENT
DTSTART;TZID=America/Toronto:20221024T093000
DTEND;TZID=America/Toronto:20221024T113000
DTSTAMP:20260421T172348
CREATED:20220321T200514Z
LAST-MODIFIED:20220321T200514Z
UID:8171-1666603800-1666611000@arwrcucc.ca
SUMMARY:Regional Council Staff Meeting
DESCRIPTION:
URL:https://arwrcucc.ca/event/regional-council-staff-meeting-17/
LOCATION:Online via Zoom
CATEGORIES:Meeting
END:VEVENT
BEGIN:VEVENT
DTSTART;TZID=America/Toronto:20221021T160000
DTEND;TZID=America/Toronto:20221021T160000
DTSTAMP:20260421T172348
CREATED:20220310T212400Z
LAST-MODIFIED:20220310T212400Z
UID:8054-1666368000-1666368000@arwrcucc.ca
SUMMARY:Early November E-Newsletter Issue Deadline for Submissions
DESCRIPTION:
URL:https://arwrcucc.ca/event/early-november-e-newsletter-issue-deadline-for-submissions/
LOCATION:Due Date
CATEGORIES:Deadline,eNewsletter
ORGANIZER;CN="E-Newsletter Submission Due Date":MAILTO:PKukadia@united-church.ca
END:VEVENT
END:VCALENDAR