BEGIN:VCALENDAR
VERSION:2.0
PRODID:-//Antler River Watershed Regional Council - ECPv6.15.20//NONSGML v1.0//EN
CALSCALE:GREGORIAN
METHOD:PUBLISH
X-WR-CALNAME:Antler River Watershed Regional Council
X-ORIGINAL-URL:https://arwrcucc.ca
X-WR-CALDESC:Events for Antler River Watershed Regional Council
REFRESH-INTERVAL;VALUE=DURATION:PT1H
X-Robots-Tag:noindex
X-PUBLISHED-TTL:PT1H
BEGIN:VTIMEZONE
TZID:America/Toronto
BEGIN:DAYLIGHT
TZOFFSETFROM:-0500
TZOFFSETTO:-0400
TZNAME:EDT
DTSTART:20210314T070000
END:DAYLIGHT
BEGIN:STANDARD
TZOFFSETFROM:-0400
TZOFFSETTO:-0500
TZNAME:EST
DTSTART:20211107T060000
END:STANDARD
BEGIN:DAYLIGHT
TZOFFSETFROM:-0500
TZOFFSETTO:-0400
TZNAME:EDT
DTSTART:20220313T070000
END:DAYLIGHT
BEGIN:STANDARD
TZOFFSETFROM:-0400
TZOFFSETTO:-0500
TZNAME:EST
DTSTART:20221106T060000
END:STANDARD
BEGIN:DAYLIGHT
TZOFFSETFROM:-0500
TZOFFSETTO:-0400
TZNAME:EDT
DTSTART:20230312T070000
END:DAYLIGHT
BEGIN:STANDARD
TZOFFSETFROM:-0400
TZOFFSETTO:-0500
TZNAME:EST
DTSTART:20231105T060000
END:STANDARD
END:VTIMEZONE
BEGIN:VEVENT
DTSTART;VALUE=DATE:20221104
DTEND;VALUE=DATE:20221106
DTSTAMP:20260421T183602
CREATED:20220824T163840Z
LAST-MODIFIED:20221013T155237Z
UID:8790-1667520000-1667692799@arwrcucc.ca
SUMMARY:Discipleship for Earth Healing
DESCRIPTION:Discipleship for Earth Healing: A Weekend Learning Event \nFriday\, November 4 – Saturday\, November 5\, 2022 \nOxford United Ministries invites you to join the Rev. Dr. Jessica Hetherington\, ecotheologian\, for a weekend of learning and spiritual engagement about our place in creation\, the need for lament\, and how we can deepen our discipleship response to the ecological crisis and climate change. Come to learn and explore with others; leave committed to a discipleship for Earth healing. \nEvent Details: \nWhen: Friday\, November 4 – Saturday\, November 5\, 2022 \nWhere: Trinity United Church\, 118 Church St.\, Ingersoll\, in person AND online. \nCost: Free of Charge \nRegistration: Registration is required for both in-person and online options. In-person registration is limited. \nTo Register: Contact Lynne Dunlop at lynndunl@execulink.com or 519-539-3805 \nWeekend Outline: \nFriday\, Nov 4 \n7:00 – 8:00 pm – “Discipleship for Earth Healing” keynote talk \n8:00 – 8:30 pm – Vespers \nSaturday\, Nov 5 (*NOTE: Weather permitting\, the workshops will include time in a nearby park\, which is wheelchair accessible) \n9:30 – 10:00 am – Gathering time \n10:00 – 11:30 am – Workshop 1 ~ “Grounding Ourselves in Earth \nCommunity” \n11:30 – 1:00 pm – Lunch (vegetarian meal provided for a nominal cost \nat Trinity) \n1:00 – 2:30 pm – Workshop 2 ~ “The Need for Lament” \n2:30 – 3:00 pm – BREAK \n3:00 – 4:30 pm – Workshop 3 ~ “Discipleship and Commitment” \n4:30 pm – Closing Worship Service \nHosted by Oxford United Ministries\, where the United Churches in Oxford share their life and work and sponsored by Oxford Legacy Fund and Hope Council\, an incorporated ministry in the Antler River Watershed Region of the United Church of Canada \n 
URL:https://arwrcucc.ca/event/discipleship-for-earth-healing/
LOCATION:Trinity United Church\, 118 Church Street\, Ingersoll\, ontario\, N5C 2X6\, Canada
CATEGORIES:Climate Change,Community,Event,Learning Opportunity,Online Gathering,Registration,Social Justice,Speakers
ATTACH;FMTTYPE=image/png:https://arwrcucc.ca/wp-content/uploads/2022/08/Discipleship-for-Earth-Healing-Poster-WHITE.png
END:VEVENT
BEGIN:VEVENT
DTSTART;TZID=America/Toronto:20221102T130000
DTEND;TZID=America/Toronto:20221102T130000
DTSTAMP:20260421T183602
CREATED:20221026T163344Z
LAST-MODIFIED:20221026T163344Z
UID:9082-1667394000-1667394000@arwrcucc.ca
SUMMARY:Faithful Stewards: Investing for United Church Communities of Faith.
DESCRIPTION:UPCOMING STEWARDSHIP WEBINAR: \n\nFaithful Stewards: Investing for United Church Communities of Faith.\n\nWhen: Wednesday\, 2 Nov 2022 at 1:00 PM (EDT) \n\n\n\nRegister here: https://www.canadahelps.org/en/charities/the-united-church-of-canada-foundation-fondation-de-legli/events/united-church-of-canada-foundation-investing/
URL:https://arwrcucc.ca/event/faithful-stewards-investing-for-united-church-communities-of-faith/
LOCATION:Online
CATEGORIES:Learning Opportunity,Online Gathering,Speakers,Stewardship
ATTACH;FMTTYPE=image/png:https://arwrcucc.ca/wp-content/uploads/2022/10/UCCF-Investing-1.png
END:VEVENT
BEGIN:VEVENT
DTSTART;TZID=America/Toronto:20221102T100000
DTEND;TZID=America/Toronto:20221102T100000
DTSTAMP:20260421T183602
CREATED:20220321T191951Z
LAST-MODIFIED:20220321T191951Z
UID:8132-1667383200-1667383200@arwrcucc.ca
SUMMARY:Antler River Watershed LLWL Resource Team Meeting
DESCRIPTION:
URL:https://arwrcucc.ca/event/antler-river-watershed-llwl-resource-team-meeting-7/
LOCATION:Online via Zoom
CATEGORIES:Meeting
END:VEVENT
BEGIN:VEVENT
DTSTART;TZID=America/Toronto:20221102T090000
DTEND;TZID=America/Toronto:20221102T090000
DTSTAMP:20260421T183602
CREATED:20220321T163853Z
LAST-MODIFIED:20221020T215038Z
UID:8096-1667379600-1667379600@arwrcucc.ca
SUMMARY:Antler River Watershed Covenant Commission Meeting
DESCRIPTION:
URL:https://arwrcucc.ca/event/antler-river-watershed-covenant-commission-meeting-17/
LOCATION:Online via Zoom
CATEGORIES:Meeting,Online Gathering,Regional Council
ORGANIZER;CN="Antler River Watershed Regional Council":MAILTO:arwrc@united-church.ca
END:VEVENT
BEGIN:VEVENT
DTSTART;VALUE=DATE:20221028
DTEND;VALUE=DATE:20221030
DTSTAMP:20260421T183602
CREATED:20220630T205810Z
LAST-MODIFIED:20220927T195550Z
UID:8664-1666915200-1667087999@arwrcucc.ca
SUMMARY:ARW Fall Regional Council Meetings 2022
DESCRIPTION:ONLINE MEETINGS:\nFriday October 28th 6:30 pm to 8:30 pm\nSaturday October 29th 9:00 am to 1:00 pm
URL:https://arwrcucc.ca/event/arw-fall-regional-council-meetings-2022/
LOCATION:Online via Zoom
CATEGORIES:Affirming,Anti-Racism,Community,Event,Events,General Council,Indigenous Justice,Kids and Youth,Learning Opportunity,Meeting,Ministry Personnel,Online Gathering,Regional Council,Registration,Speakers
ATTACH;FMTTYPE=image/png:https://arwrcucc.ca/wp-content/uploads/2022/06/arw-fall-meeting-2022.png
END:VEVENT
BEGIN:VEVENT
DTSTART;TZID=America/Toronto:20221024T093000
DTEND;TZID=America/Toronto:20221024T113000
DTSTAMP:20260421T183602
CREATED:20220321T200514Z
LAST-MODIFIED:20220321T200514Z
UID:8171-1666603800-1666611000@arwrcucc.ca
SUMMARY:Regional Council Staff Meeting
DESCRIPTION:
URL:https://arwrcucc.ca/event/regional-council-staff-meeting-17/
LOCATION:Online via Zoom
CATEGORIES:Meeting
END:VEVENT
BEGIN:VEVENT
DTSTART;TZID=America/Toronto:20221021T160000
DTEND;TZID=America/Toronto:20221021T160000
DTSTAMP:20260421T183602
CREATED:20220310T212400Z
LAST-MODIFIED:20220310T212400Z
UID:8054-1666368000-1666368000@arwrcucc.ca
SUMMARY:Early November E-Newsletter Issue Deadline for Submissions
DESCRIPTION:
URL:https://arwrcucc.ca/event/early-november-e-newsletter-issue-deadline-for-submissions/
LOCATION:Due Date
CATEGORIES:Deadline,eNewsletter
ORGANIZER;CN="E-Newsletter Submission Due Date":MAILTO:PKukadia@united-church.ca
END:VEVENT
BEGIN:VEVENT
DTSTART;VALUE=DATE:20221021
DTEND;VALUE=DATE:20221023
DTSTAMP:20260421T183602
CREATED:20220915T160231Z
LAST-MODIFIED:20220915T162122Z
UID:8898-1666310400-1666483199@arwrcucc.ca
SUMMARY:God's Abundance
DESCRIPTION:Equip Yourself for the Future of Church \nSt. Andrew’s United Church in Chatham is excited to invite all clergy\, laity\, and church leadership for a time of ecumenical learning\, renewal\, social connection\, visioning and technology. God’s Abundance: Strategy\, Technology\, and the future of Church will take place on Friday\, October 21 and Saturday\, Oct 22. \nYou will hear and share stories\, explore the Appreciative Inquiry process\, celebrate the best from your past and see the places and times where you thrive. You will reconnect with friends and meet wonderful new people. You will dig into how Social Media holds a rich harvest of Evangelism for those who seek it. You will work with neighbours and strangers to renew and refresh your relationship with worship. You will discuss and learn how technology in worship is revolutionizing relationships and communications. You will explore the close ties between ecology and theology. \nDon’t come alone! From the beginning\, as Christians disciples we were sent out in pairs to hear stories and to share the Good News. Each church or organization is recommended to send 4 attendees if possible. We are meant to work together. Who are the members of your team of four? \nKeynote speakers are Richard Manley-Tanis and Shawn Sanford Beck from St. Andrew’s College in Saskatoon\, more speakers and seminar leaders will be announced soon. \nThe Christian Resource Centre will be present with many resources to fill your bookshelves\, your spirit and your mind. \nMark your calendar for October 21 and 22 in downtown Chatham. Prices range from $20 to $90 per person( including meals) depending on how which seminars you wish to attend. Individuals and churches who wish to volunteer during the event are welcome\, and will be thanked with discounts on ticket prices. Contact Greg Simpson at pastorgreg18@gmail.com if you have any questions. \nVisit our website at https://www.standrewschatham.org/education for more information. \nRegistration is now open\, sign up today!
URL:https://arwrcucc.ca/event/gods-abundance/
LOCATION:St. Andrew`s United Church\, 85 William Street S\,\, Chatham\, Ontario\, N7M 4S5\, Canada
CATEGORIES:Event,Learning Opportunity,Regional Council
ATTACH;FMTTYPE=image/png:https://arwrcucc.ca/wp-content/uploads/2022/09/godsabundance.png
END:VEVENT
BEGIN:VEVENT
DTSTART;TZID=America/Toronto:20221018T100000
DTEND;TZID=America/Toronto:20221018T120000
DTSTAMP:20260421T183602
CREATED:20220909T193609Z
LAST-MODIFIED:20220909T193609Z
UID:8869-1666087200-1666094400@arwrcucc.ca
SUMMARY:ARW Mission & Discipleship Commission Meeting
DESCRIPTION:
URL:https://arwrcucc.ca/event/arw-mission-discipleship-commission-meeting-3/
LOCATION:Online via Zoom
CATEGORIES:Meeting
END:VEVENT
BEGIN:VEVENT
DTSTART;TZID=America/Toronto:20221012T100000
DTEND;TZID=America/Toronto:20221012T120000
DTSTAMP:20260421T183602
CREATED:20220322T164839Z
LAST-MODIFIED:20220712T190320Z
UID:8198-1665568800-1665576000@arwrcucc.ca
SUMMARY:Antler River Watershed Executive Meeting
DESCRIPTION:
URL:https://arwrcucc.ca/event/antler-river-watershed-executive-meeting-7/
LOCATION:Online via Zoom
CATEGORIES:Meeting,Regional Council
END:VEVENT
BEGIN:VEVENT
DTSTART;TZID=America/Toronto:20221012T090000
DTEND;TZID=America/Toronto:20221012T090000
DTSTAMP:20260421T183602
CREATED:20220321T163826Z
LAST-MODIFIED:20221020T214945Z
UID:8094-1665565200-1665565200@arwrcucc.ca
SUMMARY:Antler River Watershed Covenant Commission Meeting
DESCRIPTION:
URL:https://arwrcucc.ca/event/antler-river-watershed-covenant-commission-meeting-16/
LOCATION:Online via Zoom
CATEGORIES:Meeting,Online Gathering,Regional Council
ORGANIZER;CN="Antler River Watershed Regional Council":MAILTO:arwrc@united-church.ca
END:VEVENT
BEGIN:VEVENT
DTSTART;TZID=America/Toronto:20221010T093000
DTEND;TZID=America/Toronto:20221010T113000
DTSTAMP:20260421T183602
CREATED:20220321T200455Z
LAST-MODIFIED:20220321T200455Z
UID:8169-1665394200-1665401400@arwrcucc.ca
SUMMARY:Regional Council Staff Meeting
DESCRIPTION:
URL:https://arwrcucc.ca/event/regional-council-staff-meeting-16/
LOCATION:Online via Zoom
CATEGORIES:Meeting
END:VEVENT
BEGIN:VEVENT
DTSTART;VALUE=DATE:20221010
DTEND;VALUE=DATE:20221011
DTSTAMP:20260421T183602
CREATED:20220324T180932Z
LAST-MODIFIED:20220324T180932Z
UID:8277-1665360000-1665446399@arwrcucc.ca
SUMMARY:Thanksgiving
DESCRIPTION:
URL:https://arwrcucc.ca/event/thanksgiving/
CATEGORIES:Holiday
END:VEVENT
BEGIN:VEVENT
DTSTART;TZID=America/Toronto:20221005T100000
DTEND;TZID=America/Toronto:20221005T100000
DTSTAMP:20260421T183602
CREATED:20220321T191843Z
LAST-MODIFIED:20220321T191930Z
UID:8130-1664964000-1664964000@arwrcucc.ca
SUMMARY:Antler River Watershed LLWL Resource Team Meeting
DESCRIPTION:
URL:https://arwrcucc.ca/event/antler-river-watershed-llwl-resource-team-meeting-6/
LOCATION:Online via Zoom
CATEGORIES:Meeting
END:VEVENT
BEGIN:VEVENT
DTSTART;TZID=America/Toronto:20221005T093000
DTEND;TZID=America/Toronto:20221005T093000
DTSTAMP:20260421T183602
CREATED:20220909T161220Z
LAST-MODIFIED:20221006T220716Z
UID:8853-1664962200-1664962200@arwrcucc.ca
SUMMARY:CANCELLED: ARW Clergy Gathering - October 5th
DESCRIPTION:THIS EVENT HAS BEEN CANCELLED DUE TO LOW REGISTRATION AND LACK OF INTEREST.\nRSVP to: KSteeper@united-church.ca
URL:https://arwrcucc.ca/event/arw-clergy-gathering-october-5th/
LOCATION:Camp Kee Mo Kee\, 9581 Glendon Drive\, Komoka\, Ontario\, N0L 1R0\, Canada
CATEGORIES:Camps & Retreats,Clergy Gathering,Community,Event,Learning Opportunity,Meeting,Ministry Personnel
ATTACH;FMTTYPE=image/png:https://arwrcucc.ca/wp-content/uploads/2022/09/arwcgoct2022.png
END:VEVENT
BEGIN:VEVENT
DTSTART;TZID=America/Toronto:20221003T160000
DTEND;TZID=America/Toronto:20221003T160000
DTSTAMP:20260421T183602
CREATED:20220310T212109Z
LAST-MODIFIED:20220310T212109Z
UID:8052-1664812800-1664812800@arwrcucc.ca
SUMMARY:Mid October E-Newsletter Issue Deadline for Submissions
DESCRIPTION:
URL:https://arwrcucc.ca/event/mid-october-e-newsletter-issue-deadline-for-submissions/
LOCATION:Due Date
CATEGORIES:Deadline,eNewsletter
ORGANIZER;CN="E-Newsletter Submission Due Date":MAILTO:PKukadia@united-church.ca
END:VEVENT
BEGIN:VEVENT
DTSTART;TZID=America/Toronto:20221002T100000
DTEND;TZID=America/Toronto:20221002T100000
DTSTAMP:20260421T183602
CREATED:20220919T220356Z
LAST-MODIFIED:20220919T220356Z
UID:8916-1664704800-1664704800@arwrcucc.ca
SUMMARY:Fourth Line United Church-Cedar Springs Pastoral Charge
DESCRIPTION:Closing Service: \n\n\nSunday October 2nd\, 2022 \n\n\n10:00 am \n\n\nAt Blenheim Community Senior Centre \n\n\n55 Jane St\, Blenheim On \n\n\nRoy Dusten\, (LLWL) will preside. \n\n\nAll welcome.
URL:https://arwrcucc.ca/event/fourth-line-united-church-cedar-springs-pastoral-charge/
CATEGORIES:Community,Event,Regional Council
ATTACH;FMTTYPE=image/jpeg:https://arwrcucc.ca/wp-content/uploads/2022/09/thumbnail_IMG_0026.jpg
END:VEVENT
BEGIN:VEVENT
DTSTART;VALUE=DATE:20220930
DTEND;VALUE=DATE:20221001
DTSTAMP:20260421T183602
CREATED:20220324T180752Z
LAST-MODIFIED:20220324T180752Z
UID:8275-1664496000-1664582399@arwrcucc.ca
SUMMARY:National Day for Truth and Reconciliation
DESCRIPTION:
URL:https://arwrcucc.ca/event/national-day-for-truth-and-reconciliation/
CATEGORIES:Indigenous Justice
END:VEVENT
BEGIN:VEVENT
DTSTART;VALUE=DATE:20220928
DTEND;VALUE=DATE:20220930
DTSTAMP:20260421T183602
CREATED:20220915T160823Z
LAST-MODIFIED:20220915T160823Z
UID:8903-1664323200-1664495999@arwrcucc.ca
SUMMARY:Stumbling out of the gate…
DESCRIPTION:Children and Youth Ministry Webinars (September 2022) with NO LINK
URL:https://arwrcucc.ca/event/stumbling-out-of-the-gate/
LOCATION:Online via Zoom
CATEGORIES:Event,Kids and Youth,Learning Opportunity,Meeting,Online Gathering,Regional Council
ATTACH;FMTTYPE=image/jpeg:https://arwrcucc.ca/wp-content/uploads/2022/09/bernard-hermant-5zu86kyV_UY-unsplash-scaled.jpg
END:VEVENT
BEGIN:VEVENT
DTSTART;TZID=America/Toronto:20220926T093000
DTEND;TZID=America/Toronto:20220926T113000
DTSTAMP:20260421T183602
CREATED:20220321T200432Z
LAST-MODIFIED:20220321T200432Z
UID:8167-1664184600-1664191800@arwrcucc.ca
SUMMARY:Regional Council Staff Meeting
DESCRIPTION:
URL:https://arwrcucc.ca/event/regional-council-staff-meeting-15/
LOCATION:Online via Zoom
CATEGORIES:Meeting
END:VEVENT
BEGIN:VEVENT
DTSTART;TZID=America/Toronto:20220923T160000
DTEND;TZID=America/Toronto:20220923T160000
DTSTAMP:20260421T183602
CREATED:20220310T212041Z
LAST-MODIFIED:20220310T212041Z
UID:8050-1663948800-1663948800@arwrcucc.ca
SUMMARY:Early October E-Newsletter Issue Deadline for Submissions
DESCRIPTION:
URL:https://arwrcucc.ca/event/early-october-e-newsletter-issue-deadline-for-submissions/
LOCATION:Due Date
CATEGORIES:Deadline,eNewsletter
ORGANIZER;CN="E-Newsletter Submission Due Date":MAILTO:PKukadia@united-church.ca
END:VEVENT
BEGIN:VEVENT
DTSTART;TZID=America/Toronto:20220922T140000
DTEND;TZID=America/Toronto:20220922T160000
DTSTAMP:20260421T183602
CREATED:20220823T181240Z
LAST-MODIFIED:20220823T181240Z
UID:8785-1663855200-1663862400@arwrcucc.ca
SUMMARY:Diane Matheson Jimenez - Moving On Party
DESCRIPTION:Let’s CELEBRATE her many years of service with the Regional Office (& Hamilton Conference)\n& have a PARTY! \nThursday\, September 22\nfrom 2:00 to 4:00 pm \nAt the Regional Council Office\, Hamilton\n1552 Highway #6\, Carlisle\nAND By Zoom \nAttend In-person: Register by Sept. 15th\n**registration – no exceptions** \nAttend by Zoom: Register by Sept. 20th\n**registration for Zoom Link**
URL:https://arwrcucc.ca/event/diane-matheson-jimenez-moving-on-party/
LOCATION:Regional Councils Office\, Hamilton
CATEGORIES:Community,Event,Online Gathering,Regional Council
ATTACH;FMTTYPE=image/jpeg:https://arwrcucc.ca/wp-content/uploads/2022/08/14288732-f2ae-9735-0cf9-217bb26732c4.jpg
END:VEVENT
BEGIN:VEVENT
DTSTART;TZID=America/Toronto:20220912T100000
DTEND;TZID=America/Toronto:20220912T100000
DTSTAMP:20260421T183602
CREATED:20220321T192057Z
LAST-MODIFIED:20220908T172124Z
UID:8136-1662976800-1662976800@arwrcucc.ca
SUMMARY:Antler River Watershed LLWL Resource Team Meeting
DESCRIPTION:
URL:https://arwrcucc.ca/event/antler-river-watershed-llwl-resource-team-meeting-9/
LOCATION:Online via Zoom
CATEGORIES:Meeting
END:VEVENT
BEGIN:VEVENT
DTSTART;TZID=America/Toronto:20220912T093000
DTEND;TZID=America/Toronto:20220912T113000
DTSTAMP:20260421T183602
CREATED:20220321T200413Z
LAST-MODIFIED:20220321T200413Z
UID:8165-1662975000-1662982200@arwrcucc.ca
SUMMARY:Regional Council Staff Meeting
DESCRIPTION:
URL:https://arwrcucc.ca/event/regional-council-staff-meeting-14/
LOCATION:Online via Zoom
CATEGORIES:Meeting
END:VEVENT
BEGIN:VEVENT
DTSTART;TZID=America/Toronto:20220907T130000
DTEND;TZID=America/Toronto:20220907T150000
DTSTAMP:20260421T183602
CREATED:20220324T150522Z
LAST-MODIFIED:20220909T193203Z
UID:8259-1662555600-1662562800@arwrcucc.ca
SUMMARY:ARW Mission & Discipleship Commission Meeting
DESCRIPTION:
URL:https://arwrcucc.ca/event/arw-mission-discipleship-commission-meeting-4/
LOCATION:Online via Zoom
CATEGORIES:Meeting
END:VEVENT
BEGIN:VEVENT
DTSTART;TZID=America/Toronto:20220907T100000
DTEND;TZID=America/Toronto:20220907T120000
DTSTAMP:20260421T183602
CREATED:20220322T164812Z
LAST-MODIFIED:20220712T190905Z
UID:8196-1662544800-1662552000@arwrcucc.ca
SUMMARY:Antler River Watershed Executive Meeting
DESCRIPTION:
URL:https://arwrcucc.ca/event/antler-river-watershed-executive-meeting-6/
LOCATION:Siloam United Church\, 1240 Fanshawe Park Rd E\, London\, Ontario\, N5X 3Z8\, Canada
CATEGORIES:Meeting,Regional Council
END:VEVENT
BEGIN:VEVENT
DTSTART;VALUE=DATE:20220907
DTEND;VALUE=DATE:20220908
DTSTAMP:20260421T183602
CREATED:20220909T193449Z
LAST-MODIFIED:20220909T193449Z
UID:8867-1662508800-1662595199@arwrcucc.ca
SUMMARY:ARW Executive & Commissions Orientation
DESCRIPTION:
URL:https://arwrcucc.ca/event/arw-executive-commissions-orientation/
CATEGORIES:Community,Event,Learning Opportunity,Meeting,Regional Council
END:VEVENT
BEGIN:VEVENT
DTSTART;TZID=America/Toronto:20220906T160000
DTEND;TZID=America/Toronto:20220906T160000
DTSTAMP:20260421T183602
CREATED:20220310T211955Z
LAST-MODIFIED:20220310T211955Z
UID:8048-1662480000-1662480000@arwrcucc.ca
SUMMARY:Mid September E-Newsletter Issue Deadline for Submissions
DESCRIPTION:
URL:https://arwrcucc.ca/event/mid-september-e-newsletter-issue-deadline-for-submissions/
LOCATION:Due Date
CATEGORIES:Deadline,eNewsletter
ORGANIZER;CN="E-Newsletter Submission Due Date":MAILTO:PKukadia@united-church.ca
END:VEVENT
BEGIN:VEVENT
DTSTART;TZID=America/Toronto:20220905T090000
DTEND;TZID=America/Toronto:20220905T090000
DTSTAMP:20260421T183602
CREATED:20220321T163804Z
LAST-MODIFIED:20220321T163804Z
UID:8092-1662368400-1662368400@arwrcucc.ca
SUMMARY:Antler River Watershed Covenant Commission Meeting
DESCRIPTION:
URL:https://arwrcucc.ca/event/antler-river-watershed-covenant-commission-meeting-15/
LOCATION:Online via Zoom
CATEGORIES:Meeting,Online Gathering,Regional Council
ORGANIZER;CN="Antler River Watershed Regional Council":MAILTO:arwrc@united-church.ca
END:VEVENT
BEGIN:VEVENT
DTSTART;VALUE=DATE:20220905
DTEND;VALUE=DATE:20220906
DTSTAMP:20260421T183602
CREATED:20220324T180132Z
LAST-MODIFIED:20220324T180132Z
UID:8269-1662336000-1662422399@arwrcucc.ca
SUMMARY:Labour Day
DESCRIPTION:
URL:https://arwrcucc.ca/event/labour-day/
CATEGORIES:Holiday
END:VEVENT
END:VCALENDAR