BEGIN:VCALENDAR
VERSION:2.0
PRODID:-//Antler River Watershed Regional Council - ECPv6.15.20//NONSGML v1.0//EN
CALSCALE:GREGORIAN
METHOD:PUBLISH
X-ORIGINAL-URL:https://arwrcucc.ca
X-WR-CALDESC:Events for Antler River Watershed Regional Council
REFRESH-INTERVAL;VALUE=DURATION:PT1H
X-Robots-Tag:noindex
X-PUBLISHED-TTL:PT1H
BEGIN:VTIMEZONE
TZID:America/Toronto
BEGIN:DAYLIGHT
TZOFFSETFROM:-0500
TZOFFSETTO:-0400
TZNAME:EDT
DTSTART:20240310T070000
END:DAYLIGHT
BEGIN:STANDARD
TZOFFSETFROM:-0400
TZOFFSETTO:-0500
TZNAME:EST
DTSTART:20241103T060000
END:STANDARD
BEGIN:DAYLIGHT
TZOFFSETFROM:-0500
TZOFFSETTO:-0400
TZNAME:EDT
DTSTART:20250309T070000
END:DAYLIGHT
BEGIN:STANDARD
TZOFFSETFROM:-0400
TZOFFSETTO:-0500
TZNAME:EST
DTSTART:20251102T060000
END:STANDARD
BEGIN:DAYLIGHT
TZOFFSETFROM:-0500
TZOFFSETTO:-0400
TZNAME:EDT
DTSTART:20260308T070000
END:DAYLIGHT
BEGIN:STANDARD
TZOFFSETFROM:-0400
TZOFFSETTO:-0500
TZNAME:EST
DTSTART:20261101T060000
END:STANDARD
END:VTIMEZONE
BEGIN:VTIMEZONE
TZID:America/New_York
BEGIN:DAYLIGHT
TZOFFSETFROM:-0500
TZOFFSETTO:-0400
TZNAME:EDT
DTSTART:20240310T070000
END:DAYLIGHT
BEGIN:STANDARD
TZOFFSETFROM:-0400
TZOFFSETTO:-0500
TZNAME:EST
DTSTART:20241103T060000
END:STANDARD
BEGIN:DAYLIGHT
TZOFFSETFROM:-0500
TZOFFSETTO:-0400
TZNAME:EDT
DTSTART:20250309T070000
END:DAYLIGHT
BEGIN:STANDARD
TZOFFSETFROM:-0400
TZOFFSETTO:-0500
TZNAME:EST
DTSTART:20251102T060000
END:STANDARD
BEGIN:DAYLIGHT
TZOFFSETFROM:-0500
TZOFFSETTO:-0400
TZNAME:EDT
DTSTART:20260308T070000
END:DAYLIGHT
BEGIN:STANDARD
TZOFFSETFROM:-0400
TZOFFSETTO:-0500
TZNAME:EST
DTSTART:20261101T060000
END:STANDARD
END:VTIMEZONE
BEGIN:VEVENT
DTSTART;TZID=America/Toronto:20250820T190000
DTEND;TZID=America/Toronto:20250820T200000
DTSTAMP:20260419T190543
CREATED:20250721T175844Z
LAST-MODIFIED:20250721T175844Z
UID:31380-1755716400-1755720000@arwrcucc.ca
SUMMARY:Snapshot
DESCRIPTION:Contact Kathy Douglas\, Faith Formation Minister KDouglas@united-church.ca
URL:https://arwrcucc.ca/event/snapshot-4/
LOCATION:Online by Zoom link
CATEGORIES:2SLGBTQIA,Affirming,Anti-Racism,Camps & Retreats,Community,Event,Kids and Youth,Learning Opportunity,Meeting,Online Gathering,Regional Council
ATTACH;FMTTYPE=image/png:https://arwrcucc.ca/wp-content/uploads/2025/07/A-snapshot.png
ORGANIZER;CN="Kathy Douglas":MAILTO:kdouglas@united-church.ca
END:VEVENT
BEGIN:VEVENT
DTSTART;TZID=America/New_York:20250903T090000
DTEND;TZID=America/New_York:20250903T110000
DTSTAMP:20260419T190543
CREATED:20250829T165427Z
LAST-MODIFIED:20250829T165427Z
UID:31478-1756890000-1756897200@arwrcucc.ca
SUMMARY:ARW Congregational Support Commission
DESCRIPTION:
URL:https://arwrcucc.ca/event/arw-congregational-support-commission-18/
CATEGORIES:Meeting
END:VEVENT
BEGIN:VEVENT
DTSTART;TZID=America/Toronto:20250904T093000
DTEND;TZID=America/Toronto:20250904T113000
DTSTAMP:20260419T190543
CREATED:20250829T165518Z
LAST-MODIFIED:20250829T165518Z
UID:31480-1756978200-1756985400@arwrcucc.ca
SUMMARY:Regional Council Staff Meeting
DESCRIPTION:
URL:https://arwrcucc.ca/event/regional-council-staff-meeting-77/
LOCATION:Online via Zoom
CATEGORIES:Event,Meeting
END:VEVENT
BEGIN:VEVENT
DTSTART;TZID=America/Toronto:20250909T090000
DTEND;TZID=America/Toronto:20250909T090000
DTSTAMP:20260419T190543
CREATED:20250829T165620Z
LAST-MODIFIED:20250829T165620Z
UID:31482-1757408400-1757408400@arwrcucc.ca
SUMMARY:ARW Pastoral Relations Commission Meeting
DESCRIPTION:
URL:https://arwrcucc.ca/event/arw-pastoral-relations-commission-meeting-6/
CATEGORIES:Meeting,Online Gathering,Regional Council
END:VEVENT
BEGIN:VEVENT
DTSTART;TZID=America/New_York:20250909T150000
DTEND;TZID=America/New_York:20250909T170000
DTSTAMP:20260419T190543
CREATED:20250829T165759Z
LAST-MODIFIED:20250829T165759Z
UID:31486-1757430000-1757437200@arwrcucc.ca
SUMMARY:HF Congregational Support Commission
DESCRIPTION:
URL:https://arwrcucc.ca/event/hf-congregational-support-commission-24/
CATEGORIES:Meeting
END:VEVENT
BEGIN:VEVENT
DTSTART;TZID=America/New_York:20250909T190000
DTEND;TZID=America/New_York:20250909T210000
DTSTAMP:20260419T190543
CREATED:20240827T160043Z
LAST-MODIFIED:20250829T173002Z
UID:23852-1757444400-1757451600@arwrcucc.ca
SUMMARY:Search Team Training
DESCRIPTION:Search Team Training\nHas your church begun searching for a new minister? Has a search team been formed? If so\, they will need to be trained. Training can happen in two ways:\n\nWith your liaison\nOnline with Micol Cottrell\, Pastoral Relations Minister (if you have a liaison\, please invite your liaison to attend with you)\n\nTraining is mandatory for all search teams.\nThe online training is two hours and during this time we explore:\n\nThe search process\nWorking to understand and overcome the impact of bias\nThe various types of ministry personnel you will find on ChurchHub\nWhere to find resources for using ChurchHub\nAnd more.\n\nIf you are interested in taking the training online please register at Search Team Training – Formstack.\n\n\n\nThe dates for the fall are the second Tuesday of each month: \n\n\nSeptember 9th\, 2025 at 7pm\nOctober 14th\, 2025 at 7pm\nNovember 11th\, 2025 at 7pm\nDecember 9th\, 2025 at 7pm\nJanuary 13th\, 2026 at 7pm
URL:https://arwrcucc.ca/event/search-team-training-7/
LOCATION:Online
CATEGORIES:Meeting
ORGANIZER;CN="Micol Cottrell":MAILTO:MCottrell@united-church.ca
END:VEVENT
BEGIN:VEVENT
DTSTART;TZID=America/New_York:20250909T190000
DTEND;TZID=America/New_York:20250909T210000
DTSTAMP:20260419T190543
CREATED:20250829T165725Z
LAST-MODIFIED:20250829T165725Z
UID:31484-1757444400-1757451600@arwrcucc.ca
SUMMARY:HF Congregational Support Commission
DESCRIPTION:
URL:https://arwrcucc.ca/event/hf-congregational-support-commission-23/
CATEGORIES:Meeting
END:VEVENT
BEGIN:VEVENT
DTSTART;TZID=America/New_York:20250911T130000
DTEND;TZID=America/New_York:20250911T130000
DTSTAMP:20260419T190543
CREATED:20250902T151520Z
LAST-MODIFIED:20250902T151520Z
UID:31519-1757595600-1757595600@arwrcucc.ca
SUMMARY:WOW Congregational Support Commission
DESCRIPTION:
URL:https://arwrcucc.ca/event/wow-congregational-support-commission-19/
CATEGORIES:Meeting
END:VEVENT
BEGIN:VEVENT
DTSTART;TZID=America/Toronto:20250916T100000
DTEND;TZID=America/Toronto:20250916T120000
DTSTAMP:20260419T190543
CREATED:20250829T165902Z
LAST-MODIFIED:20250829T165902Z
UID:31488-1758016800-1758024000@arwrcucc.ca
SUMMARY:WOW Pastoral Relations Commission Meeting
DESCRIPTION:
URL:https://arwrcucc.ca/event/wow-pastoral-relations-commission-meeting-6/
CATEGORIES:Meeting,Online Gathering,Regional Council
END:VEVENT
BEGIN:VEVENT
DTSTART;TZID=America/New_York:20250917T093000
DTEND;TZID=America/New_York:20250917T113000
DTSTAMP:20260419T190543
CREATED:20250829T165955Z
LAST-MODIFIED:20250829T165955Z
UID:31490-1758101400-1758108600@arwrcucc.ca
SUMMARY:WOW Regional Council Executive Meeting
DESCRIPTION:
URL:https://arwrcucc.ca/event/wow-regional-council-executive-meeting-18/
CATEGORIES:Meeting
END:VEVENT
BEGIN:VEVENT
DTSTART;TZID=America/Toronto:20250918T093000
DTEND;TZID=America/Toronto:20250918T113000
DTSTAMP:20260419T190543
CREATED:20250829T170043Z
LAST-MODIFIED:20250829T170043Z
UID:31492-1758187800-1758195000@arwrcucc.ca
SUMMARY:Regional Council Staff Meeting
DESCRIPTION:
URL:https://arwrcucc.ca/event/regional-council-staff-meeting-78/
LOCATION:Online via Zoom
CATEGORIES:Event,Meeting
END:VEVENT
BEGIN:VEVENT
DTSTART;TZID=America/Toronto:20250922T083000
DTEND;TZID=America/Toronto:20250922T083000
DTSTAMP:20260419T190543
CREATED:20250829T172227Z
LAST-MODIFIED:20250829T172227Z
UID:31501-1758529800-1758529800@arwrcucc.ca
SUMMARY:Mission Support Grant Deadline
DESCRIPTION:More information here: \nhttps://arwrcucc.ca/mission-support-grants/
URL:https://arwrcucc.ca/event/mission-support-grant-deadline/
CATEGORIES:Mission Support Grants,Regional Council,Social Justice
ATTACH;FMTTYPE=image/png:https://arwrcucc.ca/wp-content/uploads/2025/06/MSGrants2026.png
END:VEVENT
BEGIN:VEVENT
DTSTART;TZID=America/Toronto:20250924T100000
DTEND;TZID=America/Toronto:20250924T113000
DTSTAMP:20260419T190543
CREATED:20250822T204418Z
LAST-MODIFIED:20250822T204604Z
UID:31463-1758708000-1758713400@arwrcucc.ca
SUMMARY:Strawberry Thanksgiving and Communion - Online
DESCRIPTION:Join us online Wednesday\, September 24th at 10:00-11:30 AM for Strawberry Thanksgiving and Communion\, and take your acknowledgement of Territory to the next level by considering the Spiritual Covenant. \nMany congregations who have been acknowledging the territory for the past few years are asking what meaningful action they can take to move their acknowledgment from words to actions. You are invited to Strawberry Thanksgiving and Communion\, an online opportunity to begin the conversation about making a spiritual covenant. \nYou’re warmly invited\nto this special event featuring Adrian Jacobs of the Turtle Clan\, Cayuga Nation\, sharing on the Spiritual Covenant—a reflection on land\, relationship\, and reconciliation on Wednesday\, September 24th\, from 10:00-11:30 AM. \nAdrian Jacobs will offer a leadership in this workshop and communion service that will inform and inspire the discernment of churches on any traditional territory who wish to consider concrete action to live into their acknowledgment of territory. The workshop and worship will be grounded in history and scripture\, and will invite you to deeper relationship with the land and the peoples on the land\, and the Creator\, Christ and Spirit. (For more information about the Strawberry Thanksgiving and Communion and the Spiritual Covenant\, see below.) \nThe road to a decision about a faithful action by your community of faith is an ongoing journey. Come prepared to engage and to learn\, and then bring your reflections to your home church for prayerful consideration. \nBread and Juice for Communion\nThis workshop will include an online communion service\, so have your own juice and bread ready. For juice\, you are invited to honour Indigenous tradition with strawberry juice\, a local Indigenous medicine.  If you would like to make strawberry juice\, here is a simple recipe you can use:\nhttps://tworowtimes.com/healthy-roots/jihsodahk-the-leader-of-the-plants/. If you are not able to use strawberry juice\, feel free to bring any fruit juice of your choice. \nRegister in advance for this event:\nhttps://united-church.zoom.us/meeting/register/2BNM7atZRhKNuAGAeO_1nA\nAfter registering\, you will receive a confirmation email containing information about joining the meeting.\n\n\n\n\n\n\n\n\n\n\n\n\n\n\nRead More Here
URL:https://arwrcucc.ca/event/strawberry-thanksgiving-and-communion-online/
LOCATION:Online via Zoom
CATEGORIES:Community,Event,Indigenous Justice,Learning Opportunity,Online Gathering,Regional Council,Registration,Seasonal,Social Justice
ATTACH;FMTTYPE=image/png:https://arwrcucc.ca/wp-content/uploads/2025/08/strawberry3.png
END:VEVENT
BEGIN:VEVENT
DTSTART;TZID=America/Toronto:20250924T130000
DTEND;TZID=America/Toronto:20250924T130000
DTSTAMP:20260419T190543
CREATED:20250829T170206Z
LAST-MODIFIED:20250829T170206Z
UID:31494-1758718800-1758718800@arwrcucc.ca
SUMMARY:HF Human Resources Commission Meeting
DESCRIPTION:
URL:https://arwrcucc.ca/event/hf-human-resources-commission-meeting-21/
CATEGORIES:Meeting,Regional Council
END:VEVENT
BEGIN:VEVENT
DTSTART;VALUE=DATE:20250930
DTEND;VALUE=DATE:20251001
DTSTAMP:20260419T190543
CREATED:20250829T170358Z
LAST-MODIFIED:20250829T170358Z
UID:31498-1759190400-1759276799@arwrcucc.ca
SUMMARY:National Day for Truth and Reconciliation
DESCRIPTION:
URL:https://arwrcucc.ca/event/national-day-for-truth-and-reconciliation-4/
CATEGORIES:Indigenous Justice
END:VEVENT
BEGIN:VEVENT
DTSTART;TZID=America/New_York:20251001T090000
DTEND;TZID=America/New_York:20251001T110000
DTSTAMP:20260419T190543
CREATED:20251003T165817Z
LAST-MODIFIED:20251003T165817Z
UID:31808-1759309200-1759316400@arwrcucc.ca
SUMMARY:ARW Congregational Support Commission
DESCRIPTION:
URL:https://arwrcucc.ca/event/arw-congregational-support-commission-19/
CATEGORIES:Meeting
END:VEVENT
BEGIN:VEVENT
DTSTART;TZID=America/Toronto:20251002T093000
DTEND;TZID=America/Toronto:20251002T113000
DTSTAMP:20260419T190543
CREATED:20251003T165858Z
LAST-MODIFIED:20251003T165858Z
UID:31810-1759397400-1759404600@arwrcucc.ca
SUMMARY:Regional Council Staff Meeting
DESCRIPTION:
URL:https://arwrcucc.ca/event/regional-council-staff-meeting-79/
LOCATION:Online via Zoom
CATEGORIES:Event,Meeting
END:VEVENT
BEGIN:VEVENT
DTSTART;VALUE=DATE:20251003
DTEND;VALUE=DATE:20251005
DTSTAMP:20260419T190543
CREATED:20250617T200411Z
LAST-MODIFIED:20250828T163359Z
UID:31217-1759449600-1759622399@arwrcucc.ca
SUMMARY:ARWRC Fall Meeting 2025 (Online only)
DESCRIPTION:Antler River Watershed Regional Council\nTHEME: Seasons\nYou are invited to the 2025 ARWRC Fall Gathering! \nOnline via Zoom only \nDATE: ARWRC Fall Meeting (online): October 3-4\, 2025 \nFriday October 3rd: Time 6:30pm – 8:30pm\nSaturday October 4th: Time 9:00am – 3:00pm \n\nAntler River Watershed Regional Council Fall Online Meeting Information \nRegistration begins September 4\, 2025 – Watch your emails for registration information
URL:https://arwrcucc.ca/event/arwrc-fall-meeting-2025-online-only/
LOCATION:Online by Zoom link
CATEGORIES:Community,Event,Learning Opportunity,Meeting,Online Gathering,Regional Council
ATTACH;FMTTYPE=image/png:https://arwrcucc.ca/wp-content/uploads/2025/08/ARWFall2025a.png
ORGANIZER;CN="Antler River Watershed Regional Council":MAILTO:arwrc@united-church.ca
END:VEVENT
BEGIN:VEVENT
DTSTART;TZID=America/New_York:20251008T100000
DTEND;TZID=America/New_York:20251008T120000
DTSTAMP:20260419T190543
CREATED:20251003T170149Z
LAST-MODIFIED:20251003T170149Z
UID:31816-1759917600-1759924800@arwrcucc.ca
SUMMARY:ARW Regional Council Executive Meeting
DESCRIPTION:
URL:https://arwrcucc.ca/event/arw-regional-council-executive-meeting-17/
CATEGORIES:Meeting
END:VEVENT
BEGIN:VEVENT
DTSTART;TZID=America/Toronto:20251014T090000
DTEND;TZID=America/Toronto:20251014T090000
DTSTAMP:20260419T190543
CREATED:20251003T170250Z
LAST-MODIFIED:20251003T170250Z
UID:31818-1760432400-1760432400@arwrcucc.ca
SUMMARY:ARW Pastoral Relations Commission Meeting
DESCRIPTION:
URL:https://arwrcucc.ca/event/arw-pastoral-relations-commission-meeting-7/
CATEGORIES:Meeting,Online Gathering,Regional Council
END:VEVENT
BEGIN:VEVENT
DTSTART;TZID=America/New_York:20251014T190000
DTEND;TZID=America/New_York:20251014T210000
DTSTAMP:20260419T190543
CREATED:20250829T173035Z
LAST-MODIFIED:20250829T173035Z
UID:31505-1760468400-1760475600@arwrcucc.ca
SUMMARY:Search Team Training
DESCRIPTION:Search Team Training\nHas your church begun searching for a new minister? Has a search team been formed? If so\, they will need to be trained. Training can happen in two ways:\n\nWith your liaison\nOnline with Micol Cottrell\, Pastoral Relations Minister (if you have a liaison\, please invite your liaison to attend with you)\n\nTraining is mandatory for all search teams.\nThe online training is two hours and during this time we explore:\n\nThe search process\nWorking to understand and overcome the impact of bias\nThe various types of ministry personnel you will find on ChurchHub\nWhere to find resources for using ChurchHub\nAnd more.\n\nIf you are interested in taking the training online please register at Search Team Training – Formstack.\n\n\n\nThe dates for the fall are the second Tuesday of each month: \n\n\nSeptember 9th\, 2025 at 7pm\nOctober 14th\, 2025 at 7pm\nNovember 11th\, 2025 at 7pm\nDecember 9th\, 2025 at 7pm\nJanuary 13th\, 2026 at 7pm
URL:https://arwrcucc.ca/event/search-team-training-8/
LOCATION:Online
CATEGORIES:Meeting
ORGANIZER;CN="Micol Cottrell":MAILTO:MCottrell@united-church.ca
END:VEVENT
BEGIN:VEVENT
DTSTART;TZID=America/New_York:20251014T190000
DTEND;TZID=America/New_York:20251014T210000
DTSTAMP:20260419T190543
CREATED:20251003T170334Z
LAST-MODIFIED:20251003T170334Z
UID:31820-1760468400-1760475600@arwrcucc.ca
SUMMARY:HF Congregational Support Commission
DESCRIPTION:
URL:https://arwrcucc.ca/event/hf-congregational-support-commission-25/
CATEGORIES:Meeting
END:VEVENT
BEGIN:VEVENT
DTSTART;TZID=America/New_York:20251015T093000
DTEND;TZID=America/New_York:20251015T113000
DTSTAMP:20260419T190543
CREATED:20251003T170418Z
LAST-MODIFIED:20251003T170418Z
UID:31822-1760520600-1760527800@arwrcucc.ca
SUMMARY:WOW Regional Council Executive Meeting
DESCRIPTION:
URL:https://arwrcucc.ca/event/wow-regional-council-executive-meeting-19/
CATEGORIES:Meeting
END:VEVENT
BEGIN:VEVENT
DTSTART;TZID=America/Toronto:20251016T093000
DTEND;TZID=America/Toronto:20251016T113000
DTSTAMP:20260419T190543
CREATED:20251003T165920Z
LAST-MODIFIED:20251003T165920Z
UID:31812-1760607000-1760614200@arwrcucc.ca
SUMMARY:Regional Council Staff Meeting
DESCRIPTION:
URL:https://arwrcucc.ca/event/regional-council-staff-meeting-80/
LOCATION:Online via Zoom
CATEGORIES:Event,Meeting
END:VEVENT
BEGIN:VEVENT
DTSTART;TZID=America/Toronto:20251021T100000
DTEND;TZID=America/Toronto:20251021T100000
DTSTAMP:20260419T190543
CREATED:20251003T170719Z
LAST-MODIFIED:20251003T170719Z
UID:31826-1761040800-1761040800@arwrcucc.ca
SUMMARY:ARW Discipleship & Justice Meeting
DESCRIPTION:
URL:https://arwrcucc.ca/event/arw-discipleship-justice-meeting-21/
LOCATION:Online via Zoom
CATEGORIES:Meeting
END:VEVENT
BEGIN:VEVENT
DTSTART;TZID=America/Toronto:20251021T100000
DTEND;TZID=America/Toronto:20251021T120000
DTSTAMP:20260419T190543
CREATED:20251003T170638Z
LAST-MODIFIED:20251003T170638Z
UID:31824-1761040800-1761048000@arwrcucc.ca
SUMMARY:WOW Pastoral Relations Commission Meeting
DESCRIPTION:
URL:https://arwrcucc.ca/event/wow-pastoral-relations-commission-meeting-7/
CATEGORIES:Meeting,Online Gathering,Regional Council
END:VEVENT
BEGIN:VEVENT
DTSTART;TZID=America/New_York:20251021T190000
DTEND;TZID=America/New_York:20251021T190000
DTSTAMP:20260419T190543
CREATED:20251003T170800Z
LAST-MODIFIED:20251003T170800Z
UID:31828-1761073200-1761073200@arwrcucc.ca
SUMMARY:WOW Discipleship and Justice Meeting
DESCRIPTION:
URL:https://arwrcucc.ca/event/wow-discipleship-and-justice-meeting-11/
CATEGORIES:Meeting
END:VEVENT
BEGIN:VEVENT
DTSTART;TZID=America/Toronto:20251022T103000
DTEND;TZID=America/Toronto:20251022T114500
DTSTAMP:20260419T190543
CREATED:20251003T164020Z
LAST-MODIFIED:20251003T164020Z
UID:31804-1761129000-1761133500@arwrcucc.ca
SUMMARY:Volunteers Round Table - Children and Youth Ministry
DESCRIPTION:Register here: https://shiningwatersregionalcouncil.ca/communities-of-faith/youth/childrens-ministry-roundtable/ \nFor more information contact: \nKathy Douglas Email: Kdouglas@united-church.ca \nPronouns: she/her \nFaith Formation Minister\,\nAntler River Watershed\, Horseshoe Falls\, Western Ontario Waterways Regional Councils of The United Church of Canada
URL:https://arwrcucc.ca/event/volunteers-round-table-children-and-youth-ministry/
LOCATION:Online via Zoom
CATEGORIES:Community,Event,Events,Kids and Youth,Learning Opportunity,Meeting,Online Gathering
ATTACH;FMTTYPE=image/png:https://arwrcucc.ca/wp-content/uploads/2025/10/Childrens-Ministry-Roundtable-Volunteers-logos.png
ORGANIZER;CN="Kathy Douglas":MAILTO:kdouglas@united-church.ca
END:VEVENT
BEGIN:VEVENT
DTSTART;TZID=America/Toronto:20251022T130000
DTEND;TZID=America/Toronto:20251022T130000
DTSTAMP:20260419T190543
CREATED:20251003T170840Z
LAST-MODIFIED:20251003T170840Z
UID:31830-1761138000-1761138000@arwrcucc.ca
SUMMARY:HF Human Resources Commission Meeting
DESCRIPTION:
URL:https://arwrcucc.ca/event/hf-human-resources-commission-meeting-22/
CATEGORIES:Meeting,Regional Council
END:VEVENT
BEGIN:VEVENT
DTSTART;TZID=America/New_York:20251022T160000
DTEND;TZID=America/New_York:20251022T160000
DTSTAMP:20260419T190543
CREATED:20251003T170921Z
LAST-MODIFIED:20251003T170921Z
UID:31832-1761148800-1761148800@arwrcucc.ca
SUMMARY:HF Regional Council Executive Meeting
DESCRIPTION:
URL:https://arwrcucc.ca/event/hf-regional-council-executive-meeting-16/
CATEGORIES:Meeting
END:VEVENT
END:VCALENDAR