BEGIN:VCALENDAR
VERSION:2.0
PRODID:-//Antler River Watershed Regional Council - ECPv6.15.20//NONSGML v1.0//EN
CALSCALE:GREGORIAN
METHOD:PUBLISH
X-WR-CALNAME:Antler River Watershed Regional Council
X-ORIGINAL-URL:https://arwrcucc.ca
X-WR-CALDESC:Events for Antler River Watershed Regional Council
REFRESH-INTERVAL;VALUE=DURATION:PT1H
X-Robots-Tag:noindex
X-PUBLISHED-TTL:PT1H
BEGIN:VTIMEZONE
TZID:UTC
BEGIN:STANDARD
TZOFFSETFROM:+0000
TZOFFSETTO:+0000
TZNAME:UTC
DTSTART:20190101T000000
END:STANDARD
END:VTIMEZONE
BEGIN:VEVENT
DTSTART;TZID=UTC:20201029T180000
DTEND;TZID=UTC:20201101T130000
DTSTAMP:20260422T064518
CREATED:20201002T222607Z
LAST-MODIFIED:20201002T222610Z
UID:5463-1603994400-1604235600@arwrcucc.ca
SUMMARY:Fall Regional Council Meeting
DESCRIPTION:Please Register Online for the week of October 29 – November 1.
URL:https://arwrcucc.ca/event/fall-regional-council-meeting/
LOCATION:Online by Zoom link
ORGANIZER;CN="Joyce Payne":MAILTO:riskloveserve@gmail.com
END:VEVENT
END:VCALENDAR