BEGIN:VCALENDAR
VERSION:2.0
PRODID:-//Antler River Watershed Regional Council - ECPv6.15.20//NONSGML v1.0//EN
CALSCALE:GREGORIAN
METHOD:PUBLISH
X-WR-CALNAME:Antler River Watershed Regional Council
X-ORIGINAL-URL:https://arwrcucc.ca
X-WR-CALDESC:Events for Antler River Watershed Regional Council
REFRESH-INTERVAL;VALUE=DURATION:PT1H
X-Robots-Tag:noindex
X-PUBLISHED-TTL:PT1H
BEGIN:VTIMEZONE
TZID:America/Toronto
BEGIN:DAYLIGHT
TZOFFSETFROM:-0500
TZOFFSETTO:-0400
TZNAME:EDT
DTSTART:20190310T070000
END:DAYLIGHT
BEGIN:STANDARD
TZOFFSETFROM:-0400
TZOFFSETTO:-0500
TZNAME:EST
DTSTART:20191103T060000
END:STANDARD
BEGIN:DAYLIGHT
TZOFFSETFROM:-0500
TZOFFSETTO:-0400
TZNAME:EDT
DTSTART:20200308T070000
END:DAYLIGHT
BEGIN:STANDARD
TZOFFSETFROM:-0400
TZOFFSETTO:-0500
TZNAME:EST
DTSTART:20201101T060000
END:STANDARD
BEGIN:DAYLIGHT
TZOFFSETFROM:-0500
TZOFFSETTO:-0400
TZNAME:EDT
DTSTART:20210314T070000
END:DAYLIGHT
BEGIN:STANDARD
TZOFFSETFROM:-0400
TZOFFSETTO:-0500
TZNAME:EST
DTSTART:20211107T060000
END:STANDARD
BEGIN:DAYLIGHT
TZOFFSETFROM:-0500
TZOFFSETTO:-0400
TZNAME:EDT
DTSTART:20220313T070000
END:DAYLIGHT
BEGIN:STANDARD
TZOFFSETFROM:-0400
TZOFFSETTO:-0500
TZNAME:EST
DTSTART:20221106T060000
END:STANDARD
END:VTIMEZONE
BEGIN:VTIMEZONE
TZID:UTC
BEGIN:STANDARD
TZOFFSETFROM:+0000
TZOFFSETTO:+0000
TZNAME:UTC
DTSTART:20190101T000000
END:STANDARD
END:VTIMEZONE
BEGIN:VEVENT
DTSTART;TZID=America/Toronto:20211020T193000
DTEND;TZID=America/Toronto:20211020T193000
DTSTAMP:20260422T185653
CREATED:20211014T141043Z
LAST-MODIFIED:20211014T142009Z
UID:7356-1634758200-1634758200@arwrcucc.ca
SUMMARY:Virtual Speaker Series with Sara Stratton
DESCRIPTION:Guest Speaker Sara Stratton\,\nReconciliation and Indigenous Justice Administrator from the United Church of Canada\n\nDescription:\n\n\nSara Stratton\, Reconciliation and Indigenous Justice Administrator from the United Church of Canada \nTopic:\nWork of the United Church on Indigenous People Issues and Its Response to Findings on Residential Schools \n\n\n\nDate and Time:\n\nOct 20\, 2021  at 7:30 PM
URL:https://arwrcucc.ca/event/virtual-speaker-series-with-sara-stratton/
LOCATION:Online via Zoom
CATEGORIES:Indigenous Justice,Learning Opportunity,Online Gathering,Speakers
ATTACH;FMTTYPE=image/jpeg:https://arwrcucc.ca/wp-content/uploads/2021/10/sarastratton.jpg
END:VEVENT
BEGIN:VEVENT
DTSTART;TZID=America/Toronto:20211019T190000
DTEND;TZID=America/Toronto:20211023T090000
DTSTAMP:20260422T185653
CREATED:20211008T195455Z
LAST-MODIFIED:20211013T190024Z
UID:7343-1634670000-1634979600@arwrcucc.ca
SUMMARY:United Fresh Start: Transitions
DESCRIPTION:The Human Resources Commissions of our regional councils want to help new (or continuing) pastoral relationships get off to a healthy beginning by inviting you and your minister to take part in the United Fresh Start program. \nThere are over 20 modules of resources to support learning together.  In October\, we will be offering the module “Transitions” on two different dates for you to choose from: \n\nTuesday\, October 19 from 7-9PM\nSaturday\, October 23 from 9-11AM\n\nWe invite you to register a group from your community of faith\, including your minister\, for these modules. \nRegister Now\nWatch for more sessions and United Fresh Start Peer Groups when Diane Blanchard returns from her sabbatical in November. \nFacilitators are prepared to offer modules of United Fresh Start to individual congregations as well. If you are interested in this\, please contact Micol Cottrell\, Acting Minister\, Pastoral Relations (September – October)\, for a list of UFS facilitators. The schedule above is offered without charge. Engaging a facilitator for your community of faith alone has a suggested fee of $221 per module\, negotiated with and payable to the facilitator.
URL:https://arwrcucc.ca/event/united-fresh-start-transitions/
LOCATION:Online via Zoom
CATEGORIES:Learning Opportunity,Ministry Personnel,Online Gathering
ATTACH;FMTTYPE=image/png:https://arwrcucc.ca/wp-content/uploads/2021/10/unitedfreshstart.png
ORGANIZER;CN="United Fresh Start":MAILTO:mcottrell@united-church.ca
END:VEVENT
BEGIN:VEVENT
DTSTART;TZID=America/Toronto:20211019T190000
DTEND;TZID=America/Toronto:20211019T190000
DTSTAMP:20260422T185653
CREATED:20210913T163450Z
LAST-MODIFIED:20210913T163451Z
UID:7104-1634670000-1634670000@arwrcucc.ca
SUMMARY:Youth Mental Health
DESCRIPTION:
URL:https://arwrcucc.ca/event/youth-mental-health/
LOCATION:Online via Livestream
CATEGORIES:Kids and Youth,Learning Opportunity,Speakers
ATTACH;FMTTYPE=application/pdf:https://arwrcucc.ca/wp-content/uploads/2021/09/The-Spiritual-Growth-Ministry-of-Port-Nelson-United-Church-presents-1.pdf
ORGANIZER;CN="Karen Eade":MAILTO:karen@portnelson.ca
END:VEVENT
BEGIN:VEVENT
DTSTART;TZID=America/Toronto:20211018T190000
DTEND;TZID=America/Toronto:20211018T201500
DTSTAMP:20260422T185653
CREATED:20210913T145816Z
LAST-MODIFIED:20210913T150907Z
UID:7095-1634583600-1634588100@arwrcucc.ca
SUMMARY:TUCC Heart & Vision
DESCRIPTION:
URL:https://arwrcucc.ca/event/tucc-heart-vision/
LOCATION:Online via Livestream
CATEGORIES:Learning Opportunity,Speakers
ATTACH;FMTTYPE=image/png:https://arwrcucc.ca/wp-content/uploads/2021/09/1cd22c21-6377-4e65-13fd-b1a8f9b97c18.png
END:VEVENT
BEGIN:VEVENT
DTSTART;TZID=America/Toronto:20211018T130000
DTEND;TZID=America/Toronto:20211028T190000
DTSTAMP:20260422T185653
CREATED:20210927T164757Z
LAST-MODIFIED:20210927T170058Z
UID:7262-1634562000-1635447600@arwrcucc.ca
SUMMARY:Kaleidoscope Institute Continuing Education Opportunity: October\, 2021
DESCRIPTION:Online Facilitator Accreditation Training\n			\n				\n				\n				\n				\n				In an increasingly polarized and violent world\, there is a need for persons to facilitate reasonable and constructive dialogue about important issues. Imagine being one of those persons who is able to provide gracious time and place for truth seeking dialogue that can achieve non-violent mutual understanding. \nThis training will provide resources \n•     to coordinate and facilitate inclusive small group dialogue using the KI gracious leadership tools\, skills\, and processes. \n•     to prepare you to practice and use KI resources for your work and ministries while being mentored by a KI Associate. \n•     to learn how to invite people to come to an initial dialogue\, designed to achieve mutual understanding through deep listening \n•     to better understand the relationship of KI resources and the Developmental Model for Intercultural Sensitivity to explain the reactions to cultural differences \nUsing Zoom technology\, the four sessions will meet from 1pm-4pm (Pacific)\, 4pm – 7pm (Eastern) \n\nOctober 18\, 2021\nOctober 20\nOctober 22\nOctober 26\nOctober 28\n\nIt is necessary to attend all five sessions. \nParticipants will take the Intercultural Development Inventory (IDI) before the training sessions begin. The cost of this on-line inventory is included in the registration fee. \nAt KI\, we use a sliding scale called GracEconomics. We ask that you pay as close to the upper number as your financial resources allow. The GracEconomic registration fee for this training is $75 – $300. To register\, please visit www.kscopeinstitute.org/facilitator-accreditation-training. Future individual coaching will also be available for additional fees after the training is complete. \nThe Zoom information will be provided closer to the first session of the training.Any questions? Contact kscope@kscopeinstitute.org \nWe hope you can join us!
URL:https://arwrcucc.ca/event/kaleidoscope-institute-continuing-education-opportunity-october-2021/
LOCATION:Online via Zoom
CATEGORIES:Learning Opportunity
ATTACH;FMTTYPE=image/jpeg:https://arwrcucc.ca/wp-content/uploads/2021/07/KI_PRIMARYlogo.jpg
ORGANIZER;CN="Kaleidoscope Institute":MAILTO:kscope@kscopeinstitute.org
END:VEVENT
BEGIN:VEVENT
DTSTART;TZID=America/Toronto:20210928T190000
DTEND;TZID=America/Toronto:20210928T203000
DTSTAMP:20260422T185653
CREATED:20210907T161013Z
LAST-MODIFIED:20210913T145850Z
UID:7050-1632855600-1632861000@arwrcucc.ca
SUMMARY:Caring for the Caregiver
DESCRIPTION:  \n2021.09 OCO Caring for the Caregiver flyer Aug31
URL:https://arwrcucc.ca/event/caring-for-the-caregiver/
LOCATION:Port Nelson United Church\, 3132 South Drive\, Burlington\, Ontario\, L7N 1H7\, Canada
CATEGORIES:Learning Opportunity
ATTACH;FMTTYPE=image/png:https://arwrcucc.ca/wp-content/uploads/2021/09/Screenshot-21.png
ORGANIZER;CN="Karen Eade":MAILTO:karen@portnelson.ca
END:VEVENT
BEGIN:VEVENT
DTSTART;VALUE=DATE:20210828
DTEND;VALUE=DATE:20210830
DTSTAMP:20260422T185653
CREATED:20210803T150724Z
LAST-MODIFIED:20210803T150725Z
UID:6854-1630108800-1630281599@arwrcucc.ca
SUMMARY:Skylight Festival
DESCRIPTION:  \n \n 
URL:https://arwrcucc.ca/event/skylight-festival/
LOCATION:Five Oaks Education and Retreat Centre\, 1 Bethel Road\, Paris\, Ontario\, N3L 3E3\, Canada
CATEGORIES:Festival
ATTACH;FMTTYPE=image/png:https://arwrcucc.ca/wp-content/uploads/2021/07/skylightfestival2021banner.png
END:VEVENT
BEGIN:VEVENT
DTSTART;TZID=America/Toronto:20201101T100000
DTEND;TZID=America/Toronto:20201101T100000
DTSTAMP:20260422T185653
CREATED:20201002T223238Z
LAST-MODIFIED:20201009T185111Z
UID:5490-1604224800-1604224800@arwrcucc.ca
SUMMARY:Celebration of Ministry Service
DESCRIPTION:Please Register Online for November 1.
URL:https://arwrcucc.ca/event/celebration-of-ministry-service/
LOCATION:Online by Zoom link
ORGANIZER;CN="Joyce Payne":MAILTO:riskloveserve@gmail.com
END:VEVENT
BEGIN:VEVENT
DTSTART;TZID=UTC:20201029T180000
DTEND;TZID=UTC:20201101T130000
DTSTAMP:20260422T185653
CREATED:20201002T222607Z
LAST-MODIFIED:20201002T222610Z
UID:5463-1603994400-1604235600@arwrcucc.ca
SUMMARY:Fall Regional Council Meeting
DESCRIPTION:Please Register Online for the week of October 29 – November 1.
URL:https://arwrcucc.ca/event/fall-regional-council-meeting/
LOCATION:Online by Zoom link
ORGANIZER;CN="Joyce Payne":MAILTO:riskloveserve@gmail.com
END:VEVENT
END:VCALENDAR