BEGIN:VCALENDAR
VERSION:2.0
PRODID:-//Antler River Watershed Regional Council - ECPv6.15.20//NONSGML v1.0//EN
CALSCALE:GREGORIAN
METHOD:PUBLISH
X-WR-CALNAME:Antler River Watershed Regional Council
X-ORIGINAL-URL:https://arwrcucc.ca
X-WR-CALDESC:Events for Antler River Watershed Regional Council
REFRESH-INTERVAL;VALUE=DURATION:PT1H
X-Robots-Tag:noindex
X-PUBLISHED-TTL:PT1H
BEGIN:VTIMEZONE
TZID:America/New_York
BEGIN:DAYLIGHT
TZOFFSETFROM:-0500
TZOFFSETTO:-0400
TZNAME:EDT
DTSTART:20230312T070000
END:DAYLIGHT
BEGIN:STANDARD
TZOFFSETFROM:-0400
TZOFFSETTO:-0500
TZNAME:EST
DTSTART:20231105T060000
END:STANDARD
BEGIN:DAYLIGHT
TZOFFSETFROM:-0500
TZOFFSETTO:-0400
TZNAME:EDT
DTSTART:20240310T070000
END:DAYLIGHT
BEGIN:STANDARD
TZOFFSETFROM:-0400
TZOFFSETTO:-0500
TZNAME:EST
DTSTART:20241103T060000
END:STANDARD
BEGIN:DAYLIGHT
TZOFFSETFROM:-0500
TZOFFSETTO:-0400
TZNAME:EDT
DTSTART:20250309T070000
END:DAYLIGHT
BEGIN:STANDARD
TZOFFSETFROM:-0400
TZOFFSETTO:-0500
TZNAME:EST
DTSTART:20251102T060000
END:STANDARD
END:VTIMEZONE
BEGIN:VTIMEZONE
TZID:America/Toronto
BEGIN:DAYLIGHT
TZOFFSETFROM:-0500
TZOFFSETTO:-0400
TZNAME:EDT
DTSTART:20230312T070000
END:DAYLIGHT
BEGIN:STANDARD
TZOFFSETFROM:-0400
TZOFFSETTO:-0500
TZNAME:EST
DTSTART:20231105T060000
END:STANDARD
BEGIN:DAYLIGHT
TZOFFSETFROM:-0500
TZOFFSETTO:-0400
TZNAME:EDT
DTSTART:20240310T070000
END:DAYLIGHT
BEGIN:STANDARD
TZOFFSETFROM:-0400
TZOFFSETTO:-0500
TZNAME:EST
DTSTART:20241103T060000
END:STANDARD
BEGIN:DAYLIGHT
TZOFFSETFROM:-0500
TZOFFSETTO:-0400
TZNAME:EDT
DTSTART:20250309T070000
END:DAYLIGHT
BEGIN:STANDARD
TZOFFSETFROM:-0400
TZOFFSETTO:-0500
TZNAME:EST
DTSTART:20251102T060000
END:STANDARD
END:VTIMEZONE
BEGIN:VEVENT
DTSTART;TZID=America/New_York:20240408T160000
DTEND;TZID=America/New_York:20240408T173000
DTSTAMP:20260419T234008
CREATED:20240228T172359Z
LAST-MODIFIED:20240228T174224Z
UID:13392-1712592000-1712597400@arwrcucc.ca
SUMMARY:Grief and Bereavement Workshop
DESCRIPTION:Mon. March 25th from 4:00pm-5:30pm – 1st Advance Care Planning (end-of-life conversations) Workshop\nMon. April 8th 2024 from 4:00pm-5:30pm – 1st Grief & Bereavement Workshop\nMon. April 22nd 2024 from 4:00pm-5:30pm – 2nd (follow-up) Advance Care Planning Workshop\nMon. May 6th 2024 from 4:00pm-5:30pm – 2nd (follow-up) Grief & Bereavement WorkshopIn conversation with Compassionate Ottawa\n\nFor more details contact Kathy Douglas\, Minister Faith Formation KDouglas@United-Church.ca \nRegistration now open: \nhttps://united-church.zoom.us/meeting/register/tZYof-GppjguGdwdT2xn0g3AZD4oovY_xBmY
URL:https://arwrcucc.ca/event/grief-bereavement-workshop/
LOCATION:Online via Zoom
CATEGORIES:Event,Learning Opportunity,Online Gathering,Social Justice,Speakers
ATTACH;FMTTYPE=image/png:https://arwrcucc.ca/wp-content/uploads/2024/02/April-8-Grief-and-Bereavement-Workshop-United-Churches-of-Canada-1.png
ORGANIZER;CN="Kathy Douglas":MAILTO:kdouglas@united-church.ca
END:VEVENT
BEGIN:VEVENT
DTSTART;TZID=America/Toronto:20240404T093000
DTEND;TZID=America/Toronto:20240404T113000
DTSTAMP:20260419T234008
CREATED:20240402T162501Z
LAST-MODIFIED:20240402T162501Z
UID:13748-1712223000-1712230200@arwrcucc.ca
SUMMARY:Regional Council Staff Meeting
DESCRIPTION:
URL:https://arwrcucc.ca/event/regional-council-staff-meeting-48/
LOCATION:Online via Zoom
CATEGORIES:Event,Meeting
END:VEVENT
BEGIN:VEVENT
DTSTART;TZID=America/New_York:20240403T090000
DTEND;TZID=America/New_York:20240403T110000
DTSTAMP:20260419T234008
CREATED:20240402T162421Z
LAST-MODIFIED:20240402T171042Z
UID:13746-1712134800-1712142000@arwrcucc.ca
SUMMARY:ARW Congregational Support Commission
DESCRIPTION:
URL:https://arwrcucc.ca/event/arw-congregational-support-commission-2/
LOCATION:Ontario
CATEGORIES:Meeting
END:VEVENT
BEGIN:VEVENT
DTSTART;TZID=America/New_York:20240327T160000
DTEND;TZID=America/New_York:20240327T160000
DTSTAMP:20260419T234008
CREATED:20240229T214545Z
LAST-MODIFIED:20240311T191944Z
UID:13444-1711555200-1711555200@arwrcucc.ca
SUMMARY:HF Regional Council Executive Meeting
DESCRIPTION:
URL:https://arwrcucc.ca/event/hf-regional-council-executive-meeting-5/
LOCATION:Ontario
CATEGORIES:Meeting
END:VEVENT
BEGIN:VEVENT
DTSTART;TZID=America/Toronto:20240327T130000
DTEND;TZID=America/Toronto:20240327T130000
DTSTAMP:20260419T234008
CREATED:20240229T214500Z
LAST-MODIFIED:20240229T214500Z
UID:13442-1711544400-1711544400@arwrcucc.ca
SUMMARY:HF Human Resources Commission Meeting
DESCRIPTION:
URL:https://arwrcucc.ca/event/hf-human-resources-commission-meeting-7/
LOCATION:Ontario
CATEGORIES:Meeting,Regional Council
END:VEVENT
BEGIN:VEVENT
DTSTART;TZID=America/New_York:20240326T190000
DTEND;TZID=America/New_York:20240326T190000
DTSTAMP:20260419T234008
CREATED:20240229T214356Z
LAST-MODIFIED:20240229T214356Z
UID:13438-1711479600-1711479600@arwrcucc.ca
SUMMARY:WOW Discipleship and Justice Meeting
DESCRIPTION:
URL:https://arwrcucc.ca/event/wow-discipleship-and-justice-meeting-4/
LOCATION:Ontario
CATEGORIES:Meeting
END:VEVENT
BEGIN:VEVENT
DTSTART;TZID=America/New_York:20240325T160000
DTEND;TZID=America/New_York:20240325T173000
DTSTAMP:20260419T234008
CREATED:20240222T191038Z
LAST-MODIFIED:20240222T191856Z
UID:13263-1711382400-1711387800@arwrcucc.ca
SUMMARY:Advance Care and Planning Workshop - End of Life Conversations
DESCRIPTION:Mon. March 25th from 4:00pm-5:30pm – 1st Advance Care Planning (end-of-life conversations) Workshop\nMon. April 8th 2024 from 4:00pm-5:30pm – 1st Grief & Bereavement Workshop\nMon. April 22nd 2024 from 4:00pm-5:30pm – 2nd (follow-up) Advance Care Planning Workshop\nMon. May 6th 2024 from 4:00pm-5:30pm – 2nd (follow-up) Grief & Bereavement WorkshopIn conversation with Compassionate Ottawa\n\nFor more details contact Kathy Douglas\, Minister Faith Formation KDouglas@United-Church.ca \nRegistration now open: \nhttps://united-church.zoom.us/meeting/register/tZYtcO2spjIvG90XLU8UKGjp0xjR5BUO0IvQ
URL:https://arwrcucc.ca/event/advance-care-and-planning-workshop-end-of-life-conversations/
LOCATION:Online via Zoom
CATEGORIES:Event,Learning Opportunity,Online Gathering,Social Justice,Speakers
ATTACH;FMTTYPE=image/png:https://arwrcucc.ca/wp-content/uploads/2024/02/March-25-Workshop-United-Churches-of-Canada-1.png
END:VEVENT
BEGIN:VEVENT
DTSTART;TZID=America/New_York:20240321T190000
DTEND;TZID=America/New_York:20240321T203000
DTSTAMP:20260419T234008
CREATED:20240305T212535Z
LAST-MODIFIED:20240305T213242Z
UID:13527-1711047600-1711053000@arwrcucc.ca
SUMMARY:HF - Are you vulnerable?
DESCRIPTION:There will be signs (Luke 21:25) \nBefore the pandemic\, many of our communities of faith were beginning to see signs that their finances and volunteer resources were declining.  Now with the impact of the pandemic the signs are everywhere.  Discussions and decisions that were put off as we waited out Covid 19\, are now urgently needed.  These are signs that the way we have always done things is no longer working\, and change is happening\, but there are also signs of hope as we face these challenges together.  What isn’t helpful is simply letting time rob you of the opportunity to explore options and make choices about the future of your congregation and ministry. \nRecognizing the Signs \nIf your community of faith is: \nAnxious about the future of your community of faith? \nIt’s time to explore options \nStruggling to recruit enough volunteers? \nIt’s time to talk about the future. \nExperiencing increasing deficits and declining investments? \nIt’s time to make a plan \nRecognizing signs and making decisions is something we do every day.  Overcast sky; we take an umbrella.  Gas gauge on empty; we head to the gas station.  Toothache; we call the dentist.  We have learned that ignoring the signs can lead to bigger problems later.  And simply hoping we won’t run out of gas\, or the cavity will fix itself is not realistic.  The same is true when congregations see signs that their community of faith has become vulnerable due to a lack of money\, volunteers or both.  While it may be tempting to simply keep going hoping next year will be better\, the reality is that with each passing month there is less time to explore options\, talk about the future and make plans.  And while these may be uncomfortable discussions\, it is even more difficult when a decision is forced upon a community of faith because they have run out of resources and time. \nThere is no denying that acknowledging and responding to the signs is challenging work that takes courage and trust and often leads to change.  But it can be the change you choose rather than the change that will happen if nothing is done. \nHere are some things you need to know and remember: \n1) You are not alone!  God is with us.  We are with one another. \n2) This is not your fault.  This change is the result of social\, demographic\, cultural and other forces beyond the control of any one congregation. \n3) Things will not go back to the way they were. \n4) The problems will not solve themselves. \n5) All of the possible options such as collaboration\, property redevelopment\, amalgamation and disbanding take time to do well.  Waiting until the last moment to make a decision will limit your options. \n6) We are a resurrection people.  We believe that new life will come\, even in the midst of loss. \nYour Congregational Support Commission invites you to make 2024 the year all of our communities of faith ask courageous questions about their situation\, talk to one another\, begin to make plans and choices rather than wait and see\, and ask how together we continue our shared ministries as the United Church of Canada. \nThis year\, \n\nIf your community of faith has an abundance of resources\, ask\, how might we partner with our neighbours so that their ministry continues?\nIf your neighbouring church is closing\, ask how you might pick up some of their ministries so that the good work continues?\nComplete or update your community of faith profile\, and look for signs that it is time to take control and start making plans.\n\nFinances – Signs to Watch For \nHalo Canada conducted a study of approximately 4300 churches in Canada that closed between 2009 and 2018.  Their findings identified several key characteristics of congregations at risk of closing. \nWarning Signs \n\nAn annual deficit for three or more years consecutively\nAnnual expenses running 30% higher than revenue\nCash and long-term investments less than three times the annual deficit\nProperty expenses 30% or more of annual expenses\nStaffing costs greater than 60% of the total expenses.\nTrend of declining income and/or increasing deficit\n\nIf a congregation is experiencing 3 or more of these risk factors\, they are at high risk of closure in the next 3-5 years. \nUse the Financial Viability Worksheet to identify whether these risk factors apply to your community of faith. \nVolunteers – Signs to Watch For \nCommunities of Faith need capable\, willing and available volunteers to carry out the work of being a church.  Members are needed for the governing body\, Board of Trustees and M&P committee and to help organize events\, fundraisers\, and worship.  While it can be useful to have people with experience offer leadership\, it becomes a problem when people feel they cannot “retire” from a position because there is no one available to take over the responsibility.  In some congregations\, a few people are stretched thin trying to ensure everything gets done. \nWarning Signs \n\nVolunteers are being asked to fill more than one position\nVolunteers have held the same position for more than 5 years because there was no one else available\nThe Board of Trustees or M&P Committee do not have the required 3 members\nVolunteers are feeling exhausted\, overwhelmed or resentful\nVery few people are gathering for worship in person or virtually\n\nIf a congregation is experiencing these challenges they are at risk of closure in the near future\, even if they have ample financial resources. \nUse the Demographic Worksheet to identify whether these risk factors apply to your community of faith. \nTaking Charge – Exploring Options \nOnce your community of faith has determined whether they are at risk\, you can now begin to make plans for your future.  Knowing that your resources may be exhausted in a few years\, you can begin to explore options and make choices. \nOptions and Opportunities \n\nReach out to your regional council Congregational Support Minister and the Congregational Support Commission.\nCollaborative Ministry – share resources and ministry personnel with another congregation to reduce expenses\nPurchase complete worship services with recorded sermons to reduce the cost and time required to arrange for pulpit supply each week.\nExplore options to redevelop property or increase rental income\nSell your property and rent space in the community or “nest” with another congregation to share worship and building facilities\nBegin to discuss amalgamation with a neighbour. (a good amalgamation requires time\, at least a year in most cases\, to get to know one another\, create an agreement\, celebrate the past and embrace the future)\nMake plans to disband. To do this well takes time.  Time to celebrate the ministry you have shared\, time to grieve\, time to plan your legacy and time to manage your property and records.\n\n  \nLynne Allin\nMINISTER\, CONGREGATIONAL SUPPORT Horseshoe Falls and Antler River Watershed Regional Councils \n\nYou are Invited to:\nVulnerable Congregations Discussion\nWhile this may feel overwhelming\, remember you are not alone.  The Congregational Support Commission is inviting your Minister\, Chair\, Treasurer and Lay Representative to a discussion session.   Please share this article and the link below.  We look forward to seeing you soon. \nLynne Allin (she/her) is inviting you to a scheduled Zoom meeting. \nTopic: Vulnerable Congregations Discussion \n\nHorseshoe Falls Regional Council March 21st\, 2024\, 7 – 8:30pm   \nhttps://united-church.zoom.us/j/87178139356  Meeting ID: 871 7813 9356 \nJoin by Phone:   1-855-703-8985 Canada Toll-free \n\nAntler River Watershed Regional Council April 17th\, 2024\, 7 – 8:30pm \nhttps://united-church.zoom.us/j/88944207737 Meeting ID: 889 4420 7737 \nJoin by Phone:   1-855-703-8985 Canada Toll-free
URL:https://arwrcucc.ca/event/hf-are-you-vulnerable/
LOCATION:Online via Zoom
CATEGORIES:Community,Event,Learning Opportunity,Meeting,Online Gathering,Regional Council,Staff
ATTACH;FMTTYPE=image/jpeg:https://arwrcucc.ca/wp-content/uploads/2024/03/robert-ruggiero-X2bcQMMhaow-unsplash-scaled.jpg
ORGANIZER;CN="Lynne Allin":MAILTO:LAllin@united-church.ca
END:VEVENT
BEGIN:VEVENT
DTSTART;TZID=America/New_York:20240321T140000
DTEND;TZID=America/New_York:20240321T150000
DTSTAMP:20260419T234008
CREATED:20240226T195715Z
LAST-MODIFIED:20240226T195715Z
UID:13295-1711029600-1711033200@arwrcucc.ca
SUMMARY:WOW Online Clergy Gathering
DESCRIPTION:
URL:https://arwrcucc.ca/event/wow-online-clergy-gathering-4/
LOCATION:Online via Zoom
CATEGORIES:Clergy Gathering,Event,Learning Opportunity,Meeting,Online Gathering
ORGANIZER;CN="Kevin Steeper":MAILTO:mailto:KSteeper@united-church.ca
END:VEVENT
BEGIN:VEVENT
DTSTART;TZID=America/New_York:20240321T140000
DTEND;TZID=America/New_York:20240321T140000
DTSTAMP:20260419T234009
CREATED:20240229T211735Z
LAST-MODIFIED:20240229T211735Z
UID:13436-1711029600-1711029600@arwrcucc.ca
SUMMARY:HF Discipleship and Justice Meeting
DESCRIPTION:
URL:https://arwrcucc.ca/event/hf-discipleship-and-justice-meeting-2/
LOCATION:Ontario
CATEGORIES:Meeting
END:VEVENT
BEGIN:VEVENT
DTSTART;TZID=America/Toronto:20240321T093000
DTEND;TZID=America/Toronto:20240321T113000
DTSTAMP:20260419T234009
CREATED:20240229T210612Z
LAST-MODIFIED:20240229T210612Z
UID:13421-1711013400-1711020600@arwrcucc.ca
SUMMARY:Regional Council Staff Meeting
DESCRIPTION:
URL:https://arwrcucc.ca/event/regional-council-staff-meeting-47/
LOCATION:Online via Zoom
CATEGORIES:Event,Meeting
END:VEVENT
BEGIN:VEVENT
DTSTART;TZID=America/New_York:20240320T093000
DTEND;TZID=America/New_York:20240320T093000
DTSTAMP:20260419T234009
CREATED:20240229T211638Z
LAST-MODIFIED:20240229T211638Z
UID:13434-1710927000-1710927000@arwrcucc.ca
SUMMARY:WOW Regional Council Executive Meeting
DESCRIPTION:
URL:https://arwrcucc.ca/event/wow-regional-council-executive-meeting-6/
LOCATION:Ontario
CATEGORIES:Meeting
END:VEVENT
BEGIN:VEVENT
DTSTART;TZID=America/New_York:20240319T190000
DTEND;TZID=America/New_York:20240319T210000
DTSTAMP:20260419T234009
CREATED:20240205T191517Z
LAST-MODIFIED:20240205T192641Z
UID:13121-1710874800-1710882000@arwrcucc.ca
SUMMARY:'The Basics': Ministry & Personnel Committee Workshops
DESCRIPTION:‘The Basics’: Ministry & Personnel Committee Workshops\nOnline by Zoom\, Spring 2024 dates:\nFebruary 15th 2-4pm\, March 19th 7-9pm\, May 8th 2-4pm and June 25th 7-9pm\nwith Micol Cottrell\, Minister\, Pastoral Relations \n \nOrdered ministers and designated lay ministers while in paid accountable ministry positions are office holders within The United Church of Canada. \nWhile there may be elements similar to employment\, \nthe essential nature of the relationship is a covenant.  \n~ Statement on Ministry in The United Church of Canada (2012) \nNew members are often elected to the vital Ministry & Personnel Committee near the start of the year\, although M&P Committee membership can change for many other reasons throughout the year. \nThe Basics will help a new member learn the essentials of this crucial role. More experienced members of M&P Committees are invited to take this workshop as a refresher with their team\, and keep up with changing United Church practices and policies. This workshop is open to members from Western Ontario Waterways\, Antler River Watershed and Horseshoe Falls Regional Councils! \nPlease Note: each member of your M&P Committee attending this workshop is required to register. \nIn your Confirmation Email\, you will receive the Zoom link and material in preparation for the meeting to make the most of our time together. If you have questions about the content\, please email Micol Cottrell\, Minister\, Pastoral Relations\, at MCottrell@united-church.ca\, or better yet\, write down the questions to bring with you.
URL:https://arwrcucc.ca/event/the-basics-ministry-personnel-committee-workshops-2/
LOCATION:Online via Zoom
CATEGORIES:Event,Meeting,Ministry Personnel,Training
ORGANIZER;CN="Micol Cottrell":MAILTO:MCottrell@united-church.ca
END:VEVENT
BEGIN:VEVENT
DTSTART;TZID=America/New_York:20240319T140000
DTEND;TZID=America/New_York:20240319T150000
DTSTAMP:20260419T234009
CREATED:20240226T195604Z
LAST-MODIFIED:20240226T195904Z
UID:13292-1710856800-1710860400@arwrcucc.ca
SUMMARY:ARW Online Clergy Gathering
DESCRIPTION:
URL:https://arwrcucc.ca/event/arw-online-clergy-gathering-4/
LOCATION:Online via Zoom
CATEGORIES:Clergy Gathering,Event,Learning Opportunity,Meeting,Online Gathering
ATTACH;FMTTYPE=image/png:https://arwrcucc.ca/wp-content/uploads/2024/02/March-2024.png
ORGANIZER;CN="Kevin Steeper":MAILTO:mailto:KSteeper@united-church.ca
END:VEVENT
BEGIN:VEVENT
DTSTART;TZID=America/Toronto:20240319T100000
DTEND;TZID=America/Toronto:20240319T120000
DTSTAMP:20260419T234009
CREATED:20240229T211537Z
LAST-MODIFIED:20240229T211537Z
UID:13432-1710842400-1710849600@arwrcucc.ca
SUMMARY:WOW Human Resources Commission Meeting
DESCRIPTION:
URL:https://arwrcucc.ca/event/wow-human-resources-commission-meeting-8/
LOCATION:Ontario
CATEGORIES:Meeting,Online Gathering,Regional Council
END:VEVENT
BEGIN:VEVENT
DTSTART;TZID=America/New_York:20240314T130000
DTEND;TZID=America/New_York:20240314T130000
DTSTAMP:20260419T234009
CREATED:20240229T211026Z
LAST-MODIFIED:20240229T211450Z
UID:13430-1710421200-1710421200@arwrcucc.ca
SUMMARY:WOW Congregational Support Commission
DESCRIPTION:
URL:https://arwrcucc.ca/event/wow-congregational-support-commission-8/
LOCATION:Ontario
CATEGORIES:Meeting
END:VEVENT
BEGIN:VEVENT
DTSTART;TZID=America/New_York:20240313T100000
DTEND;TZID=America/New_York:20240313T100000
DTSTAMP:20260419T234009
CREATED:20240229T210932Z
LAST-MODIFIED:20240229T210932Z
UID:13428-1710324000-1710324000@arwrcucc.ca
SUMMARY:ARW Regional Council Executive Meeting
DESCRIPTION:
URL:https://arwrcucc.ca/event/arw-regional-council-executive-meeting-6/
LOCATION:Ontario
CATEGORIES:Meeting
END:VEVENT
BEGIN:VEVENT
DTSTART;TZID=America/New_York:20240312T190000
DTEND;TZID=America/New_York:20240312T210000
DTSTAMP:20260419T234009
CREATED:20240220T204013Z
LAST-MODIFIED:20240220T204013Z
UID:13241-1710270000-1710277200@arwrcucc.ca
SUMMARY:Search Team Training
DESCRIPTION:Search Team Training\nTuesday\, March 12\, 7:00 – 9:00 pm\n\n\n\n\n\n\n\n\n\n\n\n\n\n\n\nWhere: Online by ZoomWho: Pastoral Relations Minister\, Micol CottrellWhy: Search Teams are entrusted with a very important task for their community of faith: discerning through conversation and prayer the best applicant for the ongoing journey of the congregation. Search Team Training is required for this process to begin.Links & Contact: Please fill out the registration form here. Dates are scheduled through June 2024. Questions about the training can be sent to Micol Cottrell.
URL:https://arwrcucc.ca/event/search-team-training-3/
LOCATION:Online
CATEGORIES:Meeting
ORGANIZER;CN="Micol Cottrell":MAILTO:MCottrell@united-church.ca
END:VEVENT
BEGIN:VEVENT
DTSTART;TZID=America/New_York:20240312T100000
DTEND;TZID=America/New_York:20240312T100000
DTSTAMP:20260419T234009
CREATED:20240229T210830Z
LAST-MODIFIED:20240229T210830Z
UID:13426-1710237600-1710237600@arwrcucc.ca
SUMMARY:HF Congregational Support Commission
DESCRIPTION:
URL:https://arwrcucc.ca/event/hf-congregational-support-commission-8/
LOCATION:Ontario
CATEGORIES:Meeting
END:VEVENT
BEGIN:VEVENT
DTSTART;TZID=America/Toronto:20240312T090000
DTEND;TZID=America/Toronto:20240312T090000
DTSTAMP:20260419T234009
CREATED:20240229T210734Z
LAST-MODIFIED:20240229T210734Z
UID:13424-1710234000-1710234000@arwrcucc.ca
SUMMARY:ARW Human Resources Commission Meeting
DESCRIPTION:
URL:https://arwrcucc.ca/event/arw-human-resources-commission-meeting-8/
LOCATION:Ontario
CATEGORIES:Meeting,Online Gathering,Regional Council
END:VEVENT
BEGIN:VEVENT
DTSTART;TZID=America/Toronto:20240307T093000
DTEND;TZID=America/Toronto:20240307T113000
DTSTAMP:20260419T234009
CREATED:20240229T210552Z
LAST-MODIFIED:20240229T210552Z
UID:13420-1709803800-1709811000@arwrcucc.ca
SUMMARY:Regional Council Staff Meeting
DESCRIPTION:
URL:https://arwrcucc.ca/event/regional-council-staff-meeting-37/
LOCATION:Online via Zoom
CATEGORIES:Event,Meeting
END:VEVENT
BEGIN:VEVENT
DTSTART;TZID=America/New_York:20240306T120000
DTEND;TZID=America/New_York:20240306T140000
DTSTAMP:20260419T234009
CREATED:20240229T205916Z
LAST-MODIFIED:20240229T205916Z
UID:13418-1709726400-1709733600@arwrcucc.ca
SUMMARY:HF Clergy Luncheon
DESCRIPTION:Horseshoe Falls Clergy Luncheon
URL:https://arwrcucc.ca/event/hf-clergy-luncheon/
LOCATION:Ontario
CATEGORIES:Clergy Gathering,Event,Meeting,Ministry Personnel,Speakers
END:VEVENT
BEGIN:VEVENT
DTSTART;TZID=America/New_York:20240306T120000
DTEND;TZID=America/New_York:20240306T140000
DTSTAMP:20260419T234009
CREATED:20240129T202253Z
LAST-MODIFIED:20240129T202522Z
UID:13035-1709726400-1709733600@arwrcucc.ca
SUMMARY:Horseshoe Falls Clergy Luncheon
DESCRIPTION:Horseshoe Falls Clergy Luncheon \n  \n\nWhen: March 6\, 2024\nTime: 12-2 pm\nWhere: Emmanuel United Church\n\n871 Upper Ottawa St.\, Hamilton \n\nGuest speaker: The Rev. Greg Smith-Young\n(Growth Animator for the tri-regional area)
URL:https://arwrcucc.ca/event/horseshoe-falls-clergy-luncheon/
LOCATION:Ontario
CATEGORIES:Community,Event,Ministry Personnel
ATTACH;FMTTYPE=image/png:https://arwrcucc.ca/wp-content/uploads/2024/01/HFLUNCH2024.png
END:VEVENT
BEGIN:VEVENT
DTSTART;TZID=America/New_York:20240306T090000
DTEND;TZID=America/New_York:20240306T090000
DTSTAMP:20260419T234009
CREATED:20240229T205653Z
LAST-MODIFIED:20240229T205653Z
UID:13416-1709715600-1709715600@arwrcucc.ca
SUMMARY:ARW Congregational Support Commission
DESCRIPTION:
URL:https://arwrcucc.ca/event/arw-congregational-support-commission/
LOCATION:Ontario
CATEGORIES:Meeting
END:VEVENT
BEGIN:VEVENT
DTSTART;TZID=America/Toronto:20240305T100000
DTEND;TZID=America/Toronto:20240305T100000
DTSTAMP:20260419T234009
CREATED:20240229T204700Z
LAST-MODIFIED:20240229T204700Z
UID:13414-1709632800-1709632800@arwrcucc.ca
SUMMARY:ARW Discipleship & Justice Meeting
DESCRIPTION:
URL:https://arwrcucc.ca/event/arw-discipleship-justice-meeting-11/
LOCATION:Online via Zoom
CATEGORIES:Meeting
END:VEVENT
BEGIN:VEVENT
DTSTART;TZID=America/New_York:20240304T184500
DTEND;TZID=America/New_York:20240304T200000
DTSTAMP:20260419T234009
CREATED:20240201T201227Z
LAST-MODIFIED:20240201T201430Z
UID:13081-1709577900-1709582400@arwrcucc.ca
SUMMARY:Music Ministry Gathering
DESCRIPTION:
URL:https://arwrcucc.ca/event/music-ministry-gathering/
LOCATION:Online via Zoom
CATEGORIES:Community,Event,Learning Opportunity,Meeting,Ministry Personnel,Music,Online Gathering,Regional Council,Speakers
ATTACH;FMTTYPE=image/jpeg:https://arwrcucc.ca/wp-content/uploads/2024/02/Music-Ministry-Gathering-March-2024-Music-Ministry-Survey-Results.jpg
END:VEVENT
BEGIN:VEVENT
DTSTART;TZID=America/New_York:20240228T160000
DTEND;TZID=America/New_York:20240228T160000
DTSTAMP:20260419T234009
CREATED:20240117T210618Z
LAST-MODIFIED:20240117T210618Z
UID:12745-1709136000-1709136000@arwrcucc.ca
SUMMARY:HF Regional Council Executive Meeting
DESCRIPTION:
URL:https://arwrcucc.ca/event/hf-regional-council-executive-meeting-4/
LOCATION:Ontario
CATEGORIES:Meeting
END:VEVENT
BEGIN:VEVENT
DTSTART;TZID=America/Toronto:20240228T130000
DTEND;TZID=America/Toronto:20240228T130000
DTSTAMP:20260419T234009
CREATED:20240117T210505Z
LAST-MODIFIED:20240117T210505Z
UID:12743-1709125200-1709125200@arwrcucc.ca
SUMMARY:HF Human Resources Commission Meeting
DESCRIPTION:
URL:https://arwrcucc.ca/event/hf-human-resources-commission-meeting-6/
LOCATION:Ontario
CATEGORIES:Meeting,Regional Council
END:VEVENT
BEGIN:VEVENT
DTSTART;TZID=America/New_York:20240228T120000
DTEND;TZID=America/New_York:20240228T140000
DTSTAMP:20260419T234009
CREATED:20240110T200150Z
LAST-MODIFIED:20240125T193354Z
UID:12525-1709121600-1709128800@arwrcucc.ca
SUMMARY:ARW Clergy Luncheon
DESCRIPTION:Register Now\n\n\n  \nIn an effort to continue to build our relationships with one another you are invited to gather with colleagues in ministry from across the Regional Council for a time of fellowship and conversation. Come as we gather around the table to share and break bread together. Watch for more details to come! \nLuncheon speakers include Cheryl-Ann Stadelbauer-Sampa – “Leadership in a time of transition” and Greg Smith-Young – Regional Growth Animator \n\n\nThe Rev. Kevin Steeper \n\nMinister\, Pastoral Support\n\nContact: Kevin Steeper KSteeper@united-church.ca
URL:https://arwrcucc.ca/event/arw-clergy-luncheon-2/
LOCATION:Ontario
CATEGORIES:Clergy Gathering,Community,Event,Meeting,Ministry Personnel
ATTACH;FMTTYPE=image/png:https://arwrcucc.ca/wp-content/uploads/2024/01/ARWLUNCH2024v2.png
ORGANIZER;CN="Kevin Steeper":MAILTO:mailto:KSteeper@united-church.ca
END:VEVENT
BEGIN:VEVENT
DTSTART;TZID=America/Toronto:20240222T093000
DTEND;TZID=America/Toronto:20240222T113000
DTSTAMP:20260419T234009
CREATED:20231116T193533Z
LAST-MODIFIED:20240109T201448Z
UID:11319-1708594200-1708601400@arwrcucc.ca
SUMMARY:Regional Council Staff Meeting
DESCRIPTION:
URL:https://arwrcucc.ca/event/regional-council-staff-meeting-46/
LOCATION:Online via Zoom
CATEGORIES:Event,Meeting
END:VEVENT
END:VCALENDAR