BEGIN:VCALENDAR
VERSION:2.0
PRODID:-//Antler River Watershed Regional Council - ECPv6.15.20//NONSGML v1.0//EN
CALSCALE:GREGORIAN
METHOD:PUBLISH
X-ORIGINAL-URL:https://arwrcucc.ca
X-WR-CALDESC:Events for Antler River Watershed Regional Council
REFRESH-INTERVAL;VALUE=DURATION:PT1H
X-Robots-Tag:noindex
X-PUBLISHED-TTL:PT1H
BEGIN:VTIMEZONE
TZID:America/Toronto
BEGIN:DAYLIGHT
TZOFFSETFROM:-0500
TZOFFSETTO:-0400
TZNAME:EDT
DTSTART:20240310T070000
END:DAYLIGHT
BEGIN:STANDARD
TZOFFSETFROM:-0400
TZOFFSETTO:-0500
TZNAME:EST
DTSTART:20241103T060000
END:STANDARD
BEGIN:DAYLIGHT
TZOFFSETFROM:-0500
TZOFFSETTO:-0400
TZNAME:EDT
DTSTART:20250309T070000
END:DAYLIGHT
BEGIN:STANDARD
TZOFFSETFROM:-0400
TZOFFSETTO:-0500
TZNAME:EST
DTSTART:20251102T060000
END:STANDARD
BEGIN:DAYLIGHT
TZOFFSETFROM:-0500
TZOFFSETTO:-0400
TZNAME:EDT
DTSTART:20260308T070000
END:DAYLIGHT
BEGIN:STANDARD
TZOFFSETFROM:-0400
TZOFFSETTO:-0500
TZNAME:EST
DTSTART:20261101T060000
END:STANDARD
BEGIN:DAYLIGHT
TZOFFSETFROM:-0500
TZOFFSETTO:-0400
TZNAME:EDT
DTSTART:20270314T070000
END:DAYLIGHT
BEGIN:STANDARD
TZOFFSETFROM:-0400
TZOFFSETTO:-0500
TZNAME:EST
DTSTART:20271107T060000
END:STANDARD
END:VTIMEZONE
BEGIN:VTIMEZONE
TZID:America/New_York
BEGIN:DAYLIGHT
TZOFFSETFROM:-0500
TZOFFSETTO:-0400
TZNAME:EDT
DTSTART:20240310T070000
END:DAYLIGHT
BEGIN:STANDARD
TZOFFSETFROM:-0400
TZOFFSETTO:-0500
TZNAME:EST
DTSTART:20241103T060000
END:STANDARD
BEGIN:DAYLIGHT
TZOFFSETFROM:-0500
TZOFFSETTO:-0400
TZNAME:EDT
DTSTART:20250309T070000
END:DAYLIGHT
BEGIN:STANDARD
TZOFFSETFROM:-0400
TZOFFSETTO:-0500
TZNAME:EST
DTSTART:20251102T060000
END:STANDARD
BEGIN:DAYLIGHT
TZOFFSETFROM:-0500
TZOFFSETTO:-0400
TZNAME:EDT
DTSTART:20260308T070000
END:DAYLIGHT
BEGIN:STANDARD
TZOFFSETFROM:-0400
TZOFFSETTO:-0500
TZNAME:EST
DTSTART:20261101T060000
END:STANDARD
END:VTIMEZONE
BEGIN:VEVENT
DTSTART;VALUE=DATE:20251107
DTEND;VALUE=DATE:20251109
DTSTAMP:20260419T233456
CREATED:20250617T200601Z
LAST-MODIFIED:20250627T191148Z
UID:31221-1762473600-1762646399@arwrcucc.ca
SUMMARY:WOWRC Fall Meeting 2025 (Online only)
DESCRIPTION:
URL:https://arwrcucc.ca/event/wowrc-fall-meeting-2025-online-only/
LOCATION:Online by Zoom link
CATEGORIES:Community,Event,Learning Opportunity,Meeting,Online Gathering,Regional Council
END:VEVENT
BEGIN:VEVENT
DTSTART;VALUE=DATE:20251111
DTEND;VALUE=DATE:20251112
DTSTAMP:20260419T233456
CREATED:20251103T211527Z
LAST-MODIFIED:20251103T211527Z
UID:32887-1762819200-1762905599@arwrcucc.ca
SUMMARY:Remembrance Day
DESCRIPTION:
URL:https://arwrcucc.ca/event/remembrance-day-4/
LOCATION:Ontario
CATEGORIES:Social Justice
END:VEVENT
BEGIN:VEVENT
DTSTART;TZID=America/New_York:20251111T190000
DTEND;TZID=America/New_York:20251111T210000
DTSTAMP:20260419T233456
CREATED:20250829T173106Z
LAST-MODIFIED:20250829T173106Z
UID:31507-1762887600-1762894800@arwrcucc.ca
SUMMARY:Search Team Training
DESCRIPTION:Search Team Training\nHas your church begun searching for a new minister? Has a search team been formed? If so\, they will need to be trained. Training can happen in two ways:\n\nWith your liaison\nOnline with Micol Cottrell\, Pastoral Relations Minister (if you have a liaison\, please invite your liaison to attend with you)\n\nTraining is mandatory for all search teams.\nThe online training is two hours and during this time we explore:\n\nThe search process\nWorking to understand and overcome the impact of bias\nThe various types of ministry personnel you will find on ChurchHub\nWhere to find resources for using ChurchHub\nAnd more.\n\nIf you are interested in taking the training online please register at Search Team Training – Formstack.\n\n\n\nThe dates for the fall are the second Tuesday of each month: \n\n\nSeptember 9th\, 2025 at 7pm\nOctober 14th\, 2025 at 7pm\nNovember 11th\, 2025 at 7pm\nDecember 9th\, 2025 at 7pm\nJanuary 13th\, 2026 at 7pm
URL:https://arwrcucc.ca/event/search-team-training-9/
LOCATION:Online
CATEGORIES:Meeting
ORGANIZER;CN="Micol Cottrell":MAILTO:MCottrell@united-church.ca
END:VEVENT
BEGIN:VEVENT
DTSTART;TZID=America/New_York:20251112T100000
DTEND;TZID=America/New_York:20251112T120000
DTSTAMP:20260419T233456
CREATED:20251103T211622Z
LAST-MODIFIED:20251103T211622Z
UID:32889-1762941600-1762948800@arwrcucc.ca
SUMMARY:ARW Regional Council Executive Meeting
DESCRIPTION:
URL:https://arwrcucc.ca/event/arw-regional-council-executive-meeting-18/
LOCATION:Ontario
CATEGORIES:Meeting
END:VEVENT
BEGIN:VEVENT
DTSTART;TZID=America/Toronto:20251113T093000
DTEND;TZID=America/Toronto:20251113T113000
DTSTAMP:20260419T233456
CREATED:20251103T211706Z
LAST-MODIFIED:20251103T211706Z
UID:32891-1763026200-1763033400@arwrcucc.ca
SUMMARY:Regional Council Staff Meeting
DESCRIPTION:
URL:https://arwrcucc.ca/event/regional-council-staff-meeting-82/
LOCATION:Online via Zoom
CATEGORIES:Event,Meeting
END:VEVENT
BEGIN:VEVENT
DTSTART;TZID=America/New_York:20251113T130000
DTEND;TZID=America/New_York:20251113T130000
DTSTAMP:20260419T233456
CREATED:20251103T211908Z
LAST-MODIFIED:20251103T211908Z
UID:32895-1763038800-1763038800@arwrcucc.ca
SUMMARY:WOW Congregational Support Commission
DESCRIPTION:
URL:https://arwrcucc.ca/event/wow-congregational-support-commission-20/
LOCATION:Ontario
CATEGORIES:Meeting
END:VEVENT
BEGIN:VEVENT
DTSTART;TZID=America/Toronto:20251118T100000
DTEND;TZID=America/Toronto:20251118T120000
DTSTAMP:20260419T233456
CREATED:20251103T212316Z
LAST-MODIFIED:20251103T212316Z
UID:32897-1763460000-1763467200@arwrcucc.ca
SUMMARY:WOW Pastoral Relations Commission Meeting
DESCRIPTION:
URL:https://arwrcucc.ca/event/wow-pastoral-relations-commission-meeting-8/
LOCATION:Ontario
CATEGORIES:Meeting,Online Gathering,Regional Council
END:VEVENT
BEGIN:VEVENT
DTSTART;TZID=America/New_York:20251119T093000
DTEND;TZID=America/New_York:20251119T113000
DTSTAMP:20260419T233456
CREATED:20251103T212403Z
LAST-MODIFIED:20251103T212403Z
UID:32899-1763544600-1763551800@arwrcucc.ca
SUMMARY:WOW Regional Council Executive Meeting
DESCRIPTION:
URL:https://arwrcucc.ca/event/wow-regional-council-executive-meeting-20/
LOCATION:Ontario
CATEGORIES:Meeting
END:VEVENT
BEGIN:VEVENT
DTSTART;TZID=America/New_York:20251217T093000
DTEND;TZID=America/New_York:20251217T093000
DTSTAMP:20260419T233456
CREATED:20251203T223845Z
LAST-MODIFIED:20251203T223845Z
UID:33451-1765963800-1765963800@arwrcucc.ca
SUMMARY:WOW Regional Council Executive Meeting
DESCRIPTION:
URL:https://arwrcucc.ca/event/wow-regional-council-executive-meeting-21/
LOCATION:Ontario
CATEGORIES:Meeting
END:VEVENT
BEGIN:VEVENT
DTSTART;TZID=America/New_York:20251120T183000
DTEND;TZID=America/New_York:20251120T183000
DTSTAMP:20260419T233456
CREATED:20251103T212502Z
LAST-MODIFIED:20251103T212502Z
UID:32901-1763663400-1763663400@arwrcucc.ca
SUMMARY:HF Discipleship and Justice Meeting
DESCRIPTION:
URL:https://arwrcucc.ca/event/hf-discipleship-and-justice-meeting-8/
LOCATION:Ontario
CATEGORIES:Meeting
END:VEVENT
BEGIN:VEVENT
DTSTART;VALUE=DATE:20251121
DTEND;VALUE=DATE:20251123
DTSTAMP:20260419T233456
CREATED:20250617T200459Z
LAST-MODIFIED:20250617T200459Z
UID:31219-1763683200-1763855999@arwrcucc.ca
SUMMARY:HFRC Fall Meeting 2025 (Online only)
DESCRIPTION:
URL:https://arwrcucc.ca/event/hfrc-fall-meeting-2025-online-only/
LOCATION:Online by Zoom link
CATEGORIES:Community,Event,Learning Opportunity,Meeting,Online Gathering,Regional Council
END:VEVENT
BEGIN:VEVENT
DTSTART;TZID=America/Toronto:20251125T130000
DTEND;TZID=America/Toronto:20251125T143000
DTSTAMP:20260419T233456
CREATED:20251114T184922Z
LAST-MODIFIED:20251114T184922Z
UID:33138-1764075600-1764081000@arwrcucc.ca
SUMMARY:Tri-Regional Affirming Network Gathering
DESCRIPTION:Tri-Regional Affirming Ministries Network – Upcoming Gathering Nov. 25 \nJoin us for an online Zoom Gathering on Nov. 25 at 1 pm for conversations about what the Tri-Regional Affirming Ministries Network is all about: \nWho Are We And What Do We Do? \nTuesday\, Nov. 25 at 1pm (allow up to 90 minutes) \nAffirming churches\, affirming churches “in process”\, affirming leaders\, affirming-curious churches\, and any other interested parties are welcome to attend. \nFor a link to the meeting\, please contact John Egger\, Minister\, Social Justice at JEgger@united-church.ca
URL:https://arwrcucc.ca/event/tri-regional-affirming-network-gathering/
LOCATION:Online via Zoom
CATEGORIES:2SLGBTQIA,Affirming,Community,Event,Learning Opportunity,Online Gathering
ATTACH;FMTTYPE=image/png:https://arwrcucc.ca/wp-content/uploads/2021/07/Affirm-United-symbol-colour-1.png
ORGANIZER;CN="John Egger":MAILTO:JEgger@united-church.ca
END:VEVENT
BEGIN:VEVENT
DTSTART;TZID=America/New_York:20251125T190000
DTEND;TZID=America/New_York:20251125T190000
DTSTAMP:20260419T233456
CREATED:20251103T212547Z
LAST-MODIFIED:20251103T212547Z
UID:32903-1764097200-1764097200@arwrcucc.ca
SUMMARY:WOW Discipleship and Justice Meeting
DESCRIPTION:
URL:https://arwrcucc.ca/event/wow-discipleship-and-justice-meeting-12/
LOCATION:Ontario
CATEGORIES:Meeting
END:VEVENT
BEGIN:VEVENT
DTSTART;TZID=America/Toronto:20251126T130000
DTEND;TZID=America/Toronto:20251126T130000
DTSTAMP:20260419T233456
CREATED:20251103T212631Z
LAST-MODIFIED:20251103T212631Z
UID:32905-1764162000-1764162000@arwrcucc.ca
SUMMARY:HF Human Resources Commission Meeting
DESCRIPTION:
URL:https://arwrcucc.ca/event/hf-human-resources-commission-meeting-23/
LOCATION:Ontario
CATEGORIES:Meeting,Regional Council
END:VEVENT
BEGIN:VEVENT
DTSTART;TZID=America/New_York:20251126T160000
DTEND;TZID=America/New_York:20251126T160000
DTSTAMP:20260419T233456
CREATED:20251103T212709Z
LAST-MODIFIED:20251103T212709Z
UID:32907-1764172800-1764172800@arwrcucc.ca
SUMMARY:HF Regional Council Executive Meeting
DESCRIPTION:
URL:https://arwrcucc.ca/event/hf-regional-council-executive-meeting-17/
LOCATION:Ontario
CATEGORIES:Meeting
END:VEVENT
BEGIN:VEVENT
DTSTART;TZID=America/Toronto:20251127T093000
DTEND;TZID=America/Toronto:20251127T113000
DTSTAMP:20260419T233456
CREATED:20251103T211738Z
LAST-MODIFIED:20251103T211738Z
UID:32893-1764235800-1764243000@arwrcucc.ca
SUMMARY:Regional Council Staff Meeting
DESCRIPTION:
URL:https://arwrcucc.ca/event/regional-council-staff-meeting-83/
LOCATION:Online via Zoom
CATEGORIES:Event,Meeting
END:VEVENT
BEGIN:VEVENT
DTSTART;TZID=America/New_York:20251203T090000
DTEND;TZID=America/New_York:20251203T110000
DTSTAMP:20260419T233456
CREATED:20251203T222425Z
LAST-MODIFIED:20251203T222425Z
UID:33441-1764752400-1764759600@arwrcucc.ca
SUMMARY:ARW Congregational Support Commission
DESCRIPTION:
URL:https://arwrcucc.ca/event/arw-congregational-support-commission-21/
LOCATION:Ontario
CATEGORIES:Meeting
END:VEVENT
BEGIN:VEVENT
DTSTART;TZID=America/Toronto:20251204T100000
DTEND;TZID=America/Toronto:20251204T110000
DTSTAMP:20260419T233456
CREATED:20251107T195441Z
LAST-MODIFIED:20251107T201238Z
UID:33031-1764842400-1764846000@arwrcucc.ca
SUMMARY:ARWRC Zoom Clergy Gathering
DESCRIPTION:CLERGY ZOOM GATHERING \n“HOLDING SPACE FOR YOURSELF: \nCLERGY SELF-CARE DURING ADVENT & CHRISTMAS” \nThe Advent and Christmas season invites us to proclaim joy and hope — yet for many in ministry\, it is also the most demanding time of year. As clergy\, we pour our hearts into creating meaningful worship\, caring for others\, and sustaining community life. \nLaurie Stevenson\, Minister of Pastoral Support\, invites you to join her as she offers you gentle reminders and practical tools to nurture your own spirit through the busy season\, so that you can serve with renewed energy\, health\, and joy. \nZoom gatherings will be held for each Regional Council\, however\, if the time of another RC gathering works best for you feel free to join in! \nANTLER RIVER: Thursday\, December 4\, 10am-11am \nHORSESHOE FALLS: Thursday\, December 4\, 1pm- 2pm \nWESTERN ONTARIO WATERWAYS: Friday\, December 5\, 10am-11am \nRegister Now: CLERGY ZOOM GATHERING – Fill out form
URL:https://arwrcucc.ca/event/arwrc-zoom-clergy-gathering/
LOCATION:Online via Zoom
CATEGORIES:Clergy Gathering,Event,Online Gathering
ATTACH;FMTTYPE=image/png:https://arwrcucc.ca/wp-content/uploads/2025/11/CLERGY-ZOOM-GATHERING-HOLDING-SPACE-FOR-YOURSELF-CLERGY-SELF-CARE-DURING-ADVENT-CHRISTMASv2.png
END:VEVENT
BEGIN:VEVENT
DTSTART;TZID=America/New_York:20251204T183000
DTEND;TZID=America/New_York:20251204T183000
DTSTAMP:20260419T233456
CREATED:20251203T222518Z
LAST-MODIFIED:20251203T222518Z
UID:33443-1764873000-1764873000@arwrcucc.ca
SUMMARY:HF Discipleship and Justice Meeting
DESCRIPTION:
URL:https://arwrcucc.ca/event/hf-discipleship-and-justice-meeting-9/
LOCATION:Ontario
CATEGORIES:Meeting
END:VEVENT
BEGIN:VEVENT
DTSTART;TZID=America/Toronto:20251209T090000
DTEND;TZID=America/Toronto:20251209T090000
DTSTAMP:20260419T233456
CREATED:20251203T223434Z
LAST-MODIFIED:20251203T223434Z
UID:33445-1765270800-1765270800@arwrcucc.ca
SUMMARY:ARW Pastoral Relations Commission Meeting
DESCRIPTION:
URL:https://arwrcucc.ca/event/arw-pastoral-relations-commission-meeting-9/
LOCATION:Ontario
CATEGORIES:Meeting,Online Gathering,Regional Council
END:VEVENT
BEGIN:VEVENT
DTSTART;TZID=America/Toronto:20251209T100000
DTEND;TZID=America/Toronto:20251209T100000
DTSTAMP:20260419T233456
CREATED:20251203T223553Z
LAST-MODIFIED:20251203T224704Z
UID:33447-1765274400-1765274400@arwrcucc.ca
SUMMARY:ARW Discipleship & Justice Meeting
DESCRIPTION:
URL:https://arwrcucc.ca/event/arw-discipleship-justice-meeting-22/
LOCATION:Online via Zoom
CATEGORIES:Meeting
END:VEVENT
BEGIN:VEVENT
DTSTART;TZID=America/New_York:20251209T190000
DTEND;TZID=America/New_York:20251209T190000
DTSTAMP:20260419T233456
CREATED:20251203T223703Z
LAST-MODIFIED:20251203T224730Z
UID:33449-1765306800-1765306800@arwrcucc.ca
SUMMARY:HF Congregational Support Commission
DESCRIPTION:
URL:https://arwrcucc.ca/event/hf-congregational-support-commission-27/
LOCATION:Ontario
CATEGORIES:Meeting
END:VEVENT
BEGIN:VEVENT
DTSTART;TZID=America/New_York:20251209T190000
DTEND;TZID=America/New_York:20251209T210000
DTSTAMP:20260419T233456
CREATED:20250829T173139Z
LAST-MODIFIED:20250829T173139Z
UID:31509-1765306800-1765314000@arwrcucc.ca
SUMMARY:Search Team Training
DESCRIPTION:Search Team Training\nHas your church begun searching for a new minister? Has a search team been formed? If so\, they will need to be trained. Training can happen in two ways:\n\nWith your liaison\nOnline with Micol Cottrell\, Pastoral Relations Minister (if you have a liaison\, please invite your liaison to attend with you)\n\nTraining is mandatory for all search teams.\nThe online training is two hours and during this time we explore:\n\nThe search process\nWorking to understand and overcome the impact of bias\nThe various types of ministry personnel you will find on ChurchHub\nWhere to find resources for using ChurchHub\nAnd more.\n\nIf you are interested in taking the training online please register at Search Team Training – Formstack.\n\n\n\nThe dates for the fall are the second Tuesday of each month: \n\n\nSeptember 9th\, 2025 at 7pm\nOctober 14th\, 2025 at 7pm\nNovember 11th\, 2025 at 7pm\nDecember 9th\, 2025 at 7pm\nJanuary 13th\, 2026 at 7pm
URL:https://arwrcucc.ca/event/search-team-training-10/
LOCATION:Online
CATEGORIES:Meeting
ORGANIZER;CN="Micol Cottrell":MAILTO:MCottrell@united-church.ca
END:VEVENT
BEGIN:VEVENT
DTSTART;TZID=America/New_York:20251210T100000
DTEND;TZID=America/New_York:20251210T120000
DTSTAMP:20260419T233456
CREATED:20251203T223949Z
LAST-MODIFIED:20251203T223949Z
UID:33453-1765360800-1765368000@arwrcucc.ca
SUMMARY:ARW Regional Council Executive Meeting
DESCRIPTION:
URL:https://arwrcucc.ca/event/arw-regional-council-executive-meeting-19/
LOCATION:Ontario
CATEGORIES:Meeting
END:VEVENT
BEGIN:VEVENT
DTSTART;TZID=America/Toronto:20251211T093000
DTEND;TZID=America/Toronto:20251211T113000
DTSTAMP:20260419T233456
CREATED:20251203T224119Z
LAST-MODIFIED:20251203T224119Z
UID:33455-1765445400-1765452600@arwrcucc.ca
SUMMARY:Regional Council Staff Meeting
DESCRIPTION:
URL:https://arwrcucc.ca/event/regional-council-staff-meeting-84/
LOCATION:Online via Zoom
CATEGORIES:Event,Meeting
END:VEVENT
BEGIN:VEVENT
DTSTART;TZID=America/Toronto:20251211T100000
DTEND;TZID=America/Toronto:20251211T111500
DTSTAMP:20260419T233456
CREATED:20251128T204643Z
LAST-MODIFIED:20251128T204643Z
UID:33385-1765447200-1765451700@arwrcucc.ca
SUMMARY:Pastoral Care Team Support during the Holidays
DESCRIPTION:
URL:https://arwrcucc.ca/event/pastoral-care-team-support-during-the-holidays/
LOCATION:Online by Zoom link
CATEGORIES:Event
ATTACH;FMTTYPE=image/jpeg:https://arwrcucc.ca/wp-content/uploads/2025/11/Pastoral-Care-Team-Support-During-the-Holidays.jpg
ORGANIZER;CN="Kathy Douglas":MAILTO:kdouglas@united-church.ca
END:VEVENT
BEGIN:VEVENT
DTSTART;TZID=America/New_York:20251211T130000
DTEND;TZID=America/New_York:20251211T130000
DTSTAMP:20260419T233456
CREATED:20251203T224315Z
LAST-MODIFIED:20251203T224315Z
UID:33458-1765458000-1765458000@arwrcucc.ca
SUMMARY:WOW Congregational Support Commission
DESCRIPTION:
URL:https://arwrcucc.ca/event/wow-congregational-support-commission-21/
LOCATION:Ontario
CATEGORIES:Meeting
END:VEVENT
BEGIN:VEVENT
DTSTART;TZID=America/Toronto:20251217T130000
DTEND;TZID=America/Toronto:20251217T130000
DTSTAMP:20260419T233456
CREATED:20251203T224411Z
LAST-MODIFIED:20251203T224411Z
UID:33461-1765976400-1765976400@arwrcucc.ca
SUMMARY:National Congregational Support Meeting
DESCRIPTION:
URL:https://arwrcucc.ca/event/national-congregational-support-meeting/
LOCATION:Ontario
END:VEVENT
BEGIN:VEVENT
DTSTART;VALUE=DATE:20251224
DTEND;VALUE=DATE:20260102
DTSTAMP:20260419T233456
CREATED:20251128T205423Z
LAST-MODIFIED:20251128T205423Z
UID:33388-1766534400-1767311999@arwrcucc.ca
SUMMARY:Regional Council Office Closure
DESCRIPTION:
URL:https://arwrcucc.ca/event/regional-council-office-closure/
LOCATION:Ontario
END:VEVENT
BEGIN:VEVENT
DTSTART;TZID=America/Toronto:20260108T150000
DTEND;TZID=America/Toronto:20260108T163000
DTSTAMP:20260419T233456
CREATED:20251103T230157Z
LAST-MODIFIED:20251103T230157Z
UID:32921-1767884400-1767889800@arwrcucc.ca
SUMMARY:Ministry and Personnel Gatherings
DESCRIPTION:Ministry & Personnel GatheringsA time for collegiality\, learning\, and conversation about issues facing M&P committees. \nParticipants must have completed M&P: The Basics on Zoom or through the recorded training. \nParticipants are required to agree with the confidentiality and group norms agreement as found below. \nSituations discussed will only be talked about by broad themes without reference to individuals. \nThursday November 6th\, 2025 3-4:30\nThursday January 8th\, 2026 3-4:30\nThursday March 5th\, 2026 3-4:30\nThursday May 7th\, 2026 3-4:30 \nWorship\, 30 minutes learning time\, 30 minutes of conversation\, Question and Answers\, etc. ending with a time to make suggestions for future learning.\n\n\n\n\n\n\n\n\n\n\n\n\n\n\nSign Up Now for M&P Gatherings
URL:https://arwrcucc.ca/event/ministry-and-personnel-gatherings-2/
LOCATION:Online via Zoom
CATEGORIES:Online Gathering
END:VEVENT
END:VCALENDAR